BEGIN:VCALENDAR
VERSION:2.0
PRODID:-//https://fadeu-old.urantiacos.cl///NONSGML kigkonsult.se iCalcreator 2.10.15//
METHOD:PUBLISH
BEGIN:VEVENT
UID:20260419T203749UTC-624447oEVn@https://fadeu-old.urantiacos.cl/
DTSTAMP:20260419T203749Z
DESCRIPTION:Profesores y estudiantes del curso &ldquo\;Co-producci&oacute\;
 n: Perspectivas e investigaci&oacute\;n en proyectos urbanos&rdquo\; invit
 an a una mesa redonda a diversos actores que participan en la producci&oac
 ute\;n del espacio urbano\, tales como acad&eacute\;micos\, agentes gubern
 amentales\, privados y activistas vinculados a organizaciones vecinales\, 
 con el fin de entender en qu&eacute\; consisten los procesos de co-producc
 i&oacute\;n en Santiago.\n&nbsp\;\nEl conversatorio busca comprender el es
 tado de las agendas comunitarias en el desarrollo urbano\, as&iacute\; com
 o tambi&eacute\;n indagar y explorar sobre la articulaci&oacute\;n espacia
 l generada a partir de la interacci&oacute\;n de los diferentes actores in
 volucrados. Se discutir&aacute\;n una serie de casos nacionales\, los cual
 es han sido identificados como ejemplos relevantes\, en raz&oacute\;n de s
 us particularidades socio &ndash\; espaciales.\nEstos ejemplos han sido se
 leccionados tambi&eacute\;n de acuerdo a los resultados observados a parti
 r de la investigaci&oacute\;n DFG_KOPRO Int para la Deutsche Forschungsgem
 einschaft\, cuyo objetivo es investigar pr&aacute\;cticas cooperativas urb
 ana en el contexto internacional y en particular en Alemania y Chile. El l
 evantamiento de datos consisti&oacute\; en una serie de entrevistas realiz
 adas\, bajo los lineamientos del m&eacute\;todo Delphi que busca obtener c
 onsensos y disensos\, a partir de las percepciones de los informantes y la
  evidencia recopilada en la revisi&oacute\;n bibliogr&aacute\;fica. La sel
 ecci&oacute\;n de entrevistados consider&oacute\; a informantes de los cam
 pos de arquitectura\, planificaci&oacute\;n urbana\, agentes estatales\, g
 obiernos locales\, stakeholders de fundaciones\, ONG&rsquo\;s\, entre otro
 s.\nLas presentes actividades (mesa redonda y curso) se enmarca en la ejec
 uci&oacute\;n de actividades contempladas para la consecuci&oacute\;n de l
 os objetivos de este estudio. En este marco\, el principal objetivo del cu
 rso apunta a crear un levantamiento critico de informaci&oacute\;n\, a par
 tir de la representaci&oacute\;n gr&aacute\;fica de espacios co-producidos
  en Santiago. Asimismo\, se espera identificar\, categorizar y contextuali
 zar las diversas formas cooperativas urbanas con el fin de reflexionar en 
 torno a las particularidades de la co-producci&oacute\;n\, su dimensi&oacu
 te\;n material y sus efectos socio-espaciales.\n*El conversatorio es organ
 izado por los profesores&nbsp\;Horacio Torrent Schneider y Paola Alfaro d&
 rsquo\;Alen&ccedil\;on\, y constituye una colaboraci&oacute\;n entre la Po
 ntificia Universidad Cat&oacute\;lica de Chile y la Technische Universit&a
 uml\;t Berlin para el proyecto de investigaci&oacute\;n DFG-KOPRO Int. de 
 la Deutsche Forschungsgemeinschaft (DFG).\n&nbsp\;\nMesa redonda_\n&nbsp\;
 \n&nbsp\;\nIntroducci&oacute\;n_\n&nbsp\;\n&nbsp\;\nPaola Alfaro | Investi
 gadora principal\, projecto: DFG-KOPRO Int.\n&nbsp\;\nModerador_\n&nbsp\;
 \nHoracio Torrent | Profesor titular de la Escuela de Arquitectura UC\n&nb
 sp\;\nInvitados_&nbsp\;\n&nbsp\;\nDoris Gonz&aacute\;lez | Vocera nacional
 \, Movimiento de pobladores UkamauCaso /tema_ Ukamau\n&nbsp\;\n&nbsp\;\nEm
 anuel Giannotti | Arquitecto integrante del Departamento de Urbanismo\, FA
 U - Universidad de Chile\nCaso /tema_Campamentos\n&nbsp\;\n&nbsp\;\nDaniel
  Meza Corval&aacute\;n | Arquitecto\,&nbsp\;FAU - Universidad de ChileCaso
  /tema_ Movimiento de&nbsp\;pobladoras y&nbsp\;pobladores en lucha MPL (ca
 so Matadero\, Franklin)\n&nbsp\;\n&nbsp\;\nAndres Vargas | Encargado nacio
 nal Regeneraci&oacute\;n de &Aacute\;reas Centrales/Barrios Hist&oacute\;r
 icos\, Divisi&oacute\;n de Desarrollo Urbano (MINVU)\nCaso /tema_ Programa
  de regeneraci&oacute\;n de barrios patrimoniales\, MINVU\n&nbsp\;\n&nbsp\
 ;\nHernan Ortega | Director de Secplac\, Municipalidad de CerrillosCaso /t
 ema_ Planes integrales (Bajo de Menas\, entre otros casos)\n&nbsp\;\n&nbsp
 \;\nTom&aacute\;s Echibru | Arquitecto y urbanista\, Concejal Municipalida
 d de ProvidenciaCaso /tema_ Mapocho pedaleable\n&nbsp\;\nFecha_\nMi&eacute
 \;rcoles 28 de agosto de 2019\, 18.00 h\n&nbsp\;\nLugar_\nAuditorio Fernan
 do Castillo Velasco\nCampus Lo Contador\nEl Comendador 1936\, Providencia
 \n&nbsp\;\nOrganiza_\nEscuela de Arquitectura UC\nTechnische Universit&aum
 l\;t Berlin&nbsp\;\n&nbsp\;\n\n&nbsp\;\nNoticiasContacto:&nbsp\;redesarq@u
 c.cl&nbsp\;| +56 2 2354 7747www.arquitectura.uc.cl https://fadeu-old.urant
 iacos.cl/agenda/evento/1936-conversatorio-actores-espacio-y-co-produccion-
 levantamiento-y-representacion-de-proyectos-co-producidos-en-santiago
DTSTART:20190828T220000Z
DTEND:20190828T230000Z
LOCATION:Auditorio Fernando Castillo Velasco. Edificio ARQ (El Comendador 1
 936\, Providencia\, Región Metropolitana\, Chile)
SUMMARY:Conversatorio 'Actores\, espacio y co-producción: Levantamiento y r
 epresentación de proyectos co-producidos en Santiago'
URL:https://fadeu-old.urantiacos.cl/agenda/evento/1936-conversatorio-actore
 s-espacio-y-co-produccion-levantamiento-y-representacion-de-proyectos-co-p
 roducidos-en-santiago
END:VEVENT
BEGIN:VEVENT
UID:20260419T203749UTC-6258mlBIob@https://fadeu-old.urantiacos.cl/
DTSTAMP:20260419T203749Z
DESCRIPTION:\nCharla:&nbsp\;Vivir en &aacute\;reas acomodadas: &iquest\;Cu&
 aacute\;nto importa para el logro educativo?\, dictada por&nbsp\;Gabriel O
 tero Cabrol\,&nbsp\;Candidato a doctor en el Departamento de Sociolog&iacu
 te\;a de la Universidad de Amsterdam y afiliado al Amsterdam Institute for
  Social Science Research (AISSR).\nLa charla se realizar&aacute\; el&nbsp\
 ;mi&eacute\;rcoles 28 de agosto a las 13:00 hrs.&nbsp\;en la Sala de Conse
 jo del Instituto de Estudios Urbanos y Territoriales UC. El Comendador 191
 6\, Providencia.\nCupos limitados. Inscripci&oacute\;n&nbsp\;aqu&iacute\;
 \n\n https://fadeu-old.urantiacos.cl/agenda/evento/1937-charla-vivir-en-ar
 eas-acomodadas-cuanto-importa-para-el-logro-educativo
DTSTART:20190828T170000Z
DTEND:20190828T180000Z
LOCATION:Sala Consejo Instituto de Estudios Urbanos (El Comendador 1916\, P
 rovidencia\, Región Metropolitana\, Chile)
SUMMARY:Charla: Vivir en áreas acomodadas: ¿Cuánto importa para el logro ed
 ucativo?
URL:https://fadeu-old.urantiacos.cl/agenda/evento/1937-charla-vivir-en-area
 s-acomodadas-cuanto-importa-para-el-logro-educativo
END:VEVENT
BEGIN:VEVENT
UID:20260419T203749UTC-6261vMCF7z@https://fadeu-old.urantiacos.cl/
DTSTAMP:20260419T203749Z
DESCRIPTION:Sesi&oacute\;n&nbsp\;Paisaje y Memoria&nbsp\;del&nbsp\;ciclo&nb
 sp\;Proyecciones desde el paisaje&nbsp\;desarrollado en el marco del curso
  de pregrado&nbsp\;Ciudad y Paisaje III\,&nbsp\;dictado&nbsp\;por las prof
 esoras Romy Hecht y Tatiana Carbonell\,&nbsp\;ocasi&oacute\;n en la que se
  proyectar&aacute\;&nbsp\;fragmentos de la pel&iacute\;cula&nbsp\;Flores&n
 bsp\;de Jorge J&aacute\;come (2017).\n&nbsp\;\nEl paisaje es absolutamente
  inseparable de la idea de su representaci&oacute\;n\, donde aquello que s
 e formula se proyecta desde una cultura\, idea e historia. El ciclo de cin
 e&nbsp\;Proyecciones desde el paisaje\,&nbsp\;exhibe una serie de filmes q
 ue proponen puntos de vista particulares para construir el paisaje\, que i
 lustran los conceptos o voluntades tanto de quienes los gestan como de qui
 enes observan dicha proyecci&oacute\;n.&nbsp\;Podr&iacute\;amos pensar ent
 onces que\, en rigor\, en una pel&iacute\;cula lo que vemos no es sino la 
 decisi&oacute\;n de un encuadre.\nProyecciones desde el paisaje&nbsp\;es u
 na invitaci&oacute\;n abierta a dialogar en un contrapunto desde la mirada
  del paisaje a la c&aacute\;mara del director.&nbsp\;\nLas proyecciones de
 l segundo semestre de 2019 son:\nAgosto 14&nbsp\; Paisaje y Ecolog&iacute\
 ;a\nSurire&nbsp\;&middot\; Bettina Perut\, Iv&aacute\;n Osnovikoff (Taskov
 ski Films\, Dirk Manthey Film\, 2015)\n&nbsp\;\nAgosto 21&nbsp\;Paisaje e 
 Infraestructura\nDeliverance&nbsp\;&middot\; John Boorman (Warner Bros\,19
 72)\n&nbsp\;\nAgosto 28&nbsp\;Paisaje y Memoria\nFlores&nbsp\;&middot\; Jo
 rge J&aacute\;come (2017)\, fragmentos\n&nbsp\;\nOctubre 02&nbsp\;El Jard&
 iacute\;n Real\nLast Year at Marienbad&nbsp\;&middot\; Alain Resnais (Cine
 riz\, 1961)\n&nbsp\;\nOctubre 23&nbsp\;&iquest\;Naturaleza o Paisaje?\nGer
 ry&nbsp\;&middot\; Gus Van Sant (THINKFilm\, 2002)\n&nbsp\;\nOctubre 30&nb
 sp\;Pulmones y Otros Dispositivos Verdes\nBlow Up&nbsp\;&middot\; Michelan
 gelo Antonioni (MGM\, 1966)\n&nbsp\;\nFechas_\n2&ordm\; semestre 2019 | Mi
 &eacute\;rcoles 13.20 a 15.20 h\n&nbsp\;\nLugar_\nSal&oacute\;n Sergio Lar
 ra&iacute\;n Garc&iacute\;a Moreno\nCampus Lo Contador\nEl Comendador 1936
 \, Providencia\n&nbsp\;\nOrganiza_\nEscuela de Arquitectura UC&nbsp\;\n&nb
 sp\;\n&nbsp\;\nNoticiasContacto:&nbsp\;redesarq@uc.cl&nbsp\;| +56 2 2354 7
 747www.arquitectura.uc.cl https://fadeu-old.urantiacos.cl/agenda/evento/19
 24-ciclo-proyecciones-desde-el-paisaje-paisaje-y-memoria
DTSTART:20190828T040000Z
LOCATION:Auditorio Fernando Castillo Velasco. Edificio ARQ (El Comendador 1
 936\, Providencia\, Región Metropolitana\, Chile)
SUMMARY:Ciclo Proyecciones desde el paisaje | Paisaje y Memoria
URL:https://fadeu-old.urantiacos.cl/agenda/evento/1924-ciclo-proyecciones-d
 esde-el-paisaje-paisaje-y-memoria
END:VEVENT
BEGIN:VEVENT
UID:20260419T203749UTC-6269omEGOi@https://fadeu-old.urantiacos.cl/
DTSTAMP:20260419T203749Z
DESCRIPTION:El pr&oacute\;ximo 27 de agosto se realizar&aacute\; el lanzami
 ento del primer&nbsp\;ARQ DOCS&nbsp\;de 2019\, a cargo de&nbsp\;Alejandro 
 Crispiani\, arquitecto de la Universidad Nacional de La Plata (Argentina) 
 1984 y doctor en Ciencias Humanas y Sociales de la Universidad Nacional de
  Quilmes (Argentina) 2009. El evento contar&aacute\; con los comentarios d
 e los arquitectos P&iacute\;a Montealegre y Teodoro Fern&aacute\;ndez.\n&n
 bsp\;\nAlejandro Crispiani\n&nbsp\;\n&nbsp\;\nArquitecto de la Universidad
  Nacional de La Plata (Argentina) 1984. Doctor en Ciencias Humanas y Socia
 les\, Universidad Nacional de Quilmes (Argentina) 2009. Ha investigado en 
 temas de historia y cr&iacute\;tica del dise&ntilde\;o y la arquitectura c
 ontempor&aacute\;neas. Ha publicado en Am&eacute\;rica Latina\, EEUU\, Eur
 opa y Asia\, como por ejemplo en las revistas&nbsp\;El Croquis&nbsp\;(Espa
 &ntilde\;a)\,&nbsp\;A + U&nbsp\;(Jap&oacute\;n)\,&nbsp\;Le visitateur&nbsp
 \;(Francia)\,&nbsp\;ARQ&nbsp\;(Chile) y&nbsp\;Block&nbsp\;(Argentina). Es 
 autor de los libros&nbsp\;Objetos para transformar el mundo.&nbsp\;Trayect
 orias del Arte Concreto Invenci&oacute\;n(Santiago y Buenos Aires\, 2011) 
 y&nbsp\;Palabras cruzadas. Ensayos sobre arte\, arquitectura y dise&ntilde
 \;o&nbsp\;(Buenos Aires\, 2017). Es Profesor Titular de la Facultad de Arq
 uitectura\, Dise&ntilde\;o y Estudios Urbanos de la Pontificia Universidad
  Cat&oacute\;lica de Chile.\n&nbsp\;\nFecha_Martes 27 de agosto de 2019\, 
 19.00 h.\n&nbsp\;\nLugar_Auditorio Fernando Castillo Velasco\nCampus Lo Co
 ntador\nEl Comendador 1936\, Providencia\n&nbsp\;\nInvitan_\nEdiciones ARQ
 Arquitectura UC&nbsp\;\n&nbsp\;\n&nbsp\;\nNoticiasContacto:&nbsp\;redesarq
 @uc.cl&nbsp\;| +56 2 2354 7747www.arquitectura.uc.cl https://fadeu-old.ura
 ntiacos.cl/agenda/evento/1933-lanzamiento-arq-docs-alejandro-crispiani
DTSTART:20190827T230000Z
DTEND:20190828T000000Z
LOCATION:Auditorio Fernando Castillo Velasco. Edificio ARQ (El Comendador 1
 936\, Providencia\, Región Metropolitana\, Chile)
SUMMARY:Lanzamiento ARQ DOCS: Alejandro Crispiani
URL:https://fadeu-old.urantiacos.cl/agenda/evento/1933-lanzamiento-arq-docs
 -alejandro-crispiani
END:VEVENT
END:VCALENDAR
