BEGIN:VCALENDAR
VERSION:2.0
PRODID:-//https://fadeu-old.urantiacos.cl///NONSGML kigkonsult.se iCalcreator 2.10.15//
METHOD:PUBLISH
BEGIN:VEVENT
UID:20260420T155914UTC-9120hkUl5l@https://fadeu-old.urantiacos.cl/
DTSTAMP:20260420T155914Z
DESCRIPTION:AMUNT\nJan Theissen\n&nbsp\;\nJan Theissen\, socio fundador de 
 la oficina alemana Amunt\, liderar&aacute\; durante el mes de agosto uno d
 e los Workshops TES 2018 del MARQ UC. Paralelamente dar&aacute\; una charl
 a magistral abierta a todo p&uacute\;blico el d&iacute\;a 29 de agosto en 
 el auditorio FCV a las 18.30 hrs.\n&nbsp\;\nAmunt\, oficina de arquitectos
  con sede en Aachen y Stuttgart\, Alemania\, nace en 2009 como una colabor
 aci&oacute\;n entre Bj&ouml\;rn Marterson\, Sonja Nagel y Jan Theissen. Ha
 n sido premiados en m&uacute\;ltiples ocasiones\, obteniendo entre otras c
 ondecoraciones el Weissenhof-Architekturf&ouml\;rderpreis para J&oacute\;v
 enes Arquitectos en 2010\, el Hugo-H&auml\;ring-Prize en 2011 y el Premio 
 Alem&aacute\;n de Arquitectura en 2013. Su obra ha sido presentada en el P
 abell&oacute\;n Alem&aacute\;n en la Bienal de Arquitectura del 2012 como 
 parte de la exhibici&oacute\;n nacional.\n&nbsp\;\nJan Theissen estudi&oac
 ute\; Dise&ntilde\;o Industrial en Saarbr&uuml\;cken y Eindhoven y se grad
 u&oacute\; por la Academia de Bellas Artes de Saarbr&uuml\;cken en 2000. A
 dem&aacute\;s\, estudi&oacute\; Arquitectura en el Instituto Pratt en Broo
 klyn\, Nueva York\, gradu&aacute\;ndose de Arquitecto en 2003. Desde enton
 ces\, ejerce como profesor en la Academia de Bellas Artes de Stuttgart y c
 omo Profesor Invitado en la Escuela de Arquitectura&nbsp\;Peter Behrens de
  Dusseldorf.\n&nbsp\;\nFecha_\nMi&eacute\;rcoles 29 de agosto de 2018\, 18
 .30 hrs.\n&nbsp\;\nLugar_\nAuditorio FCV\, campus Lo Contador. El Comendad
 or 1936\, Providencia.\n&nbsp\;\nOrganizan_\nMag&iacute\;ster en Arquitect
 ura UC\n&nbsp\;\nLink_\nhttp://www.amunt.info/\n&nbsp\;\n\n&nbsp\;\nNotici
 asContacto:&nbsp\;redesarq@uc.cl&nbsp\;| +56 2 2354 7747www.arquitectura.u
 c.cl https://fadeu-old.urantiacos.cl/agenda/evento/1659-conferencia-amunt-
 marq
DTSTART:20180829T213000Z
DTEND:20180829T223000Z
LOCATION:Auditorio Fernando Castillo Velasco. Edificio ARQ (El Comendador 1
 936\, Providencia\, Región Metropolitana\, Chile)
SUMMARY:Conferencia AMUNT / MARQ
URL:https://fadeu-old.urantiacos.cl/agenda/evento/1659-conferencia-amunt-ma
 rq
END:VEVENT
END:VCALENDAR
