BEGIN:VCALENDAR
VERSION:2.0
PRODID:-//https://fadeu-old.urantiacos.cl///NONSGML kigkonsult.se iCalcreator 2.10.15//
METHOD:PUBLISH
BEGIN:VEVENT
UID:20260423T111533UTC-2667M4vKsp@https://fadeu-old.urantiacos.cl/
DTSTAMP:20260423T111533Z
DESCRIPTION:Conferencia Paisajismo en Chile\, con los expositores Juan Grim
 m y Stuart Moore\, que se desarrollar&aacute\; en el marco del Ciclo Inspi
 rados por la Naturaleza\, organizado conjuntamente entre el Mag&iacute\;st
 er en Arquitectura del Paisaje UC y Ladera Sur.\nLa cita es el pr&oacute\;
 ximo mi&eacute\;rcoles 30 de Agosto\, a las 19:00 hrs.\, en el Auditorio F
 ADEU del Campus Lo Contador UC.\nActividad gratuita\, con inscripci&oacute
 \;n previa en el correo. https://fadeu-old.urantiacos.cl/agenda/evento/122
 3-conferencia-paisajismo-en-chile
DTSTART:20170830T220000Z
DTEND:20170830T230000Z
LOCATION:Auditorio FADEU\, Campus Lo Contador PUC (El Comendador 1916\, Pro
 videncia\, Providencia\, Región Metropolitana\, Chile)
SUMMARY:Conferencia Paisajismo en Chile
URL:https://fadeu-old.urantiacos.cl/agenda/evento/1223-conferencia-paisajis
 mo-en-chile
END:VEVENT
BEGIN:VEVENT
UID:20260423T111533UTC-26702ajaux@https://fadeu-old.urantiacos.cl/
DTSTAMP:20260423T111533Z
DESCRIPTION:El pr&oacute\;ximo mi&eacute\;rcoles 30 de agosto se realizar&a
 acute\; el lanzamiento del n&uacute\;mero 96 de revista ARQ\, titulada Ins
 trumentos\, en el Auditorio Arquitectura\, en conjunto con la charla magis
 tral del arquitecto italiano Renato Rizzi\, publicado en este n&uacute\;me
 ro de ARQ.\nUna vez terminado el evento los invitamos a la terraza del aud
 itorio\, para compartir un vino de honor que tenemos organizado para los a
 sistentes. https://fadeu-old.urantiacos.cl/agenda/evento/1217-lanzamiento-
 arq-96
DTSTART:20170830T213000Z
DTEND:20170830T223000Z
LOCATION:Auditorio Arquitectura UC\, Campus Lo Contador (el comendador 1916
 \, providencia)
SUMMARY:Lanzamiento ARQ 96 
URL:https://fadeu-old.urantiacos.cl/agenda/evento/1217-lanzamiento-arq-96
END:VEVENT
END:VCALENDAR
