BEGIN:VCALENDAR
VERSION:2.0
PRODID:-//https://fadeu-old.urantiacos.cl///NONSGML kigkonsult.se iCalcreator 2.10.15//
METHOD:PUBLISH
BEGIN:VEVENT
UID:20260420T155914UTC-8934TwuhFu@https://fadeu-old.urantiacos.cl/
DTSTAMP:20260420T155914Z
DESCRIPTION:Tenemos el agrado de hacerles llegar la invitaci&oacute\;n para
  el&nbsp\;Seminario doble | La autogesti&oacute\;n habitacional en el Chil
 e neoliberal&nbsp\;&iquest\;Reminiscencias del pasado o un nuevo futuro pa
 ra la vivienda?.\nEncuentro que se desarrollar&aacute\; en dos jornadas. L
 a primera\, el&nbsp\;jueves 30 de agosto a las 18 h.\, donde expondr&aacut
 e\; el historiador&nbsp\;Gabriel Salazar. La segunda\, se realizar&aacute\
 ; el&nbsp\;jueves 6 de septiembre\,&nbsp\;en donde expondr&aacute\; el his
 toriador&nbsp\;Mario Garc&eacute\;s. Las dos charlas contar&aacute\;n con 
 una mesa de discusi&oacute\;n con destacados invitados\, entre ellos\, dir
 igentes(as)\, acad&eacute\;micos(as) y militantes.\nLa actividad en el&nbs
 p\;Auditorio Fernando Castillo Velasco.&nbsp\;El Comendador 1936\, Provide
 ncia.&nbsp\;Campus Lo Contador UC.\nCupos limitados.Inscripciones&nbsp\;aq
 u&iacute\;.\n https://fadeu-old.urantiacos.cl/agenda/evento/1653-seminario
 -doble-la-autogestion-habitacional-en-el-chile-neoliberal-reminiscencias-d
 el-pasado-o-un-nuevo-futuro-para-la-vivienda
DTSTART:20180830T210000Z
DTEND:20180830T220000Z
LOCATION:Auditorio Fernando Castillo Velasco. Edificio ARQ (El Comendador 1
 936\, Providencia\, Región Metropolitana\, Chile)
SUMMARY:Seminario doble | La autogestión habitacional en el Chile neolibera
 l ¿Reminiscencias del pasado o un nuevo futuro para la vivienda?
URL:https://fadeu-old.urantiacos.cl/agenda/evento/1653-seminario-doble-la-a
 utogestion-habitacional-en-el-chile-neoliberal-reminiscencias-del-pasado-o
 -un-nuevo-futuro-para-la-vivienda
END:VEVENT
BEGIN:VEVENT
UID:20260420T155914UTC-8940n3kuua@https://fadeu-old.urantiacos.cl/
DTSTAMP:20260420T155914Z
DESCRIPTION:El III Congreso Internacional de &Aacute\;reas Metropolitanas e
 s organizado por el BID en conjunto con la SUBDERE a la luz del lanzamient
 o del libro 'Construyendo Gobernanza Metropolitana. El Caso de Chile'.&nbs
 p\;\n&nbsp\;\n\n\nSeg&uacute\;n el informe entregado por el INE el 2017\, 
 m&aacute\;s del 87% de la poblaci&oacute\;n de Chile vive en localidades u
 rbanas\, y aproximadamente el 63% de esas familias vive en las ocho aglome
 raciones que son consideradas &Aacute\;reas Metropolitanas.\nEn las &Aacut
 e\;reas Metropolitanas m&aacute\;s grandes de Chile &ndash\;Santiago\, Val
 para&iacute\;so y Concepci&oacute\;n&ndash\; residen alrededor de 8 millon
 es de personas que equivalen al 46% de la poblaci&oacute\;n del pa&iacute\
 ;s.\nEn la modificaci&oacute\;n y actualizaci&oacute\;n de la Ley N&deg\; 
 19.175\, del a&ntilde\;o 2018\, Org&aacute\;nica Constitucional sobre Gobi
 erno y Administraci&oacute\;n Regional\, se estableci&oacute\; que en cada
  regi&oacute\;n podr&aacute\;n constituirse una o m&aacute\;s &Aacute\;rea
 s Metropolitanas\, entendiendo por &Aacute\;rea Metropolitana a la extensi
 &oacute\;n territorial formada por dos o m&aacute\;s comunas de una misma 
 regi&oacute\;n\, unidas entre s&iacute\; por un continuo urbano que conten
 ga espacios construidos que compartan la utilizaci&oacute\;n de diversos e
 lementos de infraestructura y servicios urbanos\, y que\, en su conjunto\,
  superen los 250.000 habitantes.\nLa norma establece que para la creaci&oa
 cute\;n las &aacute\;reas metropolitanas se fijar&aacute\;n est&aacute\;nd
 ares m&iacute\;nimos\, mediante un reglamento emitido por el Ministerio de
 l Interior y Seguridad P&uacute\;blica\, que deber&aacute\; ser suscrito t
 ambi&eacute\;n por los Ministros de Vivienda y Urbanismo\, Transporte y Te
 lecomunicaciones\, Obras P&uacute\;blicas\, Medio Ambiente y Hacienda.\nLa
  misma ley\, expresa que las &Aacute\;reas Metropolitanas se constituir&aa
 cute\;n a trav&eacute\;s de la promulgaci&oacute\;n de un decreto supremo 
 del Ministerio del Interior y Seguridad P&uacute\;blica\, suscrito por el 
 Ministro de Hacienda y los ministros de las carteras que correspondan en e
 l marco de las competencias que se otorguen.\nEl gran desaf&iacute\;o de l
 a subsecretar&iacute\;a de Desarrollo Regional y Administrativo para estas
  &Aacute\;reas Metropolitanas ser&aacute\; el de constituir Departamentos 
 de &Aacute\;rea Metropolitanas (DAM) al interior de los gobiernos regional
 es que tengan bajo su administraci&oacute\;n una o m&aacute\;s de dichas &
 aacute\;reas\, capaces de&nbsp\;colaborar con la autoridad regional en las
  funciones de coordinaci&oacute\;n e interacci&oacute\;n del gobierno regi
 onal con los&nbsp\;&oacute\;rganos administrativos de la administraci&oacu
 te\;n central y local\; la coordinaci&oacute\;n de los instrumentos de pla
 nificaci&oacute\;n que se&ntilde\;ala la ley\; y actuar como secretar&iacu
 te\;a ejecutiva del comit&eacute\; consultivo de alcaldes.\n\nFecha_\nJuev
 es 30 de agosto de 2018\, 8.30 - 13.50 hrs.\n&nbsp\;\n&nbsp\;\nLugar_\nSal
 &oacute\;n de Honor\, Ex Congreso Nacional. Catedral # 1158\, Santiago\, C
 hile.\n&nbsp\;\nOrganizan_\nSubsecretar&iacute\;a de Desarrollo Regional y
  AdministrativoSUBDEREBanco Interamericano de DesarrolloBID\n&nbsp\;\nPatr
 ocinan_\nPrograma de las Naciones Unidas para el DesarrolloCentro de Exten
 si&oacute\;n del Congreso\n&nbsp\;\nPrograma congreso\n&nbsp\;\nNoticiasCo
 ntacto:&nbsp\;redesarq@uc.cl&nbsp\;| +56 2 2354 7747www.arquitectura.uc.cl
  https://fadeu-old.urantiacos.cl/agenda/evento/1657-iii-congreso-internaci
 onal-de-areas-metropolitanas-construyendo-gobernanza-metropolitana-el-caso
 -de-chile
DTSTART:20180830T113000Z
DTEND:20180830T123000Z
LOCATION:Salón de Honor\, Ex Congreso Nacional (Catedral 1158\, Santiago)
SUMMARY:III Congreso Internacional de Áreas Metropolitanas 'Construyendo Go
 bernanza Metropolitana. El Caso de Chile'
URL:https://fadeu-old.urantiacos.cl/agenda/evento/1657-iii-congreso-interna
 cional-de-areas-metropolitanas-construyendo-gobernanza-metropolitana-el-ca
 so-de-chile
END:VEVENT
END:VCALENDAR
