BEGIN:VCALENDAR
VERSION:2.0
PRODID:-//https://fadeu-old.urantiacos.cl///NONSGML kigkonsult.se iCalcreator 2.10.15//
METHOD:PUBLISH
BEGIN:VEVENT
UID:20260419T204733UTC-3744LceER7@https://fadeu-old.urantiacos.cl/
DTSTAMP:20260419T204733Z
DESCRIPTION:El pr&oacute\;ximo jueves 29 de agosto se realizar&aacute\; el 
 lanzamiento de la edici&oacute\;n 102 de Revista ARQ\, la que aborda la no
 ci&oacute\;n de 'especulaci&oacute\;n' en arquitectura. En esta ocasi&oacu
 te\;n\, se contar&aacute\; con los comentarios de Eugenio Tironi\, soci&oa
 cute\;logo y Director de Tironi Asociados\, Alejandra Celed&oacute\;n\, ar
 quitecta\, Doctora en Arquitectura y profesora de la Escuela de Arquitectu
 ra UC\, y Francisco Vergara Perucich\, arquitecto\, Doctor en Urbanismo y 
 Director del Centro Producci&oacute\;n del Espacio de la Universidad de la
 s Am&eacute\;ricas.\n&nbsp\;\nSeg&uacute\;n algunas definiciones desde el 
 lat&iacute\;n 'especular' significa 'observar desde la altura' y 'especula
 dor'\, puede significar esp&iacute\;a o explorador. En ambos casos\, el es
 peculador es capaz de ver por anticipado\, alguien que observa lo que est&
 aacute\; pasando y concluye los escenarios probables que ello puede determ
 inar\; la especulaci&oacute\;n en tanto una observaci&oacute\;n cargada de
  conocimiento acumulado que permite una lectura seria de los posibles y co
 n esto anticipar lo que puede ocurrir.\nLos arquitectos est&aacute\;n habi
 tuados a este ejercicio\, proyectar a fin de cuentas supone anticipar una 
 posibilidad de futuro a partir de un conocimiento que hace que una determi
 nada alternativa sea veros&iacute\;mil sin necesidad de ser real.\nPero no
  somos los &uacute\;nicos que conjeturamos sobre el futuro\, y si la espec
 ulaci&oacute\;n en arquitectura presenta posibilidades concretas en un fut
 uro incierto\, su variante financiera apuesta por la incertidumbre y la ut
 iliza para obtener ganancias a partir del miedo de que las cosas no result
 en bien. En el cruce de ambas formas de especulaci&oacute\;n surge una ext
 ra&ntilde\;a formula t&aacute\;cita en la cual la especulaci&oacute\;n fin
 anciera y arquitect&oacute\;nica se benefician de forma inversamente propo
 rcional.\nEste n&uacute\;mero de Revista ARQ discutir&aacute\; sobre estos
  supuestos y presentar&aacute\; casos que resisten estas generalidades.\nF
 echa_Juves 29 de agosto de 2019\, 19.00 h.\n&nbsp\;\nLugar_Auditorio Ferna
 ndo Castillo Velasco\nCampus Lo Contador\nEl Comendador 1936\, Providencia
 \n&nbsp\;\nInvitan_\nEdiciones ARQArquitectura UC\n&nbsp\;\n\n&nbsp\;\nNot
 iciasContacto:&nbsp\;redesarq@uc.cl&nbsp\;| +56 2 2354 7747www.arquitectur
 a.uc.cl https://fadeu-old.urantiacos.cl/agenda/evento/1932-lanzamiento-arq
 -102-especulacion
DTSTART:20190829T230000Z
DTEND:20190830T000000Z
LOCATION:Auditorio Fernando Castillo Velasco. Edificio ARQ (El Comendador 1
 936\, Providencia\, Región Metropolitana\, Chile)
SUMMARY:Lanzamiento ARQ 102 | Especulación
URL:https://fadeu-old.urantiacos.cl/agenda/evento/1932-lanzamiento-arq-102-
 especulacion
END:VEVENT
END:VCALENDAR
