BEGIN:VCALENDAR
VERSION:2.0
PRODID:-//https://fadeu-old.urantiacos.cl///NONSGML kigkonsult.se iCalcreator 2.10.15//
METHOD:PUBLISH
BEGIN:VEVENT
UID:20260423T111551UTC-9001mUVdGa@https://fadeu-old.urantiacos.cl/
DTSTAMP:20260423T111551Z
DESCRIPTION:El Paisaje en la [Nueva] Cocina Chilena&middot\;Rodolfo Guzm&aa
 cute\;n\, Chef Restor&aacute\;n Borag&oacute\;Romy Hecht\, Arquitecta y Ph
 D en Historia y Teor&iacute\;a de la Arquitectura&middot\;\nA partir del t
 rabajo desarrollado en el laboratorio del restor&aacute\;n Borag&oacute\;\
 , catalogado como uno de los 50 mejores del mundo\, Guzm&aacute\;n ha desa
 rrollado una cocina end&eacute\;mica chilena\, usando espec&iacute\;ficame
 nte ingredientes que\, durante siglos\, han configurado y caracterizado al
  territorio nacional. Consecuentemente\, se busca construir con &eacute\;l
  un di&aacute\;logo que permita abordar la comprensi&oacute\;n tipol&oacut
 e\;gica del territorio como una diversidad de unidades regionales caracter
 izadas por su configuraci&oacute\;n geogr&aacute\;fica.\nEntrada liberada\
 , cupos limitados. Inscripciones: magistermapa@uc.cl https://fadeu-old.ura
 ntiacos.cl/agenda/evento/1171-descubriendo-el-paisaje-chileno-dialogos-des
 de-los-sentidos
DTSTART:20170831T213000Z
DTEND:20170831T223000Z
LOCATION:Auditorio Arquitectura UC\, Campus Lo Contador (el comendador 1916
 \, providencia)
SUMMARY:Descubriendo el paisaje chileno: Diálogos desde los sentidos
URL:https://fadeu-old.urantiacos.cl/agenda/evento/1171-descubriendo-el-pais
 aje-chileno-dialogos-desde-los-sentidos
END:VEVENT
BEGIN:VEVENT
UID:20260423T111551UTC-9006ptk5It@https://fadeu-old.urantiacos.cl/
DTSTAMP:20260423T111551Z
DESCRIPTION:'Estrategias Regulatorias para Promover Integraci&oacute\;n Res
 idencial'Clase abierta de Diego Gil\nDiego Gil presentar&aacute\; en video
 conferencia desde Stanford 'Estrategias Regulatorias para Promover Integra
 ci&oacute\;n Residencial' en el marco del curso 'Vivienda como Proyecto Ur
 bano-Social' que dicta el profesor Jos&eacute\; di Girolamo en el Magister
  en Proyecto Urbano UC.\nDiego Gil es abogado de la Universidad de Chile y
  M&aacute\;ster y Doctor en Ciencias Jur&iacute\;dicas de la Universidad d
 e Stanford\, donde actualmente es Teaching Fellow y Lecturer de la Faculta
 d de Derecho. En la Universidad Alberto Hurtado fue Profesor Adjunto de la
  Facultad de Derecho e investigador en proyectos sobre derecho y pol&iacut
 e\;ticas p&uacute\;blicas del Observatorio Social. Sus intereses acad&eacu
 te\;micos son el derecho y la pol&iacute\;ticas p&uacute\;blicas relaciona
 das con vivienda y urbanismo\, derecho administrativo y regulatorio\, prop
 iedad y sociolog&iacute\;a del derecho.\nFecha_&nbsp\;Jueves 31 de Agosto 
 de 2016Hora_ 17:00 hrs (videoconferencia)\nLugar_&nbsp\;Sala 36\, 2&deg\;p
 iso Casona Lo Contador.&nbsp\;\nInvitan_Mag&iacute\;ster en Proyecto Urban
 o https://fadeu-old.urantiacos.cl/agenda/evento/1233-diego-gil-en-clase-ab
 ierta-del-mpur
DTSTART:20170831T200000Z
DTEND:20170831T210000Z
LOCATION:Sala 36\, Casona Lo Contador (El Comendador 1916\, Providencia\, R
 egión Metropolitana\, Chile)
SUMMARY:Diego Gil en Clase abierta del MPUR
URL:https://fadeu-old.urantiacos.cl/agenda/evento/1233-diego-gil-en-clase-a
 bierta-del-mpur
END:VEVENT
END:VCALENDAR
