BEGIN:VCALENDAR
VERSION:2.0
PRODID:-//https://fadeu-old.urantiacos.cl///NONSGML kigkonsult.se iCalcreator 2.10.15//
METHOD:PUBLISH
BEGIN:VEVENT
UID:20260419T204905UTC-1961J1csNM@https://fadeu-old.urantiacos.cl/
DTSTAMP:20260419T204905Z
DESCRIPTION:El seminario 'La arquitectura\, otra vez /&nbsp\;Architecture\,
  Once Again'&nbsp\;busca&nbsp\;identificar con nitidez los modos en que la
  arquitectura puede a&uacute\;n sostenerse como profesi&oacute\;n\, tanto 
 como pr&aacute\;ctica est&eacute\;tica y &aacute\;mbito de reflexi&oacute\
 ;n intelectual. Los expositores reflexionar&aacute\;n&nbsp\;sobre este dil
 ema describiendo&nbsp\;qu&eacute\;\, porqu&eacute\; y c&oacute\;mo&nbsp\;o
 peran en sus oficinas.&nbsp\;\nEntre la profesionalizaci&oacute\;n de la h
 istoria de la arquitectura en la esfera acad&eacute\;mica y la incesante p
 roducci&oacute\;n de discurso por parte de curadores en bienales y museos\
 , el trabajo de oficinas de arquitectura emergentes ha quedado a menudo a 
 merced de los argumentos elaborados por otros\, cuando no ha sido tratado 
 con cierta condescendencia por tratarse de mero &lsquo\;dise&ntilde\;o&rsq
 uo\; &iquest\;C&oacute\;mo se reconcilia entonces un reenergizado &aacute\
 ;mbito de pr&aacute\;ctica arquitect&oacute\;nica con su aparente irreleva
 ncia discursiva?&nbsp\;\n&nbsp\;\n\nEl seminario es una invitaci&oacute\;n
  a arquitectas y arquitectos a reflexionar sobre este dilema describiendo&
 nbsp\;qu&eacute\;\, porqu&eacute\; y c&oacute\;mo&nbsp\;es que hacen lo qu
 e hacen en sus oficinas. Con el objeto de crear una esfera de discusi&oacu
 te\;n m&aacute\;s amplia\, la propuesta de cada expositor se articular&aac
 ute\; en torno a una obra propia (construida) y otra externa (construida o
  no)\, localizada fuera del canon habitual de referencias. El objeto de es
 te ejercicio es el de identificar relaciones entre &ldquo\;alta&rdquo\; y 
 &ldquo\;baja&rdquo\; arquitectura\, escalas mayores y menores\, productos 
 de econom&iacute\;as pre y neoliberales\, objetos hist&oacute\;ricos y pro
 yectos contempor&aacute\;neos. La ambici&oacute\;n es identificar con algu
 na nitidez los modos en que la arquitectura puede sostenerse como profesi&
 oacute\;n\, tanto como pr&aacute\;ctica est&eacute\;tica y &aacute\;mbito 
 de reflexi&oacute\;n intelectual.\n\nLa coordinaci&oacute\;n y curator&iac
 ute\;a de este seminario es realizada por&nbsp\;Max Nu&ntilde\;ez\, jefe d
 el programa de Mag&iacute\;ster en Arquitectura UC y socio fundador de la 
 oficina&nbsp\;Max Nu&ntilde\;ez Arquitectos\, y por&nbsp\;Crist&oacute\;ba
 l Amun&aacute\;tegui\,&nbsp\;Professor Asistente UCLA y socio fundador de 
 la oficins&nbsp\;Amun&aacute\;tegui Vald&eacute\;s&nbsp\;Arquitectos.\nMar
 tes 03 de septiembre\n&nbsp\;\n&nbsp\;\n\nFelipe Alarc&oacute\;nIv&aacute\
 ;n BravoCruz ThiermannTironi BartlauEmilio Mar&iacute\;nMat&iacute\;as Zeg
 ers\nMi&eacute\;rcoles 04 de septiembre\nAz&oacute\;car Catr&oacute\;nCris
 ti&aacute\;n Berr&iacute\;osBeals LyonCristi&aacute\;n IzquierdoRep&uacute
 \;blica Port&aacute\;tilRodrigo Valenzuela\nFecha seminario_\n03 y 04 de s
 eptiembre de 2019\, 16.00 a 19.00 h\n&nbsp\;\nLugar_\nSal&oacute\;n Sergio
  Larra&iacute\;n Garc&iacute\;a Moreno\nCampus Lo Contador\nEl Comendador 
 1936\, Providencia\n&nbsp\;\nOrganiza_\nMag&iacute\;ster en Arquitectura U
 C\nEscuela de&nbsp\;&nbsp\;Arquitectura UC\n&nbsp\;&nbsp\;\nNoticiasContac
 to:&nbsp\;redesarq@uc.cl&nbsp\;| +56 2 2354 7747www.arquitectura.uc.cl htt
 ps://fadeu-old.urantiacos.cl/agenda/evento/1939-seminario-la-arquitectura-
 otra-vez-architecture-once-again-marq-uc
DTSTART:20190903T040000Z
LOCATION:Salón Sergio Larraín\, Campus Lo Contador ()
SUMMARY:Seminario 'La arquitectura\, otra vez / Architecture\, Once Again' 
 | MARQ UC
URL:https://fadeu-old.urantiacos.cl/agenda/evento/1939-seminario-la-arquite
 ctura-otra-vez-architecture-once-again-marq-uc
END:VEVENT
END:VCALENDAR
