BEGIN:VCALENDAR
VERSION:2.0
PRODID:-//https://fadeu-old.urantiacos.cl///NONSGML kigkonsult.se iCalcreator 2.10.15//
METHOD:PUBLISH
BEGIN:VEVENT
UID:20260423T111647UTC-04134iXJDk@https://fadeu-old.urantiacos.cl/
DTSTAMP:20260423T111647Z
DESCRIPTION:En este encuentro -organizado por el Ministerio de Vivienda y U
 rbanismo (MINVU) y el Centro de Desarrollo Urbano Sustentable (CEDEUS)-\, 
 se compartir&aacute\;n los resultados de la investigaci&oacute\;n acad&eac
 ute\;mica realizada por el Centro\, en un estudio de casos del programa de
  recuperaci&oacute\;n de barrios &ldquo\;Quiero Mi Barrio&rdquo\;.Esta inv
 estigaci&oacute\;n estudia la sustentabilidad a escala de barrio a trav&ea
 cute\;s de 12 intervenciones del Programa &ldquo\;Quiero Mi Barrio&rdquo\;
  en Santiago\, Concepci&oacute\;n\, Copiap&oacute\;\, Coquimbo-La Serena\,
  Valdivia y Temuco-Padre Las Casas.Participan:&ndash\; Paulina Saball\, mi
 nistra de Vivienda y Urbanismo&ndash\; Juan Carlos Mu&ntilde\;oz\, directo
 r Cedeus&ndash\; Claudia Bustos\, encargada Nacional del Programa Quiero M
 i Barrio&ndash\; Margarita Greene\, investigadora principal Cedeus&ndash\;
  Rub&eacute\;n Sep&uacute\;lveda\, acad&eacute\;mico de la Universidad de 
 Chile&ndash\; Luis Eduardo Bresciani\, presidente del Consejo Nacional de 
 Desarrollo Urbano\n&nbsp\;\n https://fadeu-old.urantiacos.cl/agenda/evento
 /1241-seminario-sustentabilidad-a-escala-de-barrio
DTSTART:20170904T183000Z
DTEND:20170904T211500Z
LOCATION:Auditorio Arquitectura UC\, Campus Lo Contador (el comendador 1916
 \, providencia)
SUMMARY:Seminario 'Sustentabilidad a escala de barrio'
URL:https://fadeu-old.urantiacos.cl/agenda/evento/1241-seminario-sustentabi
 lidad-a-escala-de-barrio
END:VEVENT
BEGIN:VEVENT
UID:20260423T111647UTC-0418TLgXKw@https://fadeu-old.urantiacos.cl/
DTSTAMP:20260423T111647Z
DESCRIPTION:El pr&oacute\;ximo lunes 4 de septiembre iniciar&aacute\; el pr
 oceso de postulaci&oacute\;n a los programas de postgrado que ofrece la Es
 cuela de Arquitectura\, una de las m&aacute\;s antiguas de Chile y reconoc
 ida como una de las m&aacute\;s relevantes en am&eacute\;rica latina.\nBaj
 o el alero de La Pontificia Universidad Cat&oacute\;lica de Chile\, instit
 uci&oacute\;n reconocida a&ntilde\;o a a&ntilde\;o por distintos rankings 
 internacionales como la mejor del pa&iacute\;s\, los programas de postgrad
 o de la Escuela de Arquitectura cuentan con la experiencia en docencia e i
 nvestigaciones acumulada durante 25 a&ntilde\;os\, teniendo entre sus prof
 esores a destacados arquitectos e investigadores nacionales con grados de 
 mag&iacute\;ster y doctorado\, adem&aacute\;s de sumar semestre a semestre
  invitados internacionales a cargo de workshops\, seminarios\, conferencia
 s y simposios.\nActualmente\, Arquitectura UC ofrece cinco programas de ma
 g&iacute\;ster con diferentes entradas a la disciplina y su pr&aacute\;cti
 ca:\nMagister en Arquitectura (MARQ) a cargo de M&aacute\;x N&uacute\;&nti
 lde\;ez\, el Magister en Proyecto Urbano (MPUR) dirigido por Elke Shlack\,
  el Magister en Arquitectura del Paisaje (MAPA) a cargo de Osvaldo Moreno\
 , el Mag&iacute\;ster en Arquitectura Sustentable y Energ&iacute\;a (MASE)
  en cabezado porRenato D'Alen&ccedil\;on y el Mag&iacute\;ster en Patrimon
 io Cultural (MAPC) con Elvira P&eacute\;rez como jefa de programa.\n&nbsp\
 ;\n https://fadeu-old.urantiacos.cl/agenda/evento/1251-programas-de-magist
 er-arq-uc
DTSTART:20170904T030000Z
LOCATION:Campus Lo Contador (El Comendador 1916\, Providencia\, Providencia
 \, Región Metropolitana\, Chile)
SUMMARY:Programas de Magíster ARQ UC
URL:https://fadeu-old.urantiacos.cl/agenda/evento/1251-programas-de-magiste
 r-arq-uc
END:VEVENT
END:VCALENDAR
