BEGIN:VCALENDAR
VERSION:2.0
PRODID:-//https://fadeu-old.urantiacos.cl///NONSGML kigkonsult.se iCalcreator 2.10.15//
METHOD:PUBLISH
BEGIN:VEVENT
UID:20260420T160038UTC-4068PUW2Ot@https://fadeu-old.urantiacos.cl/
DTSTAMP:20260420T160038Z
DESCRIPTION:Social media&nbsp\;influencers: La producci&oacute\;n&nbsp\;de 
 valor en&nbsp\;la econom&iacute\;a&nbsp\;del me gusta\n&nbsp\;\nExponen:&n
 bsp\;\nArturo Arriagada\, Soci&oacute\;logo\, Mag&iacute\;ster en Medios y
  Comunicaciones (2009) y PhD en Sociolog&iacute\;a (2014)&nbsp\; por la Lo
 ndon School of Economics (UK). Profesor y Director de Cultura Social Media
 \, laboratorio de estudios sobre comunicaci&oacute\;n digital&nbsp\; de la
  Escuela de Periodismo\,&nbsp\; Universidad Adolfo Ib&aacute\;&ntilde\;ez.
 \nFrancisco Ib&aacute\;&ntilde\;ez\, Soci&oacute\;logo de la Pontificia Un
 iversidad Cat&oacute\;lica de Chile e Investigador Asociado de Cultura Soc
 ial Media&nbsp\; y el Laboratorio de Estudios&nbsp\; del Cotidiano.\n&nbsp
 \;\nRecientes estudios han abordado las experiencias laborales&nbsp\;de lo
 s llamados &ldquo\;influenciadores digitales&rdquo\; (fashion bloggers\, Y
 ouTubers\, Instagrammers\, vloggers)\, pero poca atenci&oacute\;n&nbsp\;se
  ha prestado al valor econ&oacute\;mico y simb&oacute\;lico que estos acto
 res crean. Usando conceptos que abordan el car&aacute\;cter performativo&n
 bsp\;de los mercados y la creaci&oacute\;n&nbsp\;de valor simb&oacute\;lic
 o y econ&oacute\;mico en la econom&iacute\;a digital\, en esta presentaci&
 oacute\;n se explora cualitativamente las experiencias de creaci&oacute\;n
  de valor por parte&nbsp\; de un grupo de influenciadores digitales y agen
 cias de publicidad y marketing relacionadas.&nbsp\;&nbsp\;Se analizar&aacu
 te\; la centralidad que adoptan los medios sociales online y los elementos
  culturales y econ&oacute\;micos en los procesos de creaci&oacute\;n de un
  valor &ldquo\;organico&rdquo\;&nbsp\; y comerciable\, entrecruzado&nbsp\;
  de conocimientos t&eacute\;cnicos&nbsp\;y corporales as&iacute\; como la 
 propia autenticidad de los&nbsp\; influenciadores digitales.&nbsp\;\n&nbsp
 \;\n+ Presentaci&oacute\;n del programa aqu&iacute\;.&nbsp\;\n+ Inscripcio
 nes aqu&iacute\;.&nbsp\;\n&nbsp\;\n https://fadeu-old.urantiacos.cl/agenda
 /evento/1663-seminario-sociedad-diseno-y-tecnologia
DTSTART:20180904T203000Z
DTEND:20180904T213000Z
LOCATION:Salón Sergio Larraín\, Campus Lo Contador ()
SUMMARY:Seminario Sociedad Diseño y Tecnología
URL:https://fadeu-old.urantiacos.cl/agenda/evento/1663-seminario-sociedad-d
 iseno-y-tecnologia
END:VEVENT
END:VCALENDAR
