BEGIN:VCALENDAR
VERSION:2.0
PRODID:-//https://fadeu-old.urantiacos.cl///NONSGML kigkonsult.se iCalcreator 2.10.15//
METHOD:PUBLISH
BEGIN:VEVENT
UID:20260419T204859UTC-5627C1Opl3@https://fadeu-old.urantiacos.cl/
DTSTAMP:20260419T204859Z
DESCRIPTION:Ciclo 'Paisajes interconectados:&nbsp\;Interconexiones desde la
  sustentabilidad' |&nbsp\;Jos&eacute\; Quintanilla\nJos&eacute\; Quintanil
 la\, profesor y arquitecto de la Escuela de Arquitectura UC y Doctor Arqui
 tecto por la Universidad Polit&eacute\;cnica de Catalu&ntilde\;a\, dictar&
 aacute\; la conferencia 'Materiales e Inmateriales en la construcci&oacute
 \;n de La Alhambra de Granada'\, primera sesi&oacute\;n 'Interconexiones d
 esde la sustentabilidad'&nbsp\;del ciclo 'Paisajes interconectados'\,&nbsp
 \;en el marco del curso m&iacute\;nimo del programa de Mag&iacute\;ster en
  Arquitectura del Paisaje 'Historias de la Arquitectura del Paisaje'\, a c
 argo de las profesoras Romy Hecht y Javiera Infante.\n'Materiales e Inmate
 riales en la construcci&oacute\;n de La Alhambra de Granada'\nLos edificio
 s que construyeron los &aacute\;rabes en la Pen&iacute\;nsula Ib&eacute\;r
 ica son lugares de gozo\, es decir\, de intensa sensualidad\, producto de 
 la fruici&oacute\;n est&eacute\;tica y de la evidencia de sentirnos en ell
 os de manera confortable. La conquista del gozo o 'alegr&iacute\;as esenci
 ales' est&aacute\; ligada a una civilizaci&oacute\;n que promov&iacute\;a 
 el bienestar\, as&iacute\; como\, al nivel de sofisticaci&oacute\;n y desa
 rrollo t&eacute\;cnico alcanzado. Materiales e inmateriales es un llamado 
 a no perder de vista el &ldquo\;sentido com&uacute\;n&rdquo\; en el proces
 o de dise&ntilde\;o y construcci&oacute\;n. Para esto revisaremos el caso 
 de La Alhambra de Granada. La Realidad de la Arquitectura es material y ex
 ige el estudio y correcto uso de los materiales\, incluyendo los inmateria
 les que son sustanciales a la arquitectura\, porque tambi&eacute\;n son su
 stanciales a la vida: aire\, agua\, tierra y fuego.\nJos&eacute\; Quintani
 lla\nArquitecto UC (1993) y Doctor Arquitecto por la Universidad Polit&eac
 ute\;cnica de Catalu&ntilde\;a (2004). Es profesor de la Escuela de Arquit
 ectura UC desde el a&ntilde\;o 2010 donde dicta cursos de teor&iacute\;a y
  proyecto. Coautor del libro &ldquo\;Los hechos de la Arquitectura&rdquo\;
 \, junto a Fernando P&eacute\;rez y Alejandro Aravena\, entre sus obras re
 cientes destacan el Edificio Docente para la Facultad de Arte y el nuevo C
 entro de Extensi&oacute\;n UC\, ambos en el Campus Oriente de la Pontifici
 a Universidad Cat&oacute\;lica de Chile\, y el proyecto Fondo Semilla EARQ
  UC 2018 'Iniciaci&oacute\;n a la Arquitectura en la Escuela de Arquitectu
 ra UC: 1949-2019'\, del que fue investigador responsable.\nFecha_\nMi&eacu
 te\;rcoles 04 de septiembre de 2019\, 15.30 h\n&nbsp\;\nLugar_Sala 32Campu
 s Lo ContadorEl Comendador 1936\, Providencia\n&nbsp\;\nOrganiza_\nMag&iac
 ute\;ster en Arquitectura del PaisajeEscuela de Arquitectura UC\n&nbsp\;\n
 &nbsp\;\n&nbsp\;\nNoticiasContacto:&nbsp\;redesarq@uc.cl&nbsp\;| +56 2 235
 4 7747www.arquitectura.uc.cl https://fadeu-old.urantiacos.cl/agenda/evento
 /1940-paisajes-interconectados-jose-quintanilla
DTSTART:20190904T193000Z
DTEND:20190904T203000Z
LOCATION:Sala 32 Casona Campus Lo Contador (El Comendador\, Providencia\, P
 rovidencia\, Región Metropolitana\, Chile)
SUMMARY:'Paisajes interconectados' | José Quintanilla
URL:https://fadeu-old.urantiacos.cl/agenda/evento/1940-paisajes-interconect
 ados-jose-quintanilla
END:VEVENT
BEGIN:VEVENT
UID:20260419T204859UTC-5636pKvOCx@https://fadeu-old.urantiacos.cl/
DTSTAMP:20260419T204859Z
DESCRIPTION:\nSesi&oacute\;n&nbsp\;Paisaje y Memoria&nbsp\;del&nbsp\;ciclo&
 nbsp\;Proyecciones desde el paisaje&nbsp\;desarrollado en el marco del cur
 so de pregrado&nbsp\;Ciudad y Paisaje III\,&nbsp\;dictado&nbsp\;por las pr
 ofesoras Romy Hecht y Tatiana Carbonell\,&nbsp\;ocasi&oacute\;n en la que 
 se proyectar&aacute\;&nbsp\;fragmentos de la pel&iacute\;cula&nbsp\;Flores
 &nbsp\;de Jorge J&aacute\;come (2017).\n\n\n\nEl paisaje es absolutamente 
 inseparable de la idea de su representaci&oacute\;n\, donde aquello que se
  formula se proyecta desde una cultura\, idea e historia. El ciclo de cine
 &nbsp\;Proyecciones desde el paisaje\,&nbsp\;exhibe una serie de filmes qu
 e proponen puntos de vista particulares para construir el paisaje\, que il
 ustran los conceptos o voluntades tanto de quienes los gestan como de quie
 nes observan dicha proyecci&oacute\;n.&nbsp\;Podr&iacute\;amos pensar ento
 nces que\, en rigor\, en una pel&iacute\;cula lo que vemos no es sino la d
 ecisi&oacute\;n de un encuadre.\nProyecciones desde el paisaje&nbsp\;es un
 a invitaci&oacute\;n abierta a dialogar en un contrapunto desde la mirada 
 del paisaje a la c&aacute\;mara del director.&nbsp\;\nLas proyecciones del
  segundo semestre de 2019 son:\nAgosto 14&nbsp\; Paisaje y Ecolog&iacute\;
 aSurire&nbsp\;&middot\; Bettina Perut\, Iv&aacute\;n Osnovikoff (Taskovski
  Films\, Dirk Manthey Film\, 2015)Agosto 21&nbsp\;Paisaje e Infraestructur
 aDeliverance&nbsp\;&middot\; John Boorman (Warner Bros\,1972)Septiembre 04
  Paisaje y MemoriaFlores&nbsp\;&middot\; Jorge J&aacute\;come (2017)\, fra
 gmentosOctubre 02&nbsp\;El Jard&iacute\;n RealLast Year at Marienbad&nbsp\
 ;&middot\; Alain Resnais (Cineriz\, 1961)Octubre 23&nbsp\;&iquest\;Natural
 eza o Paisaje?Gerry&nbsp\;&middot\; Gus Van Sant (THINKFilm\, 2002)Octubre
  30&nbsp\;Pulmones y Otros Dispositivos VerdesBlow Up&nbsp\;&middot\; Mich
 elangelo Antonioni (MGM\, 1966)Fechas_2&ordm\; semestre 2019 | Mi&eacute\;
 rcoles 13.20 a 15.20 hLugar_Auditorio SurCampus Lo ContadorEl Comendador 1
 936\, ProvidenciaOrganiza_Escuela de Arquitectura UC&nbsp\;NoticiasContact
 o:&nbsp\;redesarq@uc.cl&nbsp\;| +56 2 2354 7747www.arquitectura.uc.cl\n\n&
 nbsp\; https://fadeu-old.urantiacos.cl/agenda/evento/1942-ciclo-proyeccion
 es-desde-el-paisaje-paisaje-y-memoria
DTSTART:20190904T172000Z
DTEND:20190904T192000Z
LOCATION:Auditorio sur\, Campus Lo Contador (El Comendador 1916\, Providenc
 ia\, Región Metropolitana\, Chile)
SUMMARY:Ciclo Proyecciones desde el paisaje | Paisaje y Memoria
URL:https://fadeu-old.urantiacos.cl/agenda/evento/1942-ciclo-proyecciones-d
 esde-el-paisaje-paisaje-y-memoria
END:VEVENT
END:VCALENDAR
