BEGIN:VCALENDAR
VERSION:2.0
PRODID:-//https://fadeu-old.urantiacos.cl///NONSGML kigkonsult.se iCalcreator 2.10.15//
METHOD:PUBLISH
BEGIN:VEVENT
UID:20260423T112020UTC-2299dANc5h@https://fadeu-old.urantiacos.cl/
DTSTAMP:20260423T112020Z
DESCRIPTION:El Centro de Estudios de la Religi&oacute\;n UC junto al Centro
  del Patrimonio Cultural UC y el Mag&iacute\;ster en Patrimonio Cultural d
 e la Pontificia Universidad Cat&oacute\;lica de Chile\, invitan cordialmen
 te a la Charla Magistral 'C&Oacute\;MO CONSTRUIR IGLESIAS TRAS EL CONCILIO
  VATICANO II'\, por Esteban Fern&aacute\;ndez-Cobi&aacute\;n.\n​​Esteban F
 ern&aacute\;ndez-Cobi&aacute\;n es Doctor Arquitecto\, Profesor de la Escu
 ela T&eacute\;cnica Superior de Arquitectura de la Universidade Da Coru&nt
 ilde\;a\, Galicia\, Espa&ntilde\;a (l&iacute\;nea de investigaci&oacute\;n
 : Espacio Sagrado en la Arquitectura Contempor&aacute\;nea).\nEntrada libe
 rada\, posterior inscripci&oacute\;n al correo magisterpatrimonio(at)uc.cl
 \nFecha_Martes 5 de Septiembre de 2017\, 18:30 hrs.\nLugar_Sal&oacute\;n S
 ergio Larra&iacute\;n\, Campus Lo Contador. El Comendador 1916\, Providenc
 ia\nInvitan_MAPCArquitectura UC\n https://fadeu-old.urantiacos.cl/agenda/e
 vento/1243-como-construir-iglesias-tras-el-concilio-vaticano-ii
DTSTART:20170905T213000Z
DTEND:20170905T223000Z
LOCATION:Salón Sergio Larraín\, Campus Lo Contador ()
SUMMARY:Cómo construir iglesias tras el Concilio Vaticano II 
URL:https://fadeu-old.urantiacos.cl/agenda/evento/1243-como-construir-igles
 ias-tras-el-concilio-vaticano-ii
END:VEVENT
BEGIN:VEVENT
UID:20260423T112020UTC-2304bT4UuN@https://fadeu-old.urantiacos.cl/
DTSTAMP:20260423T112020Z
DESCRIPTION:SEMINARIO | CRECIMIENTO URBANO Y MOVILIDAD: Apuntes para una pl
 anificaci&oacute\;n integrada en Santiago y Concepci&oacute\;n\nLos actual
 es patrones de crecimiento urbano de las ciudades chilenas se han compleji
 zado\, generando fuertes impactos en la localizaci&oacute\;n de las activi
 dades y la movilidad de la poblaci&oacute\;n. Lamentablemente\, el di&aacu
 te\;logo entre la regulaci&oacute\;n del crecimiento urbano y las pol&iacu
 te\;ticas de transporte es escaso\, impactando directamente en la calidad 
 de vida de los chilenos.\nEl seminario Crecimiento urbano y movilidad: apu
 ntes para una planificaci&oacute\;n integrada en Santiago y Concepci&oacut
 e\;n invita a la reflexi&oacute\;n conjunta entre investigadores\, acad&ea
 cute\;micos y representantes de instituciones p&uacute\;blicas encargadas 
 de la planificaci&oacute\;n de las ciudades chilenas e instituciones priva
 das\, con el fin de generar un di&aacute\;logo entre los resultados de inv
 estigaciones y discusiones acad&eacute\;micas as&iacute\; como pr&aacute\;
 cticas llevadas a cabo desde los organismos del Estado.\nDescargar program
 a aqu&iacute\;.&nbsp\;\n&nbsp\;\n https://fadeu-old.urantiacos.cl/agenda/e
 vento/1235-seminario-crecimiento-urbano-y-movilidad
DTSTART:20170905T120000Z
DTEND:20170905T160000Z
LOCATION:Auditorio FADEU\, Campus Lo Contador PUC (El Comendador 1916\, Pro
 videncia\, Providencia\, Región Metropolitana\, Chile)
SUMMARY:Seminario Crecimiento Urbano y Movilidad 
URL:https://fadeu-old.urantiacos.cl/agenda/evento/1235-seminario-crecimient
 o-urbano-y-movilidad
END:VEVENT
BEGIN:VEVENT
UID:20260423T112020UTC-2309lLMlnu@https://fadeu-old.urantiacos.cl/
DTSTAMP:20260423T112020Z
DESCRIPTION:El nuevo diplomado\, que utilizar&aacute\; el poderoso y vers&a
 acute\;til Unreal Engine\, se plantea como el paso siguiente desde el mane
 jo de herramientas de visualizaci&oacute\;n 2d en arquitectura y post prod
 ucci&oacute\;n de im&aacute\;genes\, a la producci&oacute\;n de visualizac
 iones espaciales complejas e inmersivas para usos publicitarios: los alumn
 os aprender&aacute\;n a generar modelos listos para el uso en dipositivos 
 de realidad virtual\, con aplicaciones reales en el mundo comercial inmobi
 liario\, pudiendo generar experiencias virtuales de showrooms\, departamen
 tos pilotos\, locales comerciales etc. Creando modelos que podr&aacute\;n 
 ser explorados en movimiento y tiempo real.* descuentos especiales para Su
 scriptores Ediciones ARQ\, Socios AOA\, Afiliados Caja de Compensaci&oacut
 e\;n Los Andes\, Profesionales de Servicios P&uacute\;blicos\, Ex alumnos 
 UC de pregrado\, posgrado y educaci&oacute\;n continua\, Ex alumnos DUOC-U
 C.+\ninformaci&oacute\;n aqu&iacute\;\n.\n&nbsp\; https://fadeu-old.uranti
 acos.cl/agenda/evento/1211-diplomado-en-archviz-simulacion-y-visualizacion
 -de-arquitectura
DTSTART:20170905T030000Z
LOCATION:Campus Lo Contador (El Comendador 1916\, Providencia\, Providencia
 \, Región Metropolitana\, Chile)
SUMMARY:Diplomado en ArchViz: Simulación y Visualización de Arquitectura
URL:https://fadeu-old.urantiacos.cl/agenda/evento/1211-diplomado-en-archviz
 -simulacion-y-visualizacion-de-arquitectura
END:VEVENT
END:VCALENDAR
