BEGIN:VCALENDAR
VERSION:2.0
PRODID:-//https://fadeu-old.urantiacos.cl///NONSGML kigkonsult.se iCalcreator 2.10.15//
METHOD:PUBLISH
BEGIN:VEVENT
UID:20260420T155950UTC-0201ronnFo@https://fadeu-old.urantiacos.cl/
DTSTAMP:20260420T155950Z
DESCRIPTION:&ldquo\;Chilenas de revista: registro y an&aacute\;lisis visual
  de publicaciones femeninas editadas en Chile\, 1900-1970&rdquo\;&nbsp\;es
  una investigaci&oacute\;n que expone un recorrido abierto por las m&aacut
 e\;s diversas revistas editadas en el pa&iacute\;s durante gran parte del 
 siglo XX\, las que han sido analizadas desde sus contenidos\, dise&ntilde\
 ;o gr&aacute\;fico\, aspectos productivos y caracter&iacute\;sticas editor
 iales.\n\nEste proyecto\, busca aportar al rescate y conservaci&oacute\;n 
 del patrimonio visual de las revistas femeninas editadas en Chile\, en tan
 to testimonio del desarrollo cultural del pa&iacute\;s\, considerando la e
 voluci&oacute\;n de la figura social femenina\, y su encuentro con la cult
 ura editorial y los c&oacute\;digos del dise&ntilde\;o gr&aacute\;fico loc
 al.\nLa investigaci&oacute\;n surgi&oacute\; a ra&iacute\;z del proyecto d
 e titulaci&oacute\;n de Paulina Astudillo\, ex-alumna de la Escuela\, y de
 sde inicios del a&ntilde\;o 2017\, ha sido ampliada y profundizada con el 
 apoyo de Fondart Nacional de Dise&ntilde\;o\, y la colaboraci&oacute\;n de
  Camila Correa\, tambi&eacute\;n ex-alumna de la Escuela. Actualmente\, es
 t&aacute\;n desarrollando una publicaci&oacute\;n que integrar&aacute\; el
  material generado y los resultados del proceso de registro y an&aacute\;l
 isis.\n&nbsp\;\n\n https://fadeu-old.urantiacos.cl/agenda/evento/1661-char
 la-mujeres-de-revista
DTSTART:20180905T220000Z
DTEND:20180905T230000Z
LOCATION:Auditorio Fernando Castillo Velasco. Edificio ARQ (El Comendador 1
 936\, Providencia\, Región Metropolitana\, Chile)
SUMMARY:Charla Mujeres de Revista
URL:https://fadeu-old.urantiacos.cl/agenda/evento/1661-charla-mujeres-de-re
 vista
END:VEVENT
BEGIN:VEVENT
UID:20260420T155950UTC-02159z2HGH@https://fadeu-old.urantiacos.cl/
DTSTAMP:20260420T155950Z
DESCRIPTION:En la&nbsp\;Galer&iacute\;a de Artesan&iacute\;a&nbsp\;se inaug
 urar&aacute\; la exposici&oacute\;n&nbsp\;Ofrendas de Fe\, una muestra que
  exhibir&aacute\; los resultados&nbsp\;del proyecto&nbsp\;&ldquo\;Ofrendas
  de Fe: Puesta en valor de la colecci&oacute\;n de artesan&iacute\;as trad
 icionales de la Galer&iacute\;a de la Virgen del Santuario Nacional de Mai
 p&uacute\;&rdquo\;&nbsp\;presentado en la convocatoria 2016 del Concurso d
 e Investigaci&oacute\;n y Creaci&oacute\;n para Acad&eacute\;micos organiz
 ado por la Pastoral y la Vicerrector&iacute\;a de Investigaci&oacute\;n.\n
 En la oportunidad se realizar&aacute\; una breve presentaci&oacute\;n de l
 a investigaci&oacute\;n que indaga en la tradici&oacute\;n de religiosidad
  popular de ofrendar artesan&iacute\;as a la Virgen del Carmen\, las cuale
 s se mantienen en la galer&iacute\;a de la Virgen del santuario y la relac
 i&oacute\;n de este rito con la muestra de Artesan&iacute\;a UC.\nLa prime
 ra feria de artesan&iacute\;a coincide con la consagraci&oacute\;n del tem
 plo votivo de Maip&uacute\;. Los 60 artesanos convocados a la primera feri
 a\, tambi&eacute\;n fueron invitados a llevar regalos a la Virgen del Carm
 en\, para luego quedarse en la feria. Desde 1974 la tradici&oacute\;n de v
 isitar a la patrona de Chile durante la muestra y llevarle ofrendas\, se h
 a mantenido hasta hoy.\n&nbsp\;\nEl proyecto es liderado por las profesora
 s Elena Alfaro\, Gloria Saravia\; la conservadora Vania Cabellos y el estu
 diante Vicente Maffioletti.\nCu&aacute\;ndo: Mi&eacute\;rcoles 5 de septie
 mbre\, 12:00 hrs.\nD&oacute\;nde: Galer&iacute\;a Artesan&iacute\;a\, 2&or
 dm\; piso\, Edificio de Dise&ntilde\;o.\n https://fadeu-old.urantiacos.cl/
 agenda/evento/1654-exposicion-ofrendas-de-fe
DTSTART:20180905T030000Z
LOCATION:Escuela de Diseño\, 2 piso (Los Navegantes 1916\, Providencia\, Re
 gión Metropolitana\, Chile)
SUMMARY:Exposición Ofrendas de Fe
URL:https://fadeu-old.urantiacos.cl/agenda/evento/1654-exposicion-ofrendas-
 de-fe
END:VEVENT
BEGIN:VEVENT
UID:20260420T155950UTC-0229GXkbPZ@https://fadeu-old.urantiacos.cl/
DTSTAMP:20260420T155950Z
DESCRIPTION:&nbsp\;\nJos&eacute\; Allard\, Director de la Escuela de Dise&n
 tilde\;o UC\, presentar&aacute\; la publicaci&oacute\;n que vincula a Dise
 &ntilde\;o UC&nbsp\;con entidades p&uacute\;blicas nacionales e&nbsp\;inte
 rnacionales\, y que reafirma el compromiso de la disciplina con tem&aacute
 \;ticas de&nbsp\;accesibilidad.\nUna publicaci&oacute\;n que refleja la co
 ntribuci&oacute\;n que desde el Dise&ntilde\;o se puede hacer a la&nbsp\;c
 ausa nacional para abrir las &aacute\;reas&nbsp\;silvestres protegidas\, a
 rticuladas en el SNASPE&nbsp\;(Sistema Nacional de &Aacute\;reas Silvestre
 s Protegidas del&nbsp\;Estado) a toda la ciudadan&iacute\;a\, y en forma p
 aralela&nbsp\;contribuir a la formaci&oacute\;n de nuestros estudiantes y&
 nbsp\;futuros profesionales del Dise&ntilde\;o en las din&aacute\;micas y&
 nbsp\;estrategias del dise&ntilde\;o universal.\n&nbsp\;\nPublicaci&oacute
 \;n conjunta de la Escuela de Dise&ntilde\;o UC\, CONAF y el Departamento 
 del Interior EE.UU\n&nbsp\;\n\n&nbsp\; https://fadeu-old.urantiacos.cl/age
 nda/evento/1662-lanzamiento-acceso-universal-a-la-naturaleza
DTSTART:20180905T030000Z
LOCATION:ministerio de relaciones exteriores (Teatinos 180)
SUMMARY:Lanzamiento Acceso Universal a la Naturaleza
URL:https://fadeu-old.urantiacos.cl/agenda/evento/1662-lanzamiento-acceso-u
 niversal-a-la-naturaleza
END:VEVENT
BEGIN:VEVENT
UID:20260420T155950UTC-02407Givve@https://fadeu-old.urantiacos.cl/
DTSTAMP:20260420T155950Z
DESCRIPTION:\nSeminario &ldquo\;La construcci&oacute\;n de la mirada: Am&ea
 cute\;rica Latina\, Fotograf&iacute\;a y Arquitectura moderna'&nbsp\;\nPro
 yecto Semilla 'Iniciaci&oacute\;n a la Arquitectura en Escuela ARQ-UC 1949
 -2017'\nMag&iacute\;ster en Patrimonio Cultural UC\n&nbsp\;\n&nbsp\;\nEl S
 eminario &ldquo\;La construcci&oacute\;n de la mirada&rdquo\; se inserta e
 n el trabajo de colaboraci&oacute\;n que desde 2014 se viene realizando co
 n el grupo de investigaci&oacute\;n &ldquo\;La forma moderna&rdquo\; de la
  Universidad Polit&eacute\;cnica de Catalu&ntilde\;a. Con ellos se ha desa
 rrollado el trabajo &ldquo\;Recuperaci&oacute\;n y Difusi&oacute\;n de los
  Archivos Fotogr&aacute\;ficos de la Arquitectura Moderna para el Desarrol
 lo de un Patrimonio Visual Operativo&rdquo\; coordinado desde la Universit
 at Polit&egrave\;cnica de Catalunya y financiado por el Ministerio de Econ
 om&iacute\;a y Competitividad del Gobierno de Espa&ntilde\;a. Este trabajo
  se desarroll&oacute\; entre los a&ntilde\;os 2014 a 2017 y tiene continui
 dad a trav&eacute\;s de la investigaci&oacute\;n &ldquo\;Arquitectura\, fo
 tograf&iacute\;a y ciudad: geolocalizaci&oacute\;n y estudio comparativo d
 e los registros fotogr&aacute\;ficos de la arquitectura moderna.\n&nbsp\;
 \nPanelista Invitada\n&nbsp\;\nMar&iacute\;a Fernanda Jaua\nEs doctora por
  la Universidad Polit&eacute\;cnica de Catalu&ntilde\;a (Departamento de P
 royectos Arquitect&oacute\;nicos de la Escuela T&eacute\;cnica Superior de
  Arquitectura de Barcelona\, 2013) y arquitecta por la Universidad Central
  de Venezuela (Facultad de Arquitectura y Urbanismo\, 1981).\n&nbsp\;\nPro
 grama\n&nbsp\;\nMi&eacute\;rcoles 05 de septiembre\nCharla 'La construcci&
 oacute\;n de la mirada a trav&eacute\;s de los criterios visuales de la fo
 tograf&iacute\;a como desveladores del sentido formal de la obra de arquit
 ectura.'\nCharla 'Arquitectura\, fotograf&iacute\;a y ciudad: geolocalizac
 i&oacute\;n y estudio comparativo de los registros fotogr&aacute\;ficos de
  la arquitectura moderna'\nParticipan:&nbsp\;Mar&iacute\;a Fernanda Jaua y
  Jos&eacute\; Quintanilla.\n&nbsp\;\nLugar_ Auditorio FADEU\nHorario_ 10.0
 0 - 13.00 hrs.\nEstas charlas est&aacute\;n orientadas a estudiantes de pr
 egrado y postgrado.\n&nbsp\;\n\nJueves 06 de septiembre\nPresentaci&oacute
 \;n del libro: 'Am&eacute\;rica Latina\, Fotograf&iacute\;a y Arquitectura
  Moderna'\nParticipan:&nbsp\;Fernando P&eacute\;rez* y Crist&oacute\;bal M
 olina*\n&nbsp\;\nLugar_&nbsp\;Sal&oacute\;n Sergio Larra&iacute\;n Garc&ia
 cute\;a Moreno\nHorario_ 13.00 hrs.\nEvento abierto a toda la comunidad ac
 ad&eacute\;mica y p&uacute\;blico en general.\n&nbsp\;\n\nViernes 07 de se
 ptiembre\nCharla 'La apreciaci&oacute\;n de las relaciones entre arquitect
 ura Moderna\, fotograf&iacute\;a y ciudad Moderna'\nParticipan:&nbsp\;Mar&
 iacute\;a Fernanda Jaua y Philippe Blanc*\n&nbsp\;\nLugar_ Refectorio\nHor
 ario_ 10.00 - 11.30 hrs.\n\n\n&nbsp\;\nOrganizan_\nEscuela de Arquitectura
  UC\nMag&iacute\;ster en Patrimonio Cultural UC\nUPC Grupo de Investigaci&
 oacute\;n FORM+ (ETSAB\, Barcelona)\nCurso &ldquo\;Introducci&oacute\;n a 
 la Arquitectura&rdquo\;\n&nbsp\;\n*Seminario realizado con el aporte de la
  Vicerrector&iacute\;a de investigaci&oacute\;n de la Pontificia Universid
 ad Cat&oacute\;lica de Chile\n&nbsp\;\n&nbsp\;\n\n&nbsp\;\n\nArquitectura 
 UC\nContacto:&nbsp\;redesarq@uc.cl&nbsp\;| +56 2 2354 7747www.arquitectura
 .uc.cl https://fadeu-old.urantiacos.cl/agenda/evento/1664-seminario-la-con
 struccion-de-la-mirada-america-latina-fotografia-y-arquitectura-moderna
DTSTART:20180905T030000Z
LOCATION:Campus Lo Contador (El Comendador 1916\, Providencia\, Providencia
 \, Región Metropolitana\, Chile)
SUMMARY:Seminario “La construcción de la mirada: América Latina\, Fotografí
 a y Arquitectura moderna'
URL:https://fadeu-old.urantiacos.cl/agenda/evento/1664-seminario-la-constru
 ccion-de-la-mirada-america-latina-fotografia-y-arquitectura-moderna
END:VEVENT
END:VCALENDAR
