BEGIN:VCALENDAR
VERSION:2.0
PRODID:-//https://fadeu-old.urantiacos.cl///NONSGML kigkonsult.se iCalcreator 2.10.15//
METHOD:PUBLISH
BEGIN:VEVENT
UID:20260419T204901UTC-5424SUouVF@https://fadeu-old.urantiacos.cl/
DTSTAMP:20260419T204901Z
DESCRIPTION:El XI Seminario Internacional de Investigaci&oacute\;n en Urban
 ismo (SIIU) es un evento acad&eacute\;mico\, pol&iacute\;tico y cultural\,
  a realizarse en Concepci&oacute\;n y Santiago de Chile\, en septiembre de
  2019\, con el prop&oacute\;sito de generar un espacio de reflexi&oacute\;
 n que permita profundizar en el estudio interdisciplinario del urbanismo e
 n Latinoam&eacute\;rica y en Europa\, a fin de integrar diferentes escalas
  y perspectivas de an&aacute\;lisis que habitualmente se examinan de forma
  aislada en distintos foros.\nSe trata de una actividad de car&aacute\;cte
 r internacional\, en la cual participar&aacute\;n alrededor de 70 acad&eac
 ute\;micos\, investigadores y estudiantes de mag&iacute\;ster y doctorados
  del campo del urbanismo\, presentando ponencias sobre temas tales como an
 &aacute\;lisis y ordenaci&oacute\;n del paisaje\, an&aacute\;lisis y proye
 cto territorial\, teor&iacute\;a e historia de la ciudad\, morfolog&iacute
 \;as urbanas\, regeneraci&oacute\;n urbana - habitacional\, metr&oacute\;p
 olis contempor&aacute\;nea\, ciudad post-crisis\, espacio p&uacute\;blico 
 y proyecto urbano.\nLa iniciativa es un trabajo conjunto entre el Grupo de
  Investigaci&oacute\;n en Urbanismo de la Universitat Polit&egrave\;cnica 
 de Catalunya\; el Instituto de la Vivienda de la Facultad de Arquitectura 
 y Urbanismo de la Universidad de Chile\; la Facultad de Arquitectura\, Urb
 anismo y Geograf&iacute\;a de la Universidad de Concepci&oacute\;n\; y la 
 Escuela de Arquitectura de la Facultad de Arquitectura\, Dise&ntilde\;o y 
 Estudios Urbanos de la Pontificia Universidad Cat&oacute\;lica de Chile.\n
 &nbsp\;\nActividades y fechas:\n\nLunes 2\, martes 3 y viernes 6 de septie
 mbre:&nbsp\;Conferencias SIIU en Facultad de Arquitectura\, Urbanismo y Ge
 ograf&iacute\;a\, Universidad de Concepci&oacute\;n.\n\n\nMi&eacute\;rcole
 s 4 de septiembre: Inauguraci&oacute\;n\, conferencias y desarrollo de mes
 as tem&aacute\;ticas en Facultad de Arquitectura y Urbanismo\, Universidad
  de Chile.\n\n\nJueves 5 de septiembre:&nbsp\;Conferencias\, desarrollo de
  mesas tem&aacute\;ticas y mesa redonda de cierre en Facultad de Arquitect
 ura\, Dise&ntilde\;o y Estudios Urbanos\, Pontificia Universidad Cat&oacut
 e\;lica de Chile.\n\n\nViernes 6 de septiembre:&nbsp\;Conferencias SIIU en
  Facultad de Arquitectura\, Urbanismo y Geograf&iacute\;a\, Universidad de
  Concepci&oacute\;n.&nbsp\;Lanzamiento proyecto Chile-M&eacute\;xico. Facu
 ltad de Arquitectura y Urbanismo\, Universidad de Chile.&nbsp\;Foro SIIU s
 obre la Pol&iacute\;tica Nacional de Desarrollo Urbano en Facultad de Arqu
 itectura\, Dise&ntilde\;o y Estudios Urbanos\, Pontificia Universidad Cat&
 oacute\;lica de Chile.\n\n&nbsp\;Invitados Internacionales que dictar&aacu
 te\;n conferencias:\n&nbsp\;\nJoaqu&iacute\;n Sabat&eacute\;: Es Doctor Ar
 quitecto\, Catedr&aacute\;tico de Urbanismo y profesor e investigador en l
 a Universidad Polit&eacute\;cnica de Catalunya. Es coordinador de programa
 s de Doctorado\, Mag&iacute\;ster y Postgrado en Urbanismo y Territorio. H
 a dictado numerosas conferencias y cursos de Mag&iacute\;ster y Doctorado 
 en universidades europeas\, americanas y asi&aacute\;ticas. Es Premio Naci
 onal de Urbanismo de Espa&ntilde\;a\, Premio de Urbanismo de Catalu&ntilde
 \;a y Premio Especial de Patrimonio de Catalu&ntilde\;a.\n&nbsp\;\nCatheri
 ne Paquette: es Doctora en Urbanismo y Planeamiento Territorial e investig
 adora del Instituto Franc&eacute\;s de Investigaci&oacute\;n para el Desar
 rollo (IRD). Es experta en temas urbano-habitacionales\, pol&iacute\;ticas
  urbanas y habitacional\, regeneraci&oacute\;n urbana\, transporte y movil
 idad\, planificaci&oacute\;n urbana y territorial\, estrategias urbanas an
 te el cambio clim&aacute\;tico y ciudad sostenible. Actualmente es miembro
  del Laboratorio de investigaci&oacute\;n mixto IRD / Aix Marseille Univer
 sit&eacute\;. Ha realizado numerosas consultor&iacute\;as para diversas in
 stituciones internacionales.\n&nbsp\;\nFrancesc Peremiquel: Es Doctor Arqu
 itecto\, Profesor Titular del Departamento de Urbanismo de la Universidad 
 Polit&eacute\;cnica de Catalunya y miembro del Grupo de Investigaci&oacute
 \;n en Urban&iacute\;stica. Ha sido Director de trabajos de transformaci&o
 acute\;n urbana y proyecto urbano residencial. Fue Jefe del Servicio de pl
 aneamiento urban&iacute\;stico del Ayuntamiento de Badalona. Ha publicado 
 numerosos art&iacute\;culos y libros\, en conjunto con diversos autores.\n
 &nbsp\;\nC&eacute\;sar Londo&ntilde\;o: Es Doctor en Urbanismo y docente e
 n la Universidad San Buenaventura\, Cali\, Colombia. Ha sido consultor\, a
 sesor y participante en proyectos urbanos\, de planificaci&oacute\;n terri
 torial y urbana\, estudios regionales y patrimoniales\, en los &aacute\;mb
 itos nacional e internacional. Es director del plan de ordenamiento territ
 orial del Valle del Cauca. Entre sus proyectos se destacan los trabajos de
  reglamentaci&oacute\;n urban&iacute\;stica y planificaci&oacute\;n en Per
 eira y Manizales\, de ordenamiento territorial del Eje Cafetero en Pijao (
 Quind&iacute\;o) y de investigaci&oacute\;n territorial para la delimitaci
 &oacute\;n del Paisaje Cultural Cafetero en Caldas. Es Premio Nacional de 
 Arquitectura Leopoldo Rother.\n&nbsp\;\nInvitado nacional como expositor e
 n Foro:\n&nbsp\;\nSergio Baeriswyl: Es PhD en Urbanismo del Karlsruhe Inst
 itute of Technology de Alemania. Actualmente es presidente del Consejo Nac
 ional de Desarrollo Urbano\, profesor e investigador de la Universidad del
  Biob&iacute\;o y Coordinador General del Observatorio Metropolitano del G
 ran Concepci&oacute\;n. Es Premio Nacional de Urbanismo (2014) por su labo
 r en el Plan de Reconstrucci&oacute\;n Urbana del borde costero en la regi
 &oacute\;n del Biob&iacute\;o.\n&nbsp\;\n&nbsp\;Programa completo aqu&iacu
 te\;.&nbsp\;\n&nbsp\;\n\n&nbsp\;\n https://fadeu-old.urantiacos.cl/agenda/
 evento/1930-xi-seminario-internacional-de-investigacion-en-urbanismo-siiu
DTSTART:20190905T130000Z
DTEND:20190906T230000Z
LOCATION:Campus Lo Contador (El Comendador 1916\, Providencia\, Providencia
 \, Región Metropolitana\, Chile)
SUMMARY:XI Seminario Internacional de Investigación en Urbanismo (SIIU)
URL:https://fadeu-old.urantiacos.cl/agenda/evento/1930-xi-seminario-interna
 cional-de-investigacion-en-urbanismo-siiu
END:VEVENT
END:VCALENDAR
