BEGIN:VCALENDAR
VERSION:2.0
PRODID:-//https://fadeu-old.urantiacos.cl///NONSGML kigkonsult.se iCalcreator 2.10.15//
METHOD:PUBLISH
BEGIN:VEVENT
UID:20260420T161208UTC-4134w3cA0o@https://fadeu-old.urantiacos.cl/
DTSTAMP:20260420T161208Z
DESCRIPTION:Les informamos que el jueves 6 de septiembre\, a las 13:00 hora
 s\, se realizar&aacute\; una nueva versi&oacute\;n de la UC Dialoga\, que 
 tendr&aacute\; como tema central 'La mujer en la UC. Avances y desaf&iacut
 e\;os actuales'.&nbsp\;&nbsp\;Este a&ntilde\;o\, los participantes est&aac
 ute\;n invitados a reflexionar en torno a las siguientes mesas: C&oacute\;
 mo avanzar en equidad\; Chile: el cambio cultural que queremos\; Formaci&o
 acute\;n y preparaci&oacute\;n para el liderazgo\; Perspectivas de desarro
 llo de la Mujer en la UC y Mujeres\, abusos y violencia sexual.\n&nbsp\;\n
 Los esperamos en el Patio de Madera e incluye almuerzo (s&aacute\;ndwich y
  bebida + caf&eacute\;).&nbsp\;\n&nbsp\;\nConfirmar su asistencia al corre
 o electr&oacute\;nico&nbsp\;fadeu@uc.cl\n&nbsp\;\n&nbsp\;\n&nbsp\;\n https
 ://fadeu-old.urantiacos.cl/agenda/evento/1667-la-uc-dialoga
DTSTART:20180906T160000Z
DTEND:20180906T170000Z
LOCATION:Patio de madera\, Campus Lo Contador (El Comendador 1916\, Provide
 ncia\, Providencia\, Región Metropolitana\, Chile)
SUMMARY:La UC Dialoga
URL:https://fadeu-old.urantiacos.cl/agenda/evento/1667-la-uc-dialoga
END:VEVENT
END:VCALENDAR
