BEGIN:VCALENDAR
VERSION:2.0
PRODID:-//https://fadeu-old.urantiacos.cl///NONSGML kigkonsult.se iCalcreator 2.10.15//
METHOD:PUBLISH
BEGIN:VEVENT
UID:20260423T111552UTC-9096j7tTk9@https://fadeu-old.urantiacos.cl/
DTSTAMP:20260423T111552Z
DESCRIPTION:Default\, instalaci&oacute\;n interactiva que explora la activi
 dad cerebral en estado de reposo. Una instalaci&oacute\;n que nace a parti
 r del di&aacute\;logo interdisciplinario entre los acad&eacute\;micos de l
 a Pontificia Universidad Cat&oacute\;lica de Chile\, Tom&aacute\;s Ossand&
 oacute\;n -neurociencias cognitivas- y Manuela Garret&oacute\;n -dise&ntil
 de\;o-.La inauguraci&oacute\;n de la muestra se llevar&aacute\; a cabo en 
 el Museo de Arte Contempor&aacute\;neo del Parque Forestal el pr&oacute\;x
 imo jueves 7 de septiembre a las 19.30 hrs. Ismael Vald&eacute\;s Vergara 
 506. https://fadeu-old.urantiacos.cl/agenda/evento/1249-default-instalacio
 n-interactiva-que-explora-la-actividad-cerebral-en-estado-de-reposo
DTSTART:20170907T223000Z
DTEND:20170907T233000Z
LOCATION:Museo de Arte Contemporáneo  (Ismael Valdés Vergara 506\, Santiago
 \, Región Metropolitana\, Chile)
SUMMARY:Default\, instalación interactiva que explora la actividad cerebral
  en estado de reposo
URL:https://fadeu-old.urantiacos.cl/agenda/evento/1249-default-instalacion-
 interactiva-que-explora-la-actividad-cerebral-en-estado-de-reposo
END:VEVENT
BEGIN:VEVENT
UID:20260423T111552UTC-9101UfuUjx@https://fadeu-old.urantiacos.cl/
DTSTAMP:20260423T111552Z
DESCRIPTION:Camillo Boano es co-director del Urban Laboratory en UCL y dire
 ctor del Master in Building and Urban Design in Development en Bartlett.\n
 Adem&aacute\;s de estas actividades\, Camillo es Director de Comunicaci&oa
 cute\;n en la Development Planning Unit y coordinador del DPU summer lab i
 nitiative en la misma universidad. Sus intereses se enfocan en el desarrol
 lo urbano\, dial&eacute\;cticas socio-espaciales\, transformaciones y dise
 &ntilde\;o urbano\, y reconstrucci&oacute\;n de vivienda y refugios en el 
 sur global. Trabaja actualmente en una serie de investigaciones interconec
 tadas en el sudeste asi&aacute\;tico y medio oriente enfocadas en recalibr
 ar dise&ntilde\;o a trav&eacute\;s del disenso.\nAntes de unirse UCL\, Cam
 illo trabaj&oacute\; en oficinas de arquitectura\, fue investigador adjunt
 o en el Refugee Studies Centre en Oxford\, se uni&oacute\; al World Habita
 t Research Unit en Suiza y la Universidad Noruega de Ciencias y Tecnolog&i
 acute\;a\, donde trabaj&oacute\; en diversas investigaciones y consultor&i
 acute\;as sobre migraciones ambientales forzosas\, urbanismo humanitario\,
  refugios temporales\, reconstrucci&oacute\;n de vivienda post- desastres\
 , y comunicaci&oacute\;n en emergencias.\nCamillo ser&aacute\; parte de la
  serie ARQDOCS y se presentar&aacute\; en conversaci&oacute\;n junto a Elk
 e Schlack\, directora del Mag&iacute\;ster en Proyecto Urbano UC\, Jos&eac
 ute\; Di Gir&oacute\;lamo\, profesor del mismo programa de postgrado y Fra
 ncisco Quintana\, Subdirector acad&eacute\;mico de la Escuela de Arquitect
 ura UC.\nFecha_Jueves 07 de septiembre de 2017\, 18.30 hrs.\nLugar_Auditor
 io Arquitectura\, Campus Lo Contador. El Comendador 1936\, Providencia\nIn
 vitan_Ediciones ARQArquitectura UCMPUR UC\n&nbsp\;\n https://fadeu-old.ura
 ntiacos.cl/agenda/evento/1245-lanzamiento-arqdocs-camillo-boano
DTSTART:20170907T213000Z
DTEND:20170907T223000Z
LOCATION:Auditorio Arquitectura UC\, Campus Lo Contador (el comendador 1916
 \, providencia)
SUMMARY:Lanzamiento ARQDOCS  Camillo Boano
URL:https://fadeu-old.urantiacos.cl/agenda/evento/1245-lanzamiento-arqdocs-
 camillo-boano
END:VEVENT
BEGIN:VEVENT
UID:20260423T111552UTC-9107gWe8tp@https://fadeu-old.urantiacos.cl/
DTSTAMP:20260423T111552Z
DESCRIPTION:&nbsp\;\nEst&aacute\;n cordialmente a la ceremonia de inaugurac
 i&oacute\;n y bendici&oacute\;n del auditorio Fernando Castillo Velasco\, 
 el d&iacute\;a jueves 7 de septiembre a las 17.00 hrs\, en el auditorio de
  la Escuela de Arquitectura del Campus Lo Contador (El Comendador 1936\, 4
 &ordm\; piso\, Providencia).\n https://fadeu-old.urantiacos.cl/agenda/even
 to/1239-inauguracion-auditorio-fernando-castillo-velasco
DTSTART:20170907T200000Z
DTEND:20170907T210000Z
LOCATION:Auditorio Arquitectura UC\, Campus Lo Contador (el comendador 1916
 \, providencia)
SUMMARY:Inauguración Auditorio Fernando Castillo Velasco
URL:https://fadeu-old.urantiacos.cl/agenda/evento/1239-inauguracion-auditor
 io-fernando-castillo-velasco
END:VEVENT
BEGIN:VEVENT
UID:20260423T111552UTC-9110Cr4vsO@https://fadeu-old.urantiacos.cl/
DTSTAMP:20260423T111552Z
DESCRIPTION:CONGRESO | DISE&Ntilde\;O DE SERVICIOS\nLos d&iacute\;as 6\, 7 
 y 8 de septiembre se realizar&aacute\; la tercera versi&oacute\;n del Cong
 reso de Dise&ntilde\;o de Servicios\, llevado a cabo por el grupo Dise&nti
 lde\;o de Servicios de Dise&ntilde\;o UC. Recientemente fue publicada su s
 itio web con la informaci&oacute\;n de este gran evento. +info\nCu&aacute\
 ;ndo: 6\, 7 y 8 de septiembre\nD&oacute\;nde: Centro de Extensi&oacute\;n 
 UC\, Campus Casa Central / Campus Lo Contador\nM&aacute\;s informaci&oacut
 e\;n aqu&iacute\;.\n&nbsp\;\n&nbsp\; https://fadeu-old.urantiacos.cl/agend
 a/evento/1165-congreso-de-diseno-de-servicios
DTSTART:20170906T113000Z
DTEND:20170908T200000Z
LOCATION:Centro de Extensión UC (Av Libertador Bernardo O'Higgins 390\, San
 tiago\, Región Metropolitana\, Chile)
SUMMARY:Congreso de Diseño de Servicios
URL:https://fadeu-old.urantiacos.cl/agenda/evento/1165-congreso-de-diseno-d
 e-servicios
END:VEVENT
END:VCALENDAR
