BEGIN:VCALENDAR
VERSION:2.0
PRODID:-//https://fadeu-old.urantiacos.cl///NONSGML kigkonsult.se iCalcreator 2.10.15//
METHOD:PUBLISH
BEGIN:VEVENT
UID:20260420T155951UTC-2156xfU8VP@https://fadeu-old.urantiacos.cl/
DTSTAMP:20260420T155951Z
DESCRIPTION:\n\n\n\n\n\n\n\n\nEl pr&oacute\;ximo viernes 7 de septiembre a 
 las 19:00 hrs en el auditorio Fernado Castillo Velasco de la Escuela de Ar
 quitectura se realizar&aacute\; el lanzamiento del libro Schapira Eskenazi
  Arquitectos: Obra Cincuentenaria editado por UMWELT y Ediciones ARQ.\nEl 
 lanzamiento contar&aacute\; con una presentaci&oacute\;n de Arturo Scheide
 gger e Ignacio Garc&iacute\;a Partarrieu de UMWELT y comentarios de Alejan
 dra Celed&oacute\;n\, docente de la Escuela de Arquitectura y Juan Pablo A
 lcalde D.\, socio Director inmobiliaria iALTURA.\nEl libro recopila: un te
 xto de Daniel Talesnik que contextualiza el trabajo de la oficina\; una re
 edici&oacute\;n de las memorias de Abraham Schapira\, Cr&oacute\;nica Cinc
 uentenaria\; una selecci&oacute\;n de diez obras\; una selecci&oacute\;n d
 e fotograf&iacute\;as actuales realizadas por Felipe Ugalde y un ensayo so
 bre las posibilidades que ofrece hoy su obra escrito por Ignacio Garc&iacu
 te\;a Partarrieu y Arturo Scheidegger de UMWELT.\nEn ocasi&oacute\;n del l
 anzamiento\, se realizar&aacute\; adem&aacute\;s la donaci&oacute\;n de ar
 chivos originales del Fondo SEA: Fragmentos de una Obra Cincuentenaria al 
 Centro de Informaci&oacute\;n y Documentaci&oacute\;n Sergio Larra&iacute\
 ;n Garc&iacute\;a Moreno. El archivo se presentar&aacute\; por medio de un
 a exposici&oacute\;n que incluye una selecci&oacute\;n de material origina
 l y material nuevo producido para el libro. La exposici&oacute\;n se reali
 zar&aacute\; en el hall del edificio de Arquitectura UC y durar&aacute\; d
 el 7 al 22 de Septiembre.\nSchapira Eskenazi Arquitectos\nEntre 1950 y el 
 2000\, SEA\, SEM o SEL\, se dedic&oacute\; principalmente al dise&ntilde\;
 o\, gesti&oacute\;n inmobiliaria y construcci&oacute\;n de edificios de de
 partamentos. La oficina estuvo compuesta en su n&uacute\;cleo por el matri
 monio de Abraham Schapira y Raquel Eskenazi y por una serie de socios que 
 se fueron sucediendo en el tiempo: Le&oacute\;n Messina (1966 a 1978)\, Ma
 rio Lifschitz (1978 a 1981 y 1984 al 2000) y Pedro Iribarne (1980 a 1983).
 \nSumado a su trabajo profesional\, Schapira fue un actor fundamental en l
 a reforma de orientaci&oacute\;n moderna de la Escuela de Arquitectura de 
 la Universidad de Chile en 1946. Ambos formaron parte del equipo fundador 
 y editorial de la revista AUCA desde sus inicios en 1965 y hasta su cierre
  en 1986. Adem&aacute\;s\, Abraham Schapira actu&oacute\; como funcionario
  del Gobierno de Salvador Allende entre 1970 y 1972 y como encargado de la
  VIEXPO (Exposici&oacute\;n Internacional de Vivienda).\n------\nFecha_Vie
 rnes 07 de Septiembre de 2018\, 19.00 hrs.\nLugar_Auditorio FCV. El Comend
 ador 1936\, Providencia.\nOrganizan_UMWELTEdiciones ARQEscuela de Arquitec
 tura UCFacultad de Arquitectura\, Dise&ntilde\;o y Estudios Urbanos UC\nCe
 ntro de Informaci&oacute\;n y Documentaci&oacute\;n SLGM\n&nbsp\;\n* Venta
  del libro en el interior del Hall&nbsp\;del edificio EARQ UC.\n&nbsp\;\n&
 nbsp\;\n\n\nArquitectura UCContacto:&nbsp\;redesarq@uc.cl&nbsp\;| +56 2 23
 54 7747www.arquitectura.uc.cl\n\n\n\n\n\n\n\n\n\n&nbsp\;\n\n\n\n\n&nbsp\;
 \n https://fadeu-old.urantiacos.cl/agenda/evento/1666-lanzamiento-de-libro
 -y-exposicion-schapira-eskenazi-arquitectos-obra-cincuentenaria
DTSTART:20180907T220000Z
DTEND:20180907T230000Z
LOCATION:Auditorio Fernando Castillo Velasco. Edificio ARQ (El Comendador 1
 936\, Providencia\, Región Metropolitana\, Chile)
SUMMARY:Lanzamiento de libro y exposición 'Schapira Eskenazi Arquitectos: O
 bra Cincuentenaria'
URL:https://fadeu-old.urantiacos.cl/agenda/evento/1666-lanzamiento-de-libro
 -y-exposicion-schapira-eskenazi-arquitectos-obra-cincuentenaria
END:VEVENT
BEGIN:VEVENT
UID:20260420T155951UTC-2186k9IdIE@https://fadeu-old.urantiacos.cl/
DTSTAMP:20260420T155951Z
DESCRIPTION:Mario Ubilla Sanz\, Decano de la Facultad de Arquitectura\, Dis
 e&ntilde\;o y Estudios Urbanos\, Francisco Quintana Osorio\, Director de l
 a Escuela de Arquitectura\, y Francisco Elorrieta\, Director de la Direcci
 &oacute\;n de Pastoral y Cultura Cristiana\, le invitan cordialmente a la 
 ceremonia de premiaci&oacute\;n del Concurso de Arquitectura Capilla Pa&ia
 cute\;s\, organizada por la Incubadora de Proyectos P&uacute\;blicos de la
  Escuela de Arquitectura y la Direcci&oacute\;n de Pastoral y Cultura Cris
 tiana.\nEste acto ser&aacute\; este&nbsp\;viernes 7 de septiembre\, a las 
 17:30 horas\, en el Patio de Los Naranjos del Campus Lo Contador.\nEsperam
 os contar con su participaci&oacute\;n en esta premiaci&oacute\;n\, donde 
 se anunciar&aacute\; el ganador del pr&oacute\;ximo proyecto de Capilla Pa
 &iacute\;s entre 20 participantes y 4 finalistas\, y que ser&aacute\; cons
 truido a lo largo de Chile\, en al menos 50 comunidades. https://fadeu-old
 .urantiacos.cl/agenda/evento/1669-premiacion-concurso-de-arquitectura-capi
 lla-pais-2018
DTSTART:20180907T203000Z
DTEND:20180907T213000Z
LOCATION:Patio Los Naranjos\, Lo Contador (El Comendador 1916\, Providencia
 \, Región Metropolitana\, Chile)
SUMMARY:Premiación Concurso de Arquitectura Capilla País 2018
URL:https://fadeu-old.urantiacos.cl/agenda/evento/1669-premiacion-concurso-
 de-arquitectura-capilla-pais-2018
END:VEVENT
BEGIN:VEVENT
UID:20260420T155951UTC-22006FccAB@https://fadeu-old.urantiacos.cl/
DTSTAMP:20260420T155951Z
DESCRIPTION:\nLuis Eduardo Bresciani Lecannelier y Sebastian Irarrazaval De
 lpiano&nbsp\;son elegidos por el&nbsp\;Comit&eacute\; de B&uacute\;squeda 
 de Director de la Escuela de Arquitectura UC&nbsp\;como &uacute\;nicos dos
  candidatos al puesto. Ambos expondr&aacute\;n sus ideas y visi&oacute\;n 
 para la escuela en los pr&oacute\;ximos a&ntilde\;os y recibir&aacute\;n l
 as preguntas de la comunidad el d&iacute\;a&nbsp\;viernes 07 de septiembre
 &nbsp\;a las 13:00 hrs\, en el Auditorio FADEU. Las elecciones se desarrol
 lar&aacute\;n el d&iacute\;a&nbsp\;lunes&nbsp\;10&nbsp\;de septiembre de 2
 018&nbsp\;entre las 9:00 y las 16:00 hrs.\, en la sala de Consejo de la Fa
 cultad.\n\n\n\nA continuaci&oacute\;n el comunicado de Pilar Garc&iacute\;
 a Alfonso\, miembro del Comit&eacute\;&nbsp\;de B&uacute\;squeda&nbsp\;de 
 Director de la Escuela de Arquitectura&nbsp\;UC.&ndash\;&ndash\;Estimada C
 omunidad de la Escuela de Arquitectura UC\,Habi&eacute\;ndose constituido 
 con fecha 22 de mayo 2018\, el Comit&eacute\; de B&uacute\;squeda de Direc
 tor de la Escuela de Arquitectura\, dio inicio a su tarea\, en que se reun
 i&oacute\; inicialmente en una Asamblea abierta\, luego 15 sesiones de con
  invitados externos y 5 reuniones de trabajo de car&aacute\;cter interno. 
 Consultando a m&aacute\;s de 100 personas miembros de la comunidad de la e
 scuela: acad&eacute\;micos\, estudiantes\, administrativos y miembros de l
 a Facultad\, procurando el car&aacute\;cter m&aacute\;s amplio e informado
  posible a &eacute\;ste proceso\, conforme lo establecen los Estatutos de 
 la Facultad de Arquitectura\, Dise&ntilde\;o y Estudios Urbanos.A la luz d
 e las opiniones recibidas en este proceso en que se nombr&oacute\; a un gr
 upo importante de posibles candidatos\, el Comit&eacute\; invit&oacute\; a
  una entrevista a nueve de ellos\, de los cuales siete aceptaron esta invi
 taci&oacute\;n. Luego de hechas las consultas a cada uno de ellos sobre su
  disponibilidad y de un trabajo de reflexi&oacute\;n interna\, este Comit&
 eacute\; ha culminado el proceso con la nominaci&oacute\;n un&aacute\;nime
  de los profesores:Luis Eduardo Bresciani Lecannelier y Sebasti&aacute\;n 
 Irarrazaval Delpiano\, como &uacute\;nicos dos candidatos.Se informa a la 
 comunidad que se realizar&aacute\; una reuni&oacute\;n abierta con profeso
 res\, estudiantes y administrativos de la Escuela de Arquitectura\, en la 
 que ambos candidatos expondr&aacute\;n sus ideas y visi&oacute\;n para la 
 escuela en los pr&oacute\;ximos a&ntilde\;os y recibir&aacute\;n las pregu
 ntas de la comunidad.Esta reuni&oacute\;n se realizar&aacute\; el d&iacute
 \;a&nbsp\;viernes 07 de septiembre a las 13:00 hrs\, en el Auditorio de la
  Facultad.El&nbsp\;acto eleccionario se realizar&aacute\; el d&iacute\;a l
 unes 10 de septiembre entre las 9:00 y las 16:00 hrs.\, en la sala de Cons
 ejo de la Facultad&nbsp\;y a &eacute\;ste ser&aacute\;n convocados los pro
 fesores con categor&iacute\;a ordinaria de la Escuela de arquitectura.Atte
 .Pilar Garc&iacute\;a AlfonsoProfesor AsistenteMagister en Arquitectura de
 l PaisajeSecretaria AcademicaFacultad de Arquitectura\, Dise&ntilde\;o y E
 studios UrbanosPontificia Universidad Cat&oacute\;lica de Chile&ndash\;&nd
 ash\;Arquitectura UCContacto:&nbsp\;redesarq@uc.cl&nbsp\;| +56 2 2354 7747
 www.arquitectura.uc.cl\n\n&nbsp\; https://fadeu-old.urantiacos.cl/agenda/e
 vento/1665-reunion-ampliada-de-candidatos-a-director-de-earq-uc
DTSTART:20180907T160000Z
DTEND:20180907T170000Z
LOCATION:Auditorio FADEU\, Campus Lo Contador PUC (El Comendador 1916\, Pro
 videncia\, Providencia\, Región Metropolitana\, Chile)
SUMMARY:Reunión Ampliada de candidatos a Director de EARQ UC
URL:https://fadeu-old.urantiacos.cl/agenda/evento/1665-reunion-ampliada-de-
 candidatos-a-director-de-earq-uc
END:VEVENT
END:VCALENDAR
