BEGIN:VCALENDAR
VERSION:2.0
PRODID:-//https://fadeu-old.urantiacos.cl///NONSGML kigkonsult.se iCalcreator 2.10.15//
METHOD:PUBLISH
BEGIN:VEVENT
UID:20260423T111550UTC-9014UUMKdP@https://fadeu-old.urantiacos.cl/
DTSTAMP:20260423T111550Z
DESCRIPTION:Serie Didscusi&oacute\;n y Cr&iacute\;tica de Edificios12 | DET
 ALLES\nEn su 12&deg\; sesi&oacute\;n\, Crist&oacute\;bal Amun&aacute\;tegu
 i y Agustina Labarca se unen al panel regular compuesto por Cristi&aacute\
 ;n Izquierdo\, Max Nu&ntilde\;ez\, Nicol&aacute\;s Stutzin\, Alejandra Cel
 ed&oacute\;n y Francisco D&iacute\;az\, para analizar los Detalles de dos 
 obras ic&oacute\;nicas de Santiago: El palacio de La Moneda y las Torres d
 e Tajamar.\nFecha_Viernes 08 de septiembre de 2017\, 18.30 hrs.\nLugar_Aud
 itorio Arquitectura\, Campus Lo Contador. El Comendador 1936\, Providencia
 \nInvitan_Arquitectura UCMArq UC\n&nbsp\;\n https://fadeu-old.urantiacos.c
 l/agenda/evento/1247-serie-discusion-y-critica-de-edificios
DTSTART:20170908T213000Z
DTEND:20170908T223000Z
LOCATION:Auditorio Arquitectura UC\, Campus Lo Contador (el comendador 1916
 \, providencia)
SUMMARY:Serie Discusión y Crítica de Edificios
URL:https://fadeu-old.urantiacos.cl/agenda/evento/1247-serie-discusion-y-cr
 itica-de-edificios
END:VEVENT
BEGIN:VEVENT
UID:20260423T111550UTC-9019AJUKD8@https://fadeu-old.urantiacos.cl/
DTSTAMP:20260423T111550Z
DESCRIPTION:Los invitamos a participar en The Global Goals Jam 2017\, event
 o mundial organizado por Medialab Amsterdam y el Programa de las Naciones 
 Unidas para el Desarrollo - PNUD\, a realizarse los d&iacute\;as 8\, 9 y 1
 0 de septiembre en Lo Contador.Equipos creativos multidisciplinarios usar&
 aacute\;n un toolkit de metodolog&iacute\;as de dise&ntilde\;o especialmen
 te desarrollado para crear intervenciones a corto plazo sobre las Objetivo
 s de Desarrollo Sustentable #ODS.\nInscripciones hasta el 1 de septiembre 
 aqu&iacute\;:\nUna vez confirmada la inscripci&oacute\;n recibir&aacute\;n
  un correo de confirmaci&oacute\;n con los datos para realizar el pago.\nH
 orarios:Viernes 8: 16:00 a 19:00 hrs.S&aacute\;bado 9: 09:00 a 19:00 hrs.D
 omingo 10: 09:00 a 14:00 hrs.Costo: $30.000 (incluye materiales y alimenta
 ci&oacute\;n).\nOrganizan: MADA UC\, Dise&ntilde\;o UC\, Duoc Design Facto
 ry\, DuocUC\, Socialab.M&aacute\;s informaci&oacute\;n aqu&iacute\;. https
 ://fadeu-old.urantiacos.cl/agenda/evento/1225-the-global-goals-jam-2017
DTSTART:20170908T030000Z
LOCATION:Escuela de Diseño UC\, Campus Lo Contador (El Comendador\, Provide
 ncia\, Providencia\, Región Metropolitana\, Chile)
SUMMARY:THE GLOBAL GOALS JAM 2017
URL:https://fadeu-old.urantiacos.cl/agenda/evento/1225-the-global-goals-jam
 -2017
END:VEVENT
BEGIN:VEVENT
UID:20260423T111550UTC-9023a0Mup3@https://fadeu-old.urantiacos.cl/
DTSTAMP:20260423T111550Z
DESCRIPTION:CONGRESO | DISE&Ntilde\;O DE SERVICIOS\nLos d&iacute\;as 6\, 7 
 y 8 de septiembre se realizar&aacute\; la tercera versi&oacute\;n del Cong
 reso de Dise&ntilde\;o de Servicios\, llevado a cabo por el grupo Dise&nti
 lde\;o de Servicios de Dise&ntilde\;o UC. Recientemente fue publicada su s
 itio web con la informaci&oacute\;n de este gran evento. +info\nCu&aacute\
 ;ndo: 6\, 7 y 8 de septiembre\nD&oacute\;nde: Centro de Extensi&oacute\;n 
 UC\, Campus Casa Central / Campus Lo Contador\nM&aacute\;s informaci&oacut
 e\;n aqu&iacute\;.\n&nbsp\;\n&nbsp\; https://fadeu-old.urantiacos.cl/agend
 a/evento/1165-congreso-de-diseno-de-servicios
DTSTART:20170906T113000Z
DTEND:20170908T200000Z
LOCATION:Centro de Extensión UC (Av Libertador Bernardo O'Higgins 390\, San
 tiago\, Región Metropolitana\, Chile)
SUMMARY:Congreso de Diseño de Servicios
URL:https://fadeu-old.urantiacos.cl/agenda/evento/1165-congreso-de-diseno-d
 e-servicios
END:VEVENT
END:VCALENDAR
