BEGIN:VCALENDAR
VERSION:2.0
PRODID:-//https://fadeu-old.urantiacos.cl///NONSGML kigkonsult.se iCalcreator 2.10.15//
METHOD:PUBLISH
BEGIN:VEVENT
UID:20260420T155950UTC-6113i4EuCS@https://fadeu-old.urantiacos.cl/
DTSTAMP:20260420T155950Z
DESCRIPTION:Dentro de las actividades programadas se encuentran las siguien
 tes visitas guiadas: Estadio Nacional\, a cargo del equipo Stadium\, lider
 ado por Alejandra Celed&oacute\;n\, acad&eacute\;mica de nuestra escuela\;
  Centro de Informaci&oacute\;n y Documentaci&oacute\;n Sergio Larra&iacute
 \;n Garc&iacute\;a Moreno de nuestro campus Lo Contador\; el evento 42 KID
 S por el proyecto MAPOCHO 42K\; y las visitas a proyectos de arquitectos y
  docentes de nuestra escuela: Palacio Pereira de Paula Velasco y Cecilia P
 uga\, Centro de Innovaci&oacute\;n UC Anacleto Angelini de Alejandro Arave
 na y Edificio de la ONEMI de Teodoro Fern&aacute\;ndez.\n&nbsp\;\n\n&nbsp\
 ;\nOH! Stgo abrir&aacute\; m&aacute\;s de 90 espacios en&nbsp\;30 comunas 
 en su 2&deg\; versi&oacute\;n.\n&nbsp\;\n&nbsp\;\n-Este evento urbano grat
 uito que invita a la ciudadan&iacute\;a a recorrer lo mejor de la arquitec
 tura\, ingenier&iacute\;a y espacios verdes del Santiago contempor&aacute\
 ;neo se realizar&aacute\; el pr&oacute\;ximo s&aacute\;bado 8 y domingo 9 
 de septiembre.\n&nbsp\;\n&nbsp\;\n-OH! Stgo forma parte de la red internac
 ional Open House World Wide y es organizado por las Fundaciones Aldea y Pr
 oCultura\, con el financiamiento del Ministerio de las Culturas\, las Arte
 s y el Patrimonio a trav&eacute\;s del Fondart Nacional convocatoria 2018.
  Cuenta tambi&eacute\;n con el apoyo del Instituto Nacional de la Juventud
 \, el British Council\,&nbsp\;Fundaci&oacute\;n Imagen de Chile\, Angloame
 rican y la Corporaci&oacute\;n Cultural C&aacute\;mara Chilena de la Const
 rucci&oacute\;n.\n&nbsp\;\n&nbsp\;\nPor segundo a&ntilde\;o consecutivo OH
 ! Stgo (Open House Santiago) invita a redescubrir nuestra ciudad\, visitan
 do espacios de alto valor arquitect&oacute\;nico\, ingenieril\, medio ambi
 ental\, urban&iacute\;stico\, social o cultural. El pr&oacute\;ximo s&aacu
 te\;bado 8 y domingo 9 de septiembre\, m&aacute\;s de 90 espacios de 30 co
 munas abrir&aacute\;n sus puertas de forma gratuita para invitar a aprende
 r\, discutir e involucrarse con la infraestructura urbana del Gran Santiag
 o.\n&nbsp\;\n&nbsp\;\nLa primera versi&oacute\;n de OH! Stgo &minus\;reali
 zada en 2017&minus\; acogi&oacute\; a cerca de 16 mil visitantes. &ldquo\;
 El 44\,7% de esos visitantes recorri&oacute\; una comuna nueva\, que no co
 noc&iacute\;a de Santiago. Esa posibilidad fue para muchos una experiencia
  transformadora&rdquo\;\, Soledad D&iacute\;az de la Fuente\, Secretaria E
 jecutiva de Fundaci&oacute\;n Aldea\, quien agrega que &ldquo\;adem&aacute
 \;s\, se valor&oacute\; la posibilidad de poner en discusi&oacute\;n de cu
 &aacute\;les son los temas y problemas urbanos del d&iacute\;a a d&iacute\
 ;a\, apreciar el trabajo que se hace para mejorar la ciudad y empoderarse 
 con ser parte de ese desarrollo&rdquo\;.\n&nbsp\;\n&nbsp\;\nLa versi&oacut
 e\;n 2018 busca mostrar que la urbe est&aacute\; en permanente construcci&
 oacute\;n y que esos procesos no involucran s&oacute\;lo a sus autores y t
 omadores de desiciones sino que a todos sus habitantes. &ldquo\;La ciudad\
 , su infraestructura\, es parte de la identidad de las personas y\, por en
 de\, de las comunidades. OH! Stgo\, a trav&eacute\;s de la experiencia dir
 ecta con espacios de diversa &iacute\;ndole\, que abren sus puertas en est
 e evento\, permite a los visitantes conocer m&aacute\;s y apropiarse de la
  ciudad\, y con ello creemos que aportamos a que los mismos ciudadanos cui
 den su territorio y sean part&iacute\;cipes de c&oacute\;mo habitamos y co
 nstruimos nuestra ciudad&rdquo\;\, comenta Alberto Larra&iacute\;n\, direc
 tor ejecutivo de Fundaci&oacute\;n ProCultura.\n&nbsp\;\n&nbsp\;\nAs&iacut
 e\;\, el segundo fin de semana de septiembre\, los visitantes podr&aacute\
 ;n descubrir sitios que no conocen\, por ejemplo\, la Quinta Michita\, el 
 Edificio Consorcio\, la Capilla del Esp&iacute\;ritu Santo o el Centro de 
 Distribuci&oacute\;n Arauco (ex Centro Maderas)\; revisitar lugares que se
  han actualizado para los requerimientos del siglo XXI\, como el Palacio P
 ereira que est&aacute\; siendo restaurado para transformarse en el Ministe
 rio de las Culturas las Artes y el Patrimonio y el IF Blanco y Fundaci&oac
 ute\;n Mustakis\; o ver c&oacute\;mo se ejecutan los trabajos de una obra 
 en construcci&oacute\;n in situ\, como la L&iacute\;nea 3 del Metro\, la a
 mpliaci&oacute\;n del Aeropuerto o la Bas&iacute\;lica del Salvador.\n&nbs
 p\;\n&nbsp\;\nAdem&aacute\;s\, organizaciones como las Ciclistas Sueltas o
  el grupo motor Amigos del Cerro Chena\, realizar&aacute\;n actividades en
  espacios p&uacute\;blicos. Tambi&eacute\;n habr&aacute\; lugares especial
 es para tener experiencias de aprendizaje\, como el Parque Explorador Quil
 apil&uacute\;n de Colina o el Complejo Andr&oacute\;nico Luksic &minus\;qu
 e asemeja una grieta minera&minus\;\, el Dictuc UC &minus\;donde se podr&a
 acute\; conocer de primera fuente como el desarrollo tecnol&oacute\;gico r
 esuelve problemas cotidianos&minus\; o el nuevo edificio de la Onemi\, que
  muestra c&oacute\;mo se responde a las emergencias a partir de la arquite
 ctura\, la ingenier&iacute\;a y la tecnolog&iacute\;a. Tambi&eacute\;n se 
 podr&aacute\;n visitar espacios de alto impacto ambiental como la Planta F
 otovoltaica Quilapil&uacute\;n de Colina\, de contemplaci&oacute\;n como e
 l Templo Bah&aacute\;'&iacute\;\, o sitios de memoria como el Museo de la 
 Memoria.\n&nbsp\;\n&nbsp\;\nTodos los lugares contar&aacute\;n con recorri
 dos libres o guiados\, muchos de ellos liderados por sus autores &minus\;d
 estacados profesionales como Teodoro Fern&aacute\;ndez\, Jos&eacute\; Cruz
  Ovalle\, Alejandra Celed&oacute\;n o Enrique Brown&minus\; o por personas
  vinculadas a ellos\, como la dirigenta social Doris Gonz&aacute\;lez de U
 kamau o H&eacute\;ctor Noguera de Teatro Camino. Tambi&eacute\;n recibir&a
 acute\;n al p&uacute\;blico cerca de 200 voluntarios\, que fueron capacita
 dos para el evento gracias al apoyo del Instituto Nacional de la Juventud.
  Todas las actividades son gratuitas\; algunas de libre acceso y otras que
  tienen cupos limitados y requieren inscripci&oacute\;n previa\, lo que se
  har&aacute\; a trav&eacute\;s de las redes sociales de OH! Stgo.\n&nbsp\;
 \n&nbsp\;\nGracias al apoyo del British Council\, OH! Stgo tiene como invi
 tada internacional a Jane Hall\, que viene a Chile en representaci&oacute\
 ;n del colectivo de arquitectura Assemble &minus\;ganadores del Premio Tur
 ner del Reino Unido &minus\;\, quien participar&aacute\; de la charla inau
 gural y en diversos recorridos durante el fin de semana.\n&nbsp\;\n&nbsp\;
 \nOH! Stgo es parte de la red Open House World Wide. Open House se realiza
  hace 26 a&ntilde\;os en m&aacute\;s de 40 ciudades del mundo y naci&oacut
 e\; en la Fundaci&oacute\;n Open City de Londres\, pionera en el desarroll
 o de programas de educaci&oacute\;n\, arquitectura y urbanismo para todos.
  En Chile es organizado por las Fundaciones Aldea y ProCultura y esta segu
 nda versi&oacute\;n fue financiada por el Ministerio de las Culturas\, las
  Artes y el Patrimonio a trav&eacute\;s del Fondart Nacional en la convoca
 toria 2018.\n&nbsp\;\n&nbsp\;\nGU&Iacute\;A OH! Stgo 2018&nbsp\;link\n&nbs
 p\;\nVIDEO spot promocional OH!Stgo 2018\n&nbsp\;\n\n&nbsp\; https://fadeu
 -old.urantiacos.cl/agenda/evento/1668-oh-santiago
DTSTART:20180908T030000Z
LOCATION:Campus Lo Contador (El Comendador 1916\, Providencia\, Providencia
 \, Región Metropolitana\, Chile)
SUMMARY:OH! Santiago
URL:https://fadeu-old.urantiacos.cl/agenda/evento/1668-oh-santiago
END:VEVENT
END:VCALENDAR
