BEGIN:VCALENDAR
VERSION:2.0
PRODID:-//https://fadeu-old.urantiacos.cl///NONSGML kigkonsult.se iCalcreator 2.10.15//
METHOD:PUBLISH
BEGIN:VEVENT
UID:20260420T160037UTC-6075KCODIf@https://fadeu-old.urantiacos.cl/
DTSTAMP:20260420T160037Z
DESCRIPTION:El Lugar y su Memoria /&nbsp\;elton_l&eacute\;niz\nUn v&iacute\
 ;nculo especial conecta la intervenci&oacute\;n para un canal de televisi&
 oacute\;n que dise&ntilde\;amos en la ex f&aacute\;brica textil Machasa y 
 las variadas reformas en distintas tipolog&iacute\;as residenciales que nu
 estra oficina ha desarrollado en el barrio de Vitacura. Ambos escenarios p
 ueden ser entendidos como preexistencias\, una infraestructura industrial 
 en desuso y un barrio residencial en constante transformaci&oacute\;n.\nEn
 tre los a&ntilde\;os 1940 y 1960 el empresario Juan Yarur Lolas desarrolla
  Machasa una de las m&aacute\;s importantes textiler&iacute\;as de Sudam&e
 acute\;rica. El mismo empresario en el mismo per&iacute\;odo\, construye s
 u casa en el coraz&oacute\;n de Vitacura hoy transformada en un museo.\nEs
 ta conexi&oacute\;n casual nos hace reflexionar sobre la arquitectura y su
  capacidad de colonizar lugares en dos escalas muy distintas\; la industri
 al y la residencial.Hoy estas construcciones tienen otra oportunidad. Son 
 preexistencias y memoria del pasado con informaci&oacute\;n que puede suge
 rirnos un futuro.\nBiograf&iacute\;a\nDesde el a&ntilde\;o 1993\, la&nbsp\
 ;oficina elton_l&eacute\;niz&nbsp\;ha desarrollado una amplia gama de enca
 rgos de manera independiente\, con una variada lista de colaboradores asoc
 iados entre los que se incluyen artistas\, arquitectos y dise&ntilde\;ador
 es. Esta diversidad y versatilidad en la capacidad de dise&ntilde\;o sobre
  diferentes escalas y temas se ha desarrollado como una de las principales
  caracter&iacute\;sticas de este estudio.\nDentro de los proyectos desarro
 llados se encuentran objetos y mobiliario\, montaje de exposiciones\, espa
 cios comerciales\, interiorismo\, vivienda unifamiliar y colectiva\, galer
 &iacute\;as de arte\, edificios de viviendas y oficinas\, desarrollo urban
 o\, espacios para la educaci&oacute\;n y la cultura.\nLos socios son los a
 rquitectos Mirene Elton y Mauricio L&eacute\;niz ambos egresados de la PUC
 . Han realizado numerosas presentaciones y conferencias en Chile y el extr
 anjero. Han sido porfesores invitados de varias universidades chilenas. Su
  obra ha tenido amplia difusi&oacute\;n tanto en Chile como en el extranje
 ro recibiendo importantes distinciones.\nDentro de sus obras m&aacute\;s r
 elevantes y reconocidas est&aacute\;n\, la casa Pirihueico\, la casa Conce
 pci&oacute\;n\, la Galer&iacute\;a Patricia Ready\, el canal de televisi&o
 acute\;n CHV en Machasa\, el Centro Cultural Arauco \, el proyecto Parque 
 Educativo Likandes.\nCicloLa Charla se enmarca dentro de un ciclo de 4 Cha
 rlas Organizada por el Taller de Ejercitaci&oacute\;n 'Operaciones e Inter
 venciones&rdquo\; dirigido por Crist&oacute\;bal Tirado y Alberto Moletto.
 \nFecha_\nMi&eacute\;rcoles 12 de septiembre de 2018\, 19 hrs.\n&nbsp\;\nL
 ugar_\nAuditorio FCV\, campus Lo Contador. El Comendador 1936\, Providenci
 a\n&nbsp\;\nOrganizan_\nEscuela de Arquitectura UC\n\nNoticiasContacto:&nb
 sp\;redesarq@uc.cl&nbsp\;| +56 2 2354 7747www.arquitectura.uc.cl https://f
 adeu-old.urantiacos.cl/agenda/evento/1673-elton-leniz-ciclo-sobre-pre-exis
 tencias-el-lugar-y-su-memoria
DTSTART:20180912T220000Z
DTEND:20180912T230000Z
LOCATION:Auditorio Fernando Castillo Velasco. Edificio ARQ (El Comendador 1
 936\, Providencia\, Región Metropolitana\, Chile)
SUMMARY: ELTON + LÉNIZ / ciclo 'Sobre Pre-existencias: El lugar y su memori
 a’
URL:https://fadeu-old.urantiacos.cl/agenda/evento/1673-elton-leniz-ciclo-so
 bre-pre-existencias-el-lugar-y-su-memoria
END:VEVENT
END:VCALENDAR
