BEGIN:VCALENDAR
VERSION:2.0
PRODID:-//https://fadeu-old.urantiacos.cl///NONSGML kigkonsult.se iCalcreator 2.10.15//
METHOD:PUBLISH
BEGIN:VEVENT
UID:20260420T160007UTC-2630gS3vAs@https://fadeu-old.urantiacos.cl/
DTSTAMP:20260420T160007Z
DESCRIPTION:Urtzi Grau disctar&aacute\; la conferencia&nbsp\;'Documentos P&
 uacute\;blicos' en el marco del workshop que dirigir&aacute\; en el progra
 ma de Mag&iacute\;ster en Proyecto Urbano UC (MPUR): 'Sanhattan is almost 
 all right'. El evento se llevar&aacute\; a cabo el jueves 13 de septiembre
  en el auditorio FCV del edificio de Arquitectura UC y ser&aacute\; abiert
 o a p&uacute\;blico general.\nUrtzi Grau\nArquitecto fundador de Fake Indu
 stries Architectural Agonism (FAAA)\, junto a su socia Cristina Goberna\, 
 y director del Master de Arquitectura Avanzada en la University of Technol
 ogy Sydney (UTS).\nUrtzi se gradu&oacute\; de la Escuela de Arquitectura d
 e Barcelona en el a&ntilde\;o 2000 y obtuvo en 2004&nbsp\;el t&iacute\;tul
 o de Master in Advanced Architectural Design en Columbia University (GSAPP
 ).&nbsp\;Actualmente est&aacute\; terminando su doctorado en la escuela de
  Arquitectura de la Universidad de Princeton sobre la renovaci&oacute\;n u
 rbana de la d&eacute\;cada de 1970 en Barcelona.\nUrtzi ha impartido clase
 s en Cooper Union\, la Universidad de Princeton\, la Universidad de Columb
 ia y la Universidad de Cornell. Su trabajo y sus escritos han sido publica
 dos en diferentes revistas internacionales como Architect's Newspaper\, AV
 \, Bawelt\, Domus\, Curb\, Plot\, Praxis\, Spam\, Volume y White Zinfadel.
  Ha expuesto en la Bienal de Buenos Aires\, P! Galer&iacute\;a\, Bienal de
  Shenzhen\, escaparate\, la Bienal de Venecia y 0047.\nFecha_\nJueves 13 d
 e septiembre de 2018\, 19 hrs.\n&nbsp\;\nLugar_\nAuditorio FCV\, campus Lo
  Contador. El Comendador 1936\, Providencia\n&nbsp\;\nOrganizan_\nMag&iacu
 te\;ster en Proyecto Urbano UC\n\nNoticiasContacto:&nbsp\;redesarq@uc.cl&n
 bsp\;| +56 2 2354 7747www.arquitectura.uc.cl https://fadeu-old.urantiacos.
 cl/agenda/evento/1671-conferencia-urtzi-grau-fake-industries-mpur
DTSTART:20180913T220000Z
DTEND:20180913T230000Z
LOCATION:Auditorio Fernando Castillo Velasco. Edificio ARQ (El Comendador 1
 936\, Providencia\, Región Metropolitana\, Chile)
SUMMARY:Conferencia Urtzi Grau: FAKE Industries / MPUR
URL:https://fadeu-old.urantiacos.cl/agenda/evento/1671-conferencia-urtzi-gr
 au-fake-industries-mpur
END:VEVENT
BEGIN:VEVENT
UID:20260420T160007UTC-2637ZV92ab@https://fadeu-old.urantiacos.cl/
DTSTAMP:20260420T160007Z
DESCRIPTION:Como ya es tradici&oacute\;n\, el&nbsp\;pr&oacute\;ximo 13 de s
 eptiembre&nbsp\;se celebrar&aacute\; el 18 en Lo Contador. Para la ocasi&o
 acute\;n\, la Escuela de Dise&ntilde\;o ha reeditado su&nbsp\;Fonda La Con
 tadora\, en la que se desarrollar&aacute\;n actividades tradicionales como
  carrera en saco\, rayuela y emboque\, entre otros. Adem&aacute\;s\, de la
  tradicional competencia de cueca.\nInvitamos&nbsp\;a todos los profesores
 \, administrativos y alumnos a sumarse a esta&nbsp\;celebraci&oacute\;n de
 &nbsp\;fiestas patrias en nuestra facultad.\n&nbsp\;\n https://fadeu-old.u
 rantiacos.cl/agenda/evento/1656-fonda-la-contadora
DTSTART:20180913T160000Z
DTEND:20180913T170000Z
LOCATION:Patio de madera\, Campus Lo Contador (El Comendador 1916\, Provide
 ncia\, Providencia\, Región Metropolitana\, Chile)
SUMMARY:Fonda La Contadora
URL:https://fadeu-old.urantiacos.cl/agenda/evento/1656-fonda-la-contadora
END:VEVENT
END:VCALENDAR
