BEGIN:VCALENDAR
VERSION:2.0
PRODID:-//https://fadeu-old.urantiacos.cl///NONSGML kigkonsult.se iCalcreator 2.10.15//
METHOD:PUBLISH
BEGIN:VEVENT
UID:20260423T111645UTC-0414uZcLhm@https://fadeu-old.urantiacos.cl/
DTSTAMP:20260423T111645Z
DESCRIPTION:En este Diplomado te ver&aacute\;s enfrentado a casos de inter&
 eacute\;s patrimonial en sesiones de discusi&oacute\;n y an&aacute\;lisis 
 donde el trabajo en equipo ser&aacute\; un componente importante en el des
 arrollo de los ejercicios pr&aacute\;cticos. Para esta edici&oacute\;n tra
 bajaremos en conjunto con la Municipalidad de Monte Patria\, espec&iacute\
 ;ficamente en Rapel IV Regi&oacute\;n\, en el marco del convenio que tiene
  la Pontificia Universidad Cat&oacute\;lica y Fundaci&oacute\;n ProCultura
  para implementar un plan de revitalizaci&oacute\;n y puesta en valor en d
 icha localidad. En el esp&iacute\;ritu de vincular la tradici&oacute\;n co
 n estrategias de innovaci&oacute\;n\, este semestre incorporamos adem&aacu
 te\;s la ense&ntilde\;anza sobre las propiedades t&eacute\;rmicas de la ti
 erra como material de construcci&oacute\;n a trav&eacute\;s del an&aacute\
 ;lisis en base al software DesignBuilder.* Descuentos especiales para Susc
 riptores Ediciones ARQ\, Socios AOA\, Afiliados Caja de Compensaci&oacute\
 ;n Los Andes\, Profesionales de Servicios P&uacute\;blicos\, Ex alumnos UC
  de pregrado\, posgrado y educaci&oacute\;n continua\, Ex alumnos DUOC-UC.
 \n+ informaci&oacute\;n aqu&iacute\;.&nbsp\; https://fadeu-old.urantiacos.
 cl/agenda/evento/1209-diplomado-en-construccion-en-tierra-tradicion-e-inno
 vacion
DTSTART:20170914T030000Z
LOCATION:Campus Lo Contador (El Comendador 1916\, Providencia\, Providencia
 \, Región Metropolitana\, Chile)
SUMMARY:Diplomado en Construcción En Tierra: Tradición e Innovación
URL:https://fadeu-old.urantiacos.cl/agenda/evento/1209-diplomado-en-constru
 ccion-en-tierra-tradicion-e-innovacion
END:VEVENT
END:VCALENDAR
