BEGIN:VCALENDAR
VERSION:2.0
PRODID:-//https://fadeu-old.urantiacos.cl///NONSGML kigkonsult.se iCalcreator 2.10.15//
METHOD:PUBLISH
BEGIN:VEVENT
UID:20260423T111644UTC-7679FuuH2C@https://fadeu-old.urantiacos.cl/
DTSTAMP:20260423T111644Z
DESCRIPTION:Invitamos muy cordialmente a la tradicional Fonda Lo Contador\,
  titulada 'Lo Cebolla' y que este a&ntilde\;o se realizar&aacute\; el vier
 nes 15 de septiembre desde las 11.30hrs\, en el patio de madera.\nEn esta 
 oportunidad la fonda ha sido organizada por la Escuela de Arquitectura\, c
 ontar&aacute\; con la presentaci&oacute\;n del grupo Folkl&oacute\;rico Lo
  Contador y&nbsp\;Benjamin Walker\,&nbsp\;&nbsp\;adem&aacute\;s de anticuc
 hos\, empanadas\, cuecas y sorpresas!\nEsperamos a todos los profesores\, 
 administrativos y alumnos a sumarse a esta tradicional fiesta.\n https://f
 adeu-old.urantiacos.cl/agenda/evento/1267-fonda-lo-cebolla
DTSTART:20170915T140000Z
DTEND:20170915T160000Z
LOCATION:Campus Lo Contador (El Comendador 1916\, Providencia\, Providencia
 \, Región Metropolitana\, Chile)
SUMMARY:Fonda Lo Cebolla
URL:https://fadeu-old.urantiacos.cl/agenda/evento/1267-fonda-lo-cebolla
END:VEVENT
END:VCALENDAR
