BEGIN:VCALENDAR
VERSION:2.0
PRODID:-//https://fadeu-old.urantiacos.cl///NONSGML kigkonsult.se iCalcreator 2.10.15//
METHOD:PUBLISH
BEGIN:VEVENT
UID:20260419T204859UTC-0242bmLSeC@https://fadeu-old.urantiacos.cl/
DTSTAMP:20260419T204859Z
DESCRIPTION:Seminario 'Construcci&oacute\;n Bioclim&aacute\;tica en Madera'
 ARQ318 Workshop 'Design/Build'\n&nbsp\;\nPresentaci&oacute\;n de los invit
 ados al workshop &ldquo\;Construcci&oacute\;n bioclim&aacute\;tica en made
 ra: Dise&ntilde\;o y prefabricaci&oacute\;n&rdquo\; organizado en el marco
  del curso 'Design Build' dictado por los profesores&nbsp\;Cristi&aacute\;
 n Schmitt y&nbsp\;Diego Arroyo\, el que analiza los procesos edificatorios
  de sistemas prefabricados en madera y construcci&oacute\;n seca\, por med
 io del desarrollo de una obra construida a trav&eacute\;s de la metodolog&
 iacute\;a &ldquo\;Design/Build&rdquo\;.\n&nbsp\;\nCoordinadores_\nCristi&a
 acute\;n Schmitt |&nbsp\;Profesor de la Escuela de Arquitectura UCDiego Ar
 royo |&nbsp\;Profesor de la Escuela de Arquitectura UCCristi&aacute\;n Lar
 ra&iacute\;n |&nbsp\;Profesor de la Escuela de Arquitectura USS\n&nbsp\;\n
 Programa_\n&nbsp\;\n8.30 h | Presentaci&oacute\;n\n&nbsp\;\n8.45 h | &ldqu
 o\;Fabricaci&oacute\;n digital y nuevos sistemas en madera&rdquo\;\nDaniel
  Ortiz |&nbsp\;Coordinador Nacional FabARQ\, USS\n&nbsp\;\n9.05 h | &ldquo
 \;Dise&ntilde\;o bioclim&aacute\;tico en climas extremos&rdquo\;\nLeonardo
  Codina |&nbsp\;Universidad de Congreso\, Mendoza\n&nbsp\;\n9.30 h | 'Wood
  Program\, Aalto University: Un Paradero para la Estaci&oacute\;n de Trene
 s de Koria\, Finlandia'\nGerardo Armanet |&nbsp\;Aalto University\n&nbsp\;
 \n10.00 h | &ldquo\;IEE &iacute\;ndice de eficiencia estructural en edific
 aciones de madera&rdquo\;\nMart&iacute\;n Hurtado |&nbsp\;Arquitecto y pro
 fesor EARQ\, UC\n&nbsp\;\n10. 45 h Caf&eacute\;\n&nbsp\;\n11.15 h | &ldquo
 \;Dise&ntilde\;o en madera: Forma y m&eacute\;todo&rdquo\;\nMarcelo Alflal
 o |&nbsp\;Funda&ccedil\;&atilde\;o Armando Alvares Penteado\, Brasil\n&nbs
 p\;\n12.00 h | &ldquo\;Timber in Architecture: The works of Clare Design &
 rdquo\; (charla en ingl&eacute\;s)\nLindsay + Kerry Clare |&nbsp\;Universi
 ty of Newcastle\, NSW\n&nbsp\;\n12.45 h | Cierre\n&nbsp\;\n&nbsp\;\nFecha_
 \nLunes 23 de septiembre de 2019\, 8.30 a 12.45 h\n&nbsp\;\nLugar_Auditori
 o FCVCampus Lo ContadorEl Comendador 1936\, Providencia\n&nbsp\;\nOrganiza
 _\nMag&iacute\;ster en Arquitectura Sustentable y Energ&iacute\;a\nEscuela
  de Arquitectura UC\nEscuela de Construcci&oacute\;n Civil UC\nCentro de D
 esarrollo Urbano Sustentable CEDEUS\n&nbsp\;\n\n&nbsp\;\nNoticiasContacto:
 &nbsp\;redesarq@uc.cl&nbsp\;| +56 2 2354 7747www.arquitectura.uc.cl https:
 //fadeu-old.urantiacos.cl/agenda/evento/1948-seminario-construccion-biocli
 matica-en-madera-mase-cedeus-eccuc
DTSTART:20190923T113000Z
DTEND:20190923T154500Z
LOCATION:Auditorio FADEU\, Campus Lo Contador PUC (El Comendador 1916\, Pro
 videncia\, Providencia\, Región Metropolitana\, Chile)
SUMMARY:Seminario 'Construcción bioclimática en madera' | MASE + CEDEUS + E
 CCUC
URL:https://fadeu-old.urantiacos.cl/agenda/evento/1948-seminario-construcci
 on-bioclimatica-en-madera-mase-cedeus-eccuc
END:VEVENT
BEGIN:VEVENT
UID:20260419T204859UTC-0250DNgnJ1@https://fadeu-old.urantiacos.cl/
DTSTAMP:20260419T204859Z
DESCRIPTION:El&nbsp\;Festival de Dise&ntilde\;o de Servicios&nbsp\;nace com
 o respuesta a la necesidad de empresas y&nbsp\; organizaciones de diferenc
 iar y hacer sostenibles sus ofertas de valor\, al dise&ntilde\;ar y gestio
 nar experiencias significativas. Un espacio de encuentro de la industria q
 ue busca facilitar el abordaje del Dise&ntilde\;o de Servicio como fuente 
 estrat&eacute\;gica de generaci&oacute\;n de nuevo valor\, en organizacion
 es p&uacute\;blicas\, privadas\, acad&eacute\;micas y civiles.\nTISDDDuran
 te los primeros 3 d&iacute\;as del encuentro se desarrollar&aacute\; el TI
 SDD &ldquo\;This is Service Design Doing&rdquo\;\, en el cual los particip
 antes podr&aacute\;n obtener la Certificaci&oacute\;n en Dise&ntilde\;o de
  Servicio junto a Marc Stickdorn y Adam Lawrence.\nDISEEn paralelo\, del 2
 5 al 27 de septiembre\, se dar&aacute\; inicio al DISE\, un programa dise&
 ntilde\;ado para inspirar y aplicar el dise&ntilde\;o de servicio de forma
  &aacute\;gil y pr&aacute\;ctica. Durante esos 3 d&iacute\;as se podr&aacu
 te\; asistir a charlas\, presentaci&oacute\;n de casos\, talleres\, panele
 s moderados y el ambiente que propicia las mejores conversaciones.\nDel&nb
 sp\;23 al 27&nbsp\;de septiembre\, en Las Majadas de Pirque&nbsp\;Festival
  de Dise&ntilde\;o de Servicios&nbsp\;(DISE) en Chile.\n https://fadeu-old
 .urantiacos.cl/agenda/evento/1951-festival-diseno-de-servicios-2019
DTSTART:20190923T030000Z
LOCATION:Las Majadas de Pirque (Jose Julio Nieto s/n\, Pirque)
SUMMARY:Festival: Diseño de Servicios 2019
URL:https://fadeu-old.urantiacos.cl/agenda/evento/1951-festival-diseno-de-s
 ervicios-2019
END:VEVENT
END:VCALENDAR
