BEGIN:VCALENDAR
VERSION:2.0
PRODID:-//https://fadeu-old.urantiacos.cl///NONSGML kigkonsult.se iCalcreator 2.10.15//
METHOD:PUBLISH
BEGIN:VEVENT
UID:20260420T160007UTC-2641LJIlNM@https://fadeu-old.urantiacos.cl/
DTSTAMP:20260420T160007Z
DESCRIPTION:\nLos invitamos a la cuarta versi&oacute\;n del concurso John M
 axwell Coetzee\, en el cual se premiar&aacute\;n a los ganadores del concu
 rso literario que lleva su nombre\, contando con la presencia del Premio N
 obel.\n\nLa Ciudad y las Palabras es un Programa dependiente del Doctorado
  en Arquitectura y Estudios Urbanos de la Pontificia Universidad Cat&oacut
 e\;lica de Chile. Su responsabilidad social es el concurso John Maxwell Co
 etzee que este a&ntilde\;o convoc&oacute\; a estudiantes escolares de la r
 egi&oacute\;n Metropolitana a participar de la convocatoria.\nEl concurso 
 estuvo dirigido a estudiantes entre s&eacute\;ptimo y cuarto medio de cole
 gios municipales\, subvencionados y particulares\, quienes tuvieron hasta 
 el pasado 23 de agosto para enviar una creaci&oacute\;n literaria que inco
 rporara la tem&aacute\;tica de ciudad o espacio urbano en el cuento.\nPor 
 otro lado\, los ganadores del concurso participar&aacute\;n de los seminar
 ios\, conferencias y talleres\, dictados por reconocidos escritores y cine
 astas internacionales\, que se desarrollar&aacute\;n como parte del progra
 ma 'La Ciudad y las Palabras' durante el segundo semestre de 2018 y primer
  semestre del 2019 en la Escuela de Arquitectura de la Pontificia Universi
 dad Cat&oacute\;lica de Chile.\nEl primer premio ser&aacute\; entregado po
 r el Premio Nobel John Coetzee\, previo a una lectura que dar&aacute\; el 
 escritor.\n\nLa ceremonia y lectura se realizar&aacute\; en&nbsp\;el audit
 orio de la Facultad de Arquitectura\, Dise&ntilde\;o y Estudios Urbanos (E
 l Comendador 1916\, Providencia) el d&iacute\;a lunes 24 de septiembre de 
 2018 a las 18:00 horas. Entrada liberada inscripciones con&nbsp\;lvillarr@
 uc.cl\n\n https://fadeu-old.urantiacos.cl/agenda/evento/1646-entrega-premi
 os-concurso-john-maxwell-coetzee
DTSTART:20180924T210000Z
DTEND:20180924T220000Z
LOCATION:Auditorio FADEU\, Campus Lo Contador PUC (El Comendador 1916\, Pro
 videncia\, Providencia\, Región Metropolitana\, Chile)
SUMMARY:Entrega Premios Concurso John Maxwell Coetzee
URL:https://fadeu-old.urantiacos.cl/agenda/evento/1646-entrega-premios-conc
 urso-john-maxwell-coetzee
END:VEVENT
END:VCALENDAR
