BEGIN:VCALENDAR
VERSION:2.0
PRODID:-//https://fadeu-old.urantiacos.cl///NONSGML kigkonsult.se iCalcreator 2.10.15//
METHOD:PUBLISH
BEGIN:VEVENT
UID:20260419T204907UTC-7055KeuBkv@https://fadeu-old.urantiacos.cl/
DTSTAMP:20260419T204907Z
DESCRIPTION:El pr&oacute\;ximo 24 de septiembre se celebrar&aacute\; el&nbs
 p\;D&iacute\;a Mundial del Dise&ntilde\;o de Interacci&oacute\;n\, un even
 to anual en donde se re&uacute\;ne la comunidad global de dise&ntilde\;ado
 res para seguir creyendo en el valor del dise&ntilde\;o.\nEn Chile\, IxDA 
 en conjunto con Dise&ntilde\;o UC\, MADA UC y Adobe\, organizar&aacute\; u
 n encuentro en el Auditorio FADEU a las 19.00 h\nExpositores\nJacob Bustam
 ante ( Instagram / Linkedin)Consultor\, investigador y docente UdeChile.&m
 dash\;Carolina Sandoval ( Instagram / Linkedin)UX Lead en Everis Chile&mda
 sh\;Paz Pe&ntilde\;a ( Instagram / Linkedin)Co-creadora de Acoso.Online\nE
 n el Mundo\nSeg&uacute\;n la IxDA (Interaction Design Association) el dise
 &ntilde\;o de interacci&oacute\;n (IxD) define la estructura y el comporta
 miento de sistemas interactivos. Los dise&ntilde\;adores de interacci&oacu
 te\;n buscan crear relaciones significativas entre personas y los producto
 s o servicios que estos usan\, desde computadorashasta dispositivos m&oacu
 te\;viles y aparatos\, entre otros.\nDe esta manera\, el dise&ntilde\;o de
  interacci&oacute\;n nace de la necesidad de analizar\, estudiar y entende
 r la manera en la que el usuario tiene interacciones con su ambiente. En e
 l mundo digital se asocia este t&eacute\;rmino con la manera en que el usu
 ario navega por la web e intenta utilizar un producto o dispositivo para a
 lcanzar un objetivo y espera a que &eacute\;ste responda a nuestras accion
 es.\nDesde Adobe e IxDA hacen el bienvenida y el llamado a que todos los d
 ise&ntilde\;adores contribuyan organizando actividades para sus comunidade
 s locales en torno al tema para 2019: Confianza y responsabilidad. https:/
 /fadeu-old.urantiacos.cl/agenda/evento/1953-world-interaction-day
DTSTART:20190924T220000Z
DTEND:20190924T230000Z
LOCATION:Auditorio FADEU\, Campus Lo Contador PUC (El Comendador 1916\, Pro
 videncia\, Providencia\, Región Metropolitana\, Chile)
SUMMARY:World Interaction Day
URL:https://fadeu-old.urantiacos.cl/agenda/evento/1953-world-interaction-da
 y
END:VEVENT
BEGIN:VEVENT
UID:20260419T204907UTC-70637dCPDd@https://fadeu-old.urantiacos.cl/
DTSTAMP:20260419T204907Z
DESCRIPTION:\n&nbsp\;\n\n\n\nPresentaci&oacute\;n del plan&nbsp\;Ecoparque\
 , el que contempla una serie de proyectos para transformar al&nbsp\;Parque
  Metropolitano de Santiago&nbsp\;en un referente de sustentabilidad en Chi
 le\, con el objetivo de acercar la naturaleza a las familias y potenciar s
 u rol en conservaci&oacute\;n y educaci&oacute\;n sobre la flora y fauna n
 ativa. Entre los proyectos que se van a desarrollar\, destacan: Chile Nati
 vo\, Jard&iacute\;n Bot&aacute\;nico Chagual\, Matriz de riego\, Nuevo tel
 ef&eacute\;rico y camino interno\, Paseo metropolitano\, Segunda cumbre y 
 Sendero excursionista.\nMart&iacute\;n Andrade\nActual&nbsp\;Director del 
 Parque Metropolitano de Santiago.&nbsp\;Arquitecto de la Pontificia Univer
 sidad Cat&oacute\;lica y Master en Medio Ambiente de la Universidad de Mel
 bourne\, Australia. Su trabajo se ha desempe&ntilde\;ado en la Planificaci
 &oacute\;n Urbana con un enfoque especial en Parques Urbanos y &aacute\;re
 as verdes p&uacute\;blicas. Se desempe&ntilde\;&oacute\; por dos a&ntilde\
 ;os como arquitecto senior en el equipo de planificaci&oacute\;n de espaci
 os p&uacute\;blicos de la Ciudad de Melbourne\, Australia. Tambi&eacute\;n
  como Coordinador Nacional de Parques Urbanos en el Ministerio de Vivienda
  y Urbanismo desde el a&ntilde\;o 2012 al 2016. Previamente cofund&oacute\
 ; Fundaci&oacute\;n Mi Parque y fue su Director Ejecutivo desde el 2008 ha
 sta el 2012.&nbsp\;\nFecha_24 de septiembre de 2019\, 18.30 hLugar_Auditor
 io Fernando Castillo VelascoCampus Lo ContadorEl Comendador 1936\, Provide
 nciaOrganiza_Mag&iacute\;ster en Arquitectura del PaisajeParque Metropolit
 ano de Santiago ParquemetEscuela de Arquitectura UC\nNoticiasContacto:&nbs
 p\;redesarq@uc.cl&nbsp\;| +56 2 2354 7747www.arquitectura.uc.cl\n\n\n&nbsp
 \; https://fadeu-old.urantiacos.cl/agenda/evento/1959-conferencia-ecoparqu
 e-plan-de-desarrollo-sustentable-martin-andrade
DTSTART:20190924T213000Z
DTEND:20190924T223000Z
LOCATION:Auditorio Fernando Castillo Velasco. Edificio ARQ (El Comendador 1
 936\, Providencia\, Región Metropolitana\, Chile)
SUMMARY:Conferencia 'Ecoparque\, plan de desarrollo sustentable' | Martín A
 ndrade
URL:https://fadeu-old.urantiacos.cl/agenda/evento/1959-conferencia-ecoparqu
 e-plan-de-desarrollo-sustentable-martin-andrade
END:VEVENT
BEGIN:VEVENT
UID:20260419T204907UTC-7069teXUEW@https://fadeu-old.urantiacos.cl/
DTSTAMP:20260419T204907Z
DESCRIPTION:\nAlejandra Sandoval dictar&aacute\; la Charla:&nbsp\;El proces
 o de apego al recorrido peatonal cotidiano en el centro de Santiago de Chi
 le.\nLa actividad se realizar&aacute\; el d&iacute\;a&nbsp\;martes 24 de s
 eptiembre a partir de las 13:00 h.&nbsp\;en el Sal&oacute\;n Sergio Larra&
 iacute\;n.&nbsp\;El Comendador 1916\, Providencia.\nCupos limitados e insc
 ripciones&nbsp\;aqu&iacute\;.\nSe compartir&aacute\; un almuerzo liviano c
 on los asistentes\, previa inscripci&oacute\;n&nbsp\;hasta el lunes 23 de 
 septiembre.\n\nOrganiza: Instituto de Estudios Urbanos y Territoriales UC
 \n\n\n https://fadeu-old.urantiacos.cl/agenda/evento/1963-charla-el-proces
 o-de-apego-al-recorrido-peatonal-cotidiano-en-el-centro-de-santiago-de-chi
 le
DTSTART:20190924T160000Z
DTEND:20190924T170000Z
LOCATION:Salón Sergio Larraín\, Campus Lo Contador ()
SUMMARY: Charla: El proceso de apego al recorrido peatonal cotidiano en el 
 centro de Santiago de Chile
URL:https://fadeu-old.urantiacos.cl/agenda/evento/1963-charla-el-proceso-de
 -apego-al-recorrido-peatonal-cotidiano-en-el-centro-de-santiago-de-chile
END:VEVENT
END:VCALENDAR
