BEGIN:VCALENDAR
VERSION:2.0
PRODID:-//https://fadeu-old.urantiacos.cl///NONSGML kigkonsult.se iCalcreator 2.10.15//
METHOD:PUBLISH
BEGIN:VEVENT
UID:20260423T101106UTC-3127TmXkfo@https://fadeu-old.urantiacos.cl/
DTSTAMP:20260423T101106Z
DESCRIPTION:La Escuela de Arquitectura y Dise&ntilde\;o UC invitan a la com
 unidad UC a participar de la charla informativa sobre la Ley de Donaciones
  Culturales que presentar&aacute\; Leonardo Mosso\, del Consejo Nacional d
 e la Cultura y las Artes\nFecha_Lunes 25 de septiembre de 2017\, 11:30 hrs
 .\nLugar_Sal&oacute\;n Sergio Larra&iacute\;n\, Campus Lo Contador. El Com
 endador 1916\, Providencia\nInvitan_Ley de Donaciones CulturalesArquitectu
 ra UCDise&ntilde\;o UC\n&nbsp\;\n https://fadeu-old.urantiacos.cl/agenda/e
 vento/1257-charla-sobre-ley-de-donaciones-culturales
DTSTART:20170925T143000Z
DTEND:20170925T153000Z
LOCATION:Salón Sergio Larraín\, Campus Lo Contador ()
SUMMARY:Charla Sobre Ley de Donaciones Culturales
URL:https://fadeu-old.urantiacos.cl/agenda/evento/1257-charla-sobre-ley-de-
 donaciones-culturales
END:VEVENT
END:VCALENDAR
