BEGIN:VCALENDAR
VERSION:2.0
PRODID:-//https://fadeu-old.urantiacos.cl///NONSGML kigkonsult.se iCalcreator 2.10.15//
METHOD:PUBLISH
BEGIN:VEVENT
UID:20260420T160007UTC-1070UgJiJO@https://fadeu-old.urantiacos.cl/
DTSTAMP:20260420T160007Z
DESCRIPTION:Invitamos cordialmente a la Conferencia&nbsp\;'LANDSCAPE PERCEP
 TION -&nbsp\;The evolution and applications of a perceptually-based method
 ology for landscape research'\, que dictar&aacute\; el Professor Ray Green
 (*)\, de la Universidad de Melbourne\, el pr&oacute\;ximo Martes 25 de Sep
 tiembre a las 18:30 hrs.\, en el Auditorio Fernando Castillo Velasco\, ubi
 cado en el&nbsp\;4to piso Edificio Arquitectura UC. Campus Lo Contador.Est
 a conferencia es organizada por el Mag&iacute\;ster en Arquitectura del Pa
 isaje - MAPA&nbsp\;UC\, en el marco del Workshop Travelling Studio del Pro
 grama de Arquitectura del Paisaje de la Universidad de Melbourne.\n(*) Ray
  Green:&nbsp\;Bachelor of Science in Landscape Architecture\, Master of La
 ndscape Architecture and an interdisciplinary Doctorate in landscape plann
 ing/design and environmental psychology. Landscape architect and a Fellow 
 of the American Society of Landscape Architects (ASLA).Actividad gratuita 
 previa inscripci&oacute\;n en&nbsp\;magistermapa@uc.cl\nLa presentaci&oacu
 te\;n se realizar&aacute\; en ingl&eacute\;s.&nbsp\;\n&nbsp\;\n https://fa
 deu-old.urantiacos.cl/agenda/evento/1684-conferencia-landscape-perception-
 prof-ray-green-university-of-melbourne
DTSTART:20180925T213000Z
DTEND:20180925T223000Z
LOCATION:Auditorio Fernando Castillo Velasco. Edificio ARQ (El Comendador 1
 936\, Providencia\, Región Metropolitana\, Chile)
SUMMARY:Conferencia 'Landscape Perception'. Prof. Ray Green. University of 
 Melbourne.
URL:https://fadeu-old.urantiacos.cl/agenda/evento/1684-conferencia-landscap
 e-perception-prof-ray-green-university-of-melbourne
END:VEVENT
BEGIN:VEVENT
UID:20260420T160007UTC-1078mzVedI@https://fadeu-old.urantiacos.cl/
DTSTAMP:20260420T160007Z
DESCRIPTION:\nLa acad&eacute\;mica&nbsp\;Alejandra Luneke&nbsp\;dictar&aacu
 te\; la charla:&nbsp\;Gestionando la inseguridad\, produciendo ciudadanos:
  pr&aacute\;cticas de cuidado vecinal en barrios segregados.\nLa actividad
  se realizar&aacute\; el d&iacute\;a&nbsp\;martes 25 de septiembre a parti
 r de las 13:00 h.&nbsp\;en el Sal&oacute\;n Sergio Larra&iacute\;n.&nbsp\;
 El Comendador 1916\, Providencia.\nCupos limitados e inscripciones&nbsp\;a
 qu&iacute\;.Se compartir&aacute\; un almuerzo liviano con los asistentes\,
  previa inscripci&oacute\;n&nbsp\;hasta las el viernes 21 de Septiembre\nO
 rganiza: Instituto de Estudios Urbanos y Territoriales UC\n\n https://fade
 u-old.urantiacos.cl/agenda/evento/1678-charla-gestionando-la-inseguridad-p
 roduciendo-ciudadanos-practicas-de-cuidado-vecinal-en-barrios-segregados
DTSTART:20180925T160000Z
DTEND:20180925T170000Z
LOCATION:Salón Sergio Larraín\, Campus Lo Contador ()
SUMMARY:Charla: Gestionando la inseguridad\, produciendo ciudadanos: prácti
 cas de cuidado vecinal en barrios segregados
URL:https://fadeu-old.urantiacos.cl/agenda/evento/1678-charla-gestionando-l
 a-inseguridad-produciendo-ciudadanos-practicas-de-cuidado-vecinal-en-barri
 os-segregados
END:VEVENT
END:VCALENDAR
