BEGIN:VCALENDAR
VERSION:2.0
PRODID:-//https://fadeu-old.urantiacos.cl///NONSGML kigkonsult.se iCalcreator 2.10.15//
METHOD:PUBLISH
BEGIN:VEVENT
UID:20260419T204906UTC-1961HfAkHz@https://fadeu-old.urantiacos.cl/
DTSTAMP:20260419T204906Z
DESCRIPTION:Ciclo 'Paisajes interconectados:&nbsp\;Interconexiones desde el
  Urbanismo'\nConferencia 'La naturaleza pol&iacute\;tica del paisaje urban
 o'&nbsp\;| Nicole Rochette\nNicole Rochette\, profesora y arquitecta de la
  Escuela de Arquitectura UC&nbsp\;y Master en Dise&ntilde\;o Urbano de la 
 University College of London\, dictar&aacute\; la conferencia 'La naturale
 za pol&iacute\;tica del paisaje urbano'\, segunda sesi&oacute\;n 'Intercon
 exiones desde el Urbanismo'&nbsp\;del ciclo 'Paisajes interconectados'\,&n
 bsp\;en el marco del curso m&iacute\;nimo del programa de Mag&iacute\;ster
  en Arquitectura del Paisaje 'Historias de la Arquitectura del Paisaje'\, 
 a cargo de las profesoras Romy Hecht y Javiera Infante.\nNicole Rochette\n
 Arquitecta por la Pontificia Universidad Cat&oacute\;lica de Chile\, y Mas
 ter en Dise&ntilde\;o Urbano de la University College of London. Ha trabaj
 ado en proyectos de gran escala y mantiene un compromiso continuo con la e
 nse&ntilde\;anza en cursos de urbanismo y paisaje. Fue directora de proyec
 tos de Fundaci&oacute\;n Mi Parque y participó junto a Teodoro Fern&aacut
 e\;ndez Arquitectos de la propuesta ganadora para el Parque de la Ciudadan
 &iacute\;a Estadio Nacional\, concurso internacional destinado a remodelar
  las 64 ha del recinto deportivo. Desde el 2014 se desempe&ntilde\;a como 
 directora de proyectos de espacio p&uacute\;blico en CREO Antofagasta\, en
  el contexto de un plan maestro urbano para la ciudad. Actualmente es dire
 ctora de Archipi&eacute\;lago\, oficina de desarrollo de proyectos de arqu
 itectura\, dise&ntilde\;o urbano y paisaje.\nFecha_\nMi&eacute\;rcoles 25 
 de septiembre de 2019\, 15.30 h\n&nbsp\;\nLugar_Sala 32Campus Lo ContadorE
 l Comendador 1936\, Providencia\n&nbsp\;\nOrganiza_\nMag&iacute\;ster en A
 rquitectura del PaisajeEscuela de Arquitectura UC\n&nbsp\;\n\n&nbsp\;\nNot
 iciasContacto:&nbsp\;redesarq@uc.cl&nbsp\;| +56 2 2354 7747www.arquitectur
 a.uc.cl https://fadeu-old.urantiacos.cl/agenda/evento/1961-ciclo-paisajes-
 interconectados-nicole-rochette
DTSTART:20190925T183000Z
DTEND:20190925T193000Z
LOCATION:Sala 32 Casona Campus Lo Contador (El Comendador\, Providencia\, P
 rovidencia\, Región Metropolitana\, Chile)
SUMMARY:Ciclo 'Paisajes interconectados' | Nicole Rochette
URL:https://fadeu-old.urantiacos.cl/agenda/evento/1961-ciclo-paisajes-inter
 conectados-nicole-rochette
END:VEVENT
END:VCALENDAR
