BEGIN:VCALENDAR
VERSION:2.0
PRODID:-//https://fadeu-old.urantiacos.cl///NONSGML kigkonsult.se iCalcreator 2.10.15//
METHOD:PUBLISH
BEGIN:VEVENT
UID:20260419T204826UTC-270236WOd5@https://fadeu-old.urantiacos.cl/
DTSTAMP:20260419T204826Z
DESCRIPTION:Les invitamos cordialmente a la d&eacute\;cima sesi&oacute\;n d
 el seminario abierto Sociedad\, Dise&ntilde\;o y Tecnolog&iacute\;a (SDT).
  Este seminario busca abrir espacios de encuentro interdisciplinario\, en 
 d&oacute\;nde se presentan y comentan investigaciones\, proyectos o interv
 enciones sobre tem&aacute\;ticas ligadas al dise&ntilde\;o y tecnolog&iacu
 te\;a en su m&aacute\;s amplio espectro\, con especial &eacute\;nfasis en 
 los dispositivos\, algoritmos y datos digitales que median nuestra vida co
 ntempor&aacute\;nea.\nLa d&eacute\;cima sesi&oacute\;n del seminario se re
 alizar&aacute\; el jueves 26 de septiembre de 2019\, a las 17:00 en la Sal
 a de Consejo de Decanato del campus Lo Contador PUC\, Santiago. Contaremos
  con la presentaci&oacute\;n de Wolfhart Totschnig\, titulada: &laquo\;Nue
 stro futuro con la inteligencia artificial: Entre la amenaza para la human
 idad y nuevas formas de convivencia con m&aacute\;quinas s&uacute\;per-int
 eligentes&raquo\;.&nbsp\;Wolfhart es Mag&iacute\;ster en Musicolog&iacute\
 ;a y Filosof&iacute\;a por la Universidad de Viena y Doctor en Filosof&iac
 ute\;a por la Universidad de Northwestern. Actualmente se desempe&ntilde\;
 a como Profesor Asistente del Instituto de Filosof&iacute\;a de la Univers
 idad Diego Portales. Comentar&aacute\; la presentaci&oacute\;n Claudio Gut
 i&eacute\;rrez\, qui&eacute\;n aportar&aacute\; una mirada m&aacute\;s his
 t&oacute\;rica desde la computaci&oacute\;n. Claudio es Doctor en Computer
  Science de la Wesleyan University y Profesor Titular del Departamento de 
 Ciencias de la Computaci&oacute\;n de la Universidad de Chile.\nResumen:En
  un futuro cercano es probable que llegue a existir una inteligencia artif
 icial (IA) que sea equivalente o incluso sobrepase a la inteligencia human
 a. Las reflexiones sobre el reto de tal IA para la sociedad generalmente l
 o delimitan a un problema tecnol&oacute\;gico\, sobre c&oacute\;mo control
 ar las acciones de la IA. En esta presentaci&oacute\;n\, se problematizar&
 aacute\;n los supuestos de este pretendido control de agentes inteligentes
  y en el peligro de provocar un conflicto entre humanidad e inteligencia a
 rtificial. Se especular&aacute\; que el reto planteado por una futura IA s
 er&aacute\; m&aacute\;s bien un problema pol&iacute\;tico sobre c&oacute\;
 mo establecer una convivencia pac&iacute\;fica con otros agentes inteligen
 tes en una situaci&oacute\;n de vulnerabilidad mutua y no un problema tecn
 ol&oacute\;gico de control.\n https://fadeu-old.urantiacos.cl/agenda/event
 o/1957-seminario-regular-10-wolfhart-totschni
DTSTART:20190926T200000Z
DTEND:20190926T210000Z
LOCATION:Sala de Consejo Decanato (El Comendador 1916)
SUMMARY:Seminario Regular #10: Wolfhart Totschni
URL:https://fadeu-old.urantiacos.cl/agenda/evento/1957-seminario-regular-10
 -wolfhart-totschni
END:VEVENT
END:VCALENDAR
