BEGIN:VCALENDAR
VERSION:2.0
PRODID:-//https://fadeu-old.urantiacos.cl///NONSGML kigkonsult.se iCalcreator 2.10.15//
METHOD:PUBLISH
BEGIN:VEVENT
UID:20260423T101106UTC-5481FTkiO2@https://fadeu-old.urantiacos.cl/
DTSTAMP:20260423T101106Z
DESCRIPTION:Se acerca el lanzamiento de una nueva edici&oacute\;n de Revist
 a Dise&ntilde\;a. N&uacute\;mero especial pues adem&aacute\;s de contar co
 n un editor invitado. Mart&iacute\;n Tironi\, tambi&eacute\;n ser&aacute\;
  el &uacute\;ltimo n&uacute\;mero dirigido por la docente UC\, Ximena Ulib
 arri.\nEste onceavo n&uacute\;mero de la Revista expone el trabajo de dest
 acados autores a trav&eacute\;s de investigaciones originales\, ensayos\, 
 entrevista y proyectos de dise&ntilde\;o\, bajo el tema Dise&ntilde\;o y P
 ol&iacute\;tica\, formando un conjunto que trasciende\, por las experienci
 as y el conocimiento que transfiere.\nA lo largo de estos 11 n&uacute\;mer
 os\, la revista ha explorado temas como la imagen pa&iacute\;s\; las redes
 \, comunidades e identidades colectivas\; el dise&ntilde\;o en regiones\; 
 los residuos\; el color y las nuevas narrativas\; difundiendo el trabajo d
 e profesionales e investigadores nacionales y enriqueciendo la disciplina 
 a trav&eacute\;s del an&aacute\;lisis cr&iacute\;tico de las ideas y proce
 sos que se sustentan en los diversos proyectos publicados.\nPara esta nuev
 a edici&oacute\;n\, la revista presenta el tema &ldquo\;Dise&ntilde\;o y P
 ol&iacute\;tica&rdquo\; generando una reflexi&oacute\;n sobre la disciplin
 a\, al mismo tiempo que interact&uacute\;a con otras &aacute\;reas del con
 ocimiento. Las relaciones que dan cuenta los art&iacute\;culos publicados 
 en este n&uacute\;mero\, evidencian la diluci&oacute\;n de los l&iacute\;m
 ites tradicionales entre estas dos formas de conocimiento y\, de paso\, de
  las fronteras con otros territorios antes cerrados\, como las ciencias so
 ciales\, el arte o la filosof&iacute\;a. Dise&ntilde\;a desea enfatizar qu
 e esta concurrencia es posible\, en parte\, por un modo de acci&oacute\;n 
 abierto y entusiasta que se vale de lenguajes mixtos\, y en parte por la o
 rquestaci&oacute\;n de los m&uacute\;ltiples formatos que el dise&ntilde\;
 o moviliza.\n https://fadeu-old.urantiacos.cl/agenda/evento/1269-lanzamien
 to-revista-disena-11
DTSTART:20170927T220000Z
DTEND:20170927T230000Z
LOCATION:Patio Los Naranjos\, Lo Contador (El Comendador 1916\, Providencia
 \, Región Metropolitana\, Chile)
SUMMARY:Lanzamiento Revista Diseña 11
URL:https://fadeu-old.urantiacos.cl/agenda/evento/1269-lanzamiento-revista-
 disena-11
END:VEVENT
BEGIN:VEVENT
UID:20260423T101106UTC-5489bfuRaU@https://fadeu-old.urantiacos.cl/
DTSTAMP:20260423T101106Z
DESCRIPTION:Primer seminario organizado por la Fundaci&oacute\;n Patio Vivo
  con el patrocinio de la Escuela de Arquitectura UC\, donde se invita a pr
 ofesionales de la Arquitectura y la Educaci&oacute\;n a reflexionar y gene
 rar un di&aacute\;logo com&uacute\;n sobre los Paisajes del Aprendizaje pa
 ra identificar de qu&eacute\; manera el espacio del patio escolar y el jue
 go contribuyen al aprendizaje informal de los estudiantes.\nPara profundiz
 ar en el concepto de Paisajes del Aprendizaje contaremos con la ponencias 
 de:\nRodrigo Perez de Arce\, Arquitecto Profesor UCIsidora Mena\, Psic&oac
 ute\;loga Fundadora Valoras UCJos&eacute\; Quintanilla\, Arquitecto Profes
 or UCAngela Ib&aacute\;&ntilde\;ez\, Directora Ejecutiva Fundaci&oacute\;n
  Patio Vivo\nInscripciones: info(at)patiovivo.cl\nFecha_Mi&eacute\;rcoles 
 27 de septiembre\, 15:00 hrs.\nLugar_Sal&oacute\;n Sergio Larra&iacute\;n\
 , Campus Lo Contador. El Comendador 1946\, Providencia\nInvitan_Fundaci&oa
 cute\;n Patio Vivo\nAuspicia_Fundaci&oacute\;n Mustakis\nPatrocina_Arquite
 ctura UC\nColabora_Valoras UC\n&nbsp\;\n https://fadeu-old.urantiacos.cl/a
 genda/evento/1263-1-seminario-patio-vivo
DTSTART:20170927T180000Z
DTEND:20170927T190000Z
LOCATION:Salón Sergio Larraín\, Campus Lo Contador ()
SUMMARY:1° Seminario Patio Vivo
URL:https://fadeu-old.urantiacos.cl/agenda/evento/1263-1-seminario-patio-vi
 vo
END:VEVENT
BEGIN:VEVENT
UID:20260423T101106UTC-5493wPTkmO@https://fadeu-old.urantiacos.cl/
DTSTAMP:20260423T101106Z
DESCRIPTION:Marco Perino\, Arquitecto italiano en temas de eficiencia energ
 &eacute\;tica\, con experiencia en investigaciones en el Polit&eacute\;cni
 co de Torino y la Universidad de Aalborg se presentar&aacute\; en el ex Au
 ditorio Arquitectura en el marco del proyecto Fondecyt ''MODELO PARA EL DI
 SENO ARQUITECTONICO DE SISTEMA DE FACHADAS VIDRARIAS COMPLEJAS\, ENERGETIC
 A Y LUMINICAMENTE OPTIMIZADAS'' a cargo de Waldo Bustamante.\nFecha_Mi&eac
 ute\;rcoles 27 de septiembre de 2017\, 13.30 hrs\nLugar_Auditorio Fernando
  Castillo Velasco. Campus Lo Contador. El Comendador 1936\, 4&deg\; piso.&
 nbsp\;\nInvitan_CEDEUS UCArquitectura UC\n&nbsp\;\n https://fadeu-old.uran
 tiacos.cl/agenda/evento/1273-conferencia-de-marco-perino-la-envolvente-del
 -edificio-su-futuro-mas-alla-del-concepto-de-aislamiento
DTSTART:20170927T163000Z
DTEND:20170927T173000Z
LOCATION:Auditorio Fernando Castillo Velasco. Edificio ARQ (El Comendador 1
 936\, Providencia\, Región Metropolitana\, Chile)
SUMMARY:Conferencia de Marco Perino. La Envolvente del Edificio: Su futuro 
 más allá del concepto de aislamiento
URL:https://fadeu-old.urantiacos.cl/agenda/evento/1273-conferencia-de-marco
 -perino-la-envolvente-del-edificio-su-futuro-mas-alla-del-concepto-de-aisl
 amiento
END:VEVENT
BEGIN:VEVENT
UID:20260423T101106UTC-5497ZTIiPp@https://fadeu-old.urantiacos.cl/
DTSTAMP:20260423T101106Z
DESCRIPTION:Los invitamos muy cordialmente a la ceremonia de bendici&oacute
 \;n de la nueva capilla del campus Lo Contador\, el d&iacute\;a mi&eacute\
 ;rcoles 27 de septiembre a las 13.00 hrs. en la capilla\, ubicada en el se
 ctor Patio de Madera del Campus. https://fadeu-old.urantiacos.cl/agenda/ev
 ento/1277-ceremonia-de-bendicion-de-nueva-capilla-lo-contador
DTSTART:20170927T160000Z
DTEND:20170927T170000Z
LOCATION:Capilla Lo Contador (El Comendador 1916\, Providencia\, Región Met
 ropolitana\, Chile)
SUMMARY:Ceremonia de bendición de nueva capilla Lo Contador
URL:https://fadeu-old.urantiacos.cl/agenda/evento/1277-ceremonia-de-bendici
 on-de-nueva-capilla-lo-contador
END:VEVENT
END:VCALENDAR
