BEGIN:VCALENDAR
VERSION:2.0
PRODID:-//https://fadeu-old.urantiacos.cl///NONSGML kigkonsult.se iCalcreator 2.10.15//
METHOD:PUBLISH
BEGIN:VEVENT
UID:20260420T160007UTC-1921WrKNcU@https://fadeu-old.urantiacos.cl/
DTSTAMP:20260420T160007Z
DESCRIPTION:En el marco de las Jornadas de Planificaci&oacute\;n Urbana 'Am
 bitos del campo laboral de planificador urbano en Chile' se realizar&aacut
 e\; la charla 'L&oacute\;gicas territoriales y planificaci&oacute\;n integ
 rada' a cargo del docente del Instituto de Estudios Urbanos\, Roberto Mori
 s (Planificador Urbano\, Jefe Unidad de Planes y Proyectos Urbanos UC).&nb
 sp\;\n&nbsp\;\n https://fadeu-old.urantiacos.cl/agenda/evento/1675-charla-
 logicas-territoriales-y-planificacion-integrada
DTSTART:20180927T210000Z
DTEND:20180927T220000Z
LOCATION:Salón Sergio Larraín\, Campus Lo Contador ()
SUMMARY:Charla 'Lógicas territoriales y planificación integrada'
URL:https://fadeu-old.urantiacos.cl/agenda/evento/1675-charla-logicas-terri
 toriales-y-planificacion-integrada
END:VEVENT
END:VCALENDAR
