BEGIN:VCALENDAR
VERSION:2.0
PRODID:-//https://fadeu-old.urantiacos.cl///NONSGML kigkonsult.se iCalcreator 2.10.15//
METHOD:PUBLISH
BEGIN:VEVENT
UID:20260423T101153UTC-5961Jhlpvw@https://fadeu-old.urantiacos.cl/
DTSTAMP:20260423T101153Z
DESCRIPTION:El jueves 28 de septiembre contin&uacute\;a el ciclo de di&aacu
 te\;logos Descubriendo el Paisaje Chileno con el pintor y artista visual I
 smael Frigerio\, figura destacada de la llamada &ldquo\;Generaci&oacute\;n
  de los Ochenta&rdquo\;\, y la arquitecta y Doctora en Proyectos Arquitect
 &oacute\;nicos Gloria Saravia.\nEl trabajo Cruz del Sur de Ismael Frigerio
  es una instalaci&oacute\;n multimedia compuesta por tres de sus m&aacute\
 ;s destacados proyectos visuales: Ceremony of Spirit\, Anatom&iacute\;a Mo
 numental y Ceremonia de la Memoria\, a trav&eacute\;s de los cuales propon
 e relevar la conciencia hist&oacute\;rica del territorio por medio del res
 cate y recopilaci&oacute\;n visual de la memoria que se aloja en el territ
 orio salitrero.\nA partir de esta obra se busca construir un di&aacute\;lo
 go en torno a la comprensi&oacute\;n del paisaje como un conjunto de inter
 acciones de generaciones de hombres con su entorno\, capaces de configurar
  un sentido de identidad territorial a partir de signos que costruyen sign
 ificado y memoria a lo largo del tiempo.\nEntrada liberada\, cupos limitad
 os. Link de inscripci&oacute\;n aqu&iacute\;\nFecha_Jueves 28 de septiembr
 e de 2017. 18.30 hrs.\nLugar_Auditorio Fernando Castillo Velasco (ex Arqui
 tectura)\, Campus Lo Contador. El Comendador 1936\, 4&deg\; piso. Providen
 cia\nOrganiza_Corporaci&oacute\;n Cultura de Paisaje en Chile\nInvitan_MAP
 A UCArquitectura UCLOFscapesLa PopularQuesos Tambo Alto\n&nbsp\;\n https:/
 /fadeu-old.urantiacos.cl/agenda/evento/1259-descubriendo-el-paisaje-chilen
 o-2-0
DTSTART:20170928T213000Z
DTEND:20170928T223000Z
LOCATION:Auditorio Fernando Castillo Velasco. Edificio ARQ (El Comendador 1
 936\, Providencia\, Región Metropolitana\, Chile)
SUMMARY:Descubriendo el Paisaje Chileno 2.0
URL:https://fadeu-old.urantiacos.cl/agenda/evento/1259-descubriendo-el-pais
 aje-chileno-2-0
END:VEVENT
BEGIN:VEVENT
UID:20260423T101153UTC-5969DfrFh8@https://fadeu-old.urantiacos.cl/
DTSTAMP:20260423T101153Z
DESCRIPTION:'Experiencias de autogesti&oacute\;n del h&aacute\;bitat popula
 r: Viviendas\, espacios comunitarios\, disputas y conquistas'Clase Abierta
  de Alejandro Beyt&iacute\;a\nAlejandro Beyt&iacute\;a presentar&aacute\; 
 'Experiencias de autogesti&oacute\;n del h&aacute\;bitat popular: Vivienda
 s\, espacios comunitarios\, disputas y conquistas&rdquo\; en el contexto d
 el curso 'Vivienda como Proyecto Urbano Social' que dicta el profesor Jos&
 eacute\; di Girolamo en el Magister en Proyecto Urbano UC.\nAlejandro Beyt
 &iacute\;a es arquitecto de la Pontificia Universidad Cat&oacute\;lica de 
 Chile con amplia experiencia en gesti&oacute\;n de proyectos sociales. Des
 de el a&ntilde\;o 2011 trabaja junto al Movimiento de Pobladores en Lucha 
 en dise&ntilde\;o y gesti&oacute\;n de vivienda y recuperaci&oacute\;n de 
 espacios comunitarios a trav&eacute\;s de las organizaciones creadas por l
 os pobladores.\nFecha_Jueves 28 de Septiembre de 2017 / 15.30 hrs.\nLugar_
 Sala 36\, 2&deg\; piso Casa Lo Contador. El Comendador 1916\, Providencia
 \nInvitan_Mag&iacute\;ster en Proyecto Urbano\n https://fadeu-old.urantiac
 os.cl/agenda/evento/1275-alejandro-beytia-en-clase-abierta-del-mpur
DTSTART:20170928T183000Z
DTEND:20170928T193000Z
LOCATION:Sala 36\, Casona Lo Contador (El Comendador 1916\, Providencia\, R
 egión Metropolitana\, Chile)
SUMMARY:Alejandro Beytía en clase abierta del MPUR
URL:https://fadeu-old.urantiacos.cl/agenda/evento/1275-alejandro-beytia-en-
 clase-abierta-del-mpur
END:VEVENT
END:VCALENDAR
