BEGIN:VCALENDAR
VERSION:2.0
PRODID:-//https://fadeu-old.urantiacos.cl///NONSGML kigkonsult.se iCalcreator 2.10.15//
METHOD:PUBLISH
BEGIN:VEVENT
UID:20260420T160216UTC-1097rNuW7C@https://fadeu-old.urantiacos.cl/
DTSTAMP:20260420T160216Z
DESCRIPTION:20 | VIVIENDAS\nQuinta edici&oacute\;n 2018 del tradicional cic
 lo 'Discusi&oacute\;n y Cr&iacute\;tica de Edificios'\, organizado por el 
 Mag&iacute\;ster en Arquitectura UC. En la sesi&oacute\;n n&ordm\; 20 titu
 lada &ldquo\;VIVIENDAS&rdquo\;\,&nbsp\;Cristi&aacute\;n Izquierdo trae a l
 a conversaci&oacute\;n los conjuntos de vivienda social de Quinta Normal\,
  por OWAR\, y de Lo Barnechea\, de ELEMENTAL. Completan el panel Gabriela 
 Garc&iacute\;a de Cort&aacute\;zar\, Francisco D&iacute\;az\, Max Nu&ntild
 e\;ez y Nicol&aacute\;s Stutzin.\nFecha_Viernes 28 de septiembre de 2018\,
  18:30 hrs.\nLugar_Auditorio Fernando Castillo Velasco\, Campus Lo Contado
 r. El Comendador 1936\,&nbsp\;Providencia\nInvitan_MARQ UCArquitectura UC
 \n\nNoticiasContacto:&nbsp\;arq@uc.cl&nbsp\;| +56 2 2354 7747www.arquitect
 ura.uc.cl https://fadeu-old.urantiacos.cl/agenda/evento/1685-discusion-y-c
 ritica-de-edificios-20-cristian-izquierdo
DTSTART:20180928T213000Z
DTEND:20180928T223000Z
LOCATION:Auditorio Fernando Castillo Velasco. Edificio ARQ (El Comendador 1
 936\, Providencia\, Región Metropolitana\, Chile)
SUMMARY:Discusión y crítica de edificios #20: Cristián Izquierdo
URL:https://fadeu-old.urantiacos.cl/agenda/evento/1685-discusion-y-critica-
 de-edificios-20-cristian-izquierdo
END:VEVENT
END:VCALENDAR
