BEGIN:VCALENDAR
VERSION:2.0
PRODID:-//https://fadeu-old.urantiacos.cl///NONSGML kigkonsult.se iCalcreator 2.10.15//
METHOD:PUBLISH
BEGIN:VEVENT
UID:20260423T101106UTC-9767kRDnFv@https://fadeu-old.urantiacos.cl/
DTSTAMP:20260423T101106Z
DESCRIPTION:&nbsp\;\nEl Diplomado en Gesti&oacute\;n de Areas Metropolitana
 s de Educaci&oacute\;n Continua UC\, que en su primera edici&oacute\;n con
 voc&oacute\; a profesionales de distintas municipalidades del pa&iacute\;s
 \, tendr&aacute\; como invitada a Enid Slack\, directora del Institute on 
 Municipal Finance and Governance de la Universidad de Toronto y cerrar&aac
 ute\; con la presentaci&oacute\;n presentaci&oacute\;n ''Agendas Metropoli
 tanas''\, en las que se discutir&aacute\;n los planes y proyecciones para 
 las regiones Metropolitana\, Coquimbo\, Bio Bio y Los Lagos. El evento se 
 realizar&aacute\; en el Auditorio Fernando Castillo Velasco (ex- Arquitect
 ura) y ser&aacute\; abierto a todo p&uacute\;blico.\nFecha_Viernes 29 de s
 eptiembre de 2017\, 15.00 hrs.\nLugar_Auditorio Fernando Castillo Velasco\
 , Campus Lo Contador. El Comendador 1936\, 4&deg\; piso. Providencia\nInvi
 tan_BIDIEUT UCARQ UCSUBDERE\n https://fadeu-old.urantiacos.cl/agenda/event
 o/1279-agendas-metropolitanas-para-chile
DTSTART:20170929T180000Z
DTEND:20170929T190000Z
LOCATION:Auditorio Fernando Castillo Velasco. Edificio ARQ (El Comendador 1
 936\, Providencia\, Región Metropolitana\, Chile)
SUMMARY:Agendas Metropolitanas para Chile
URL:https://fadeu-old.urantiacos.cl/agenda/evento/1279-agendas-metropolitan
 as-para-chile
END:VEVENT
END:VCALENDAR
