BEGIN:VCALENDAR
VERSION:2.0
PRODID:-//https://fadeu-old.urantiacos.cl///NONSGML kigkonsult.se iCalcreator 2.10.15//
METHOD:PUBLISH
BEGIN:VEVENT
UID:20260420T140743UTC-4983toLxWf@https://fadeu-old.urantiacos.cl/
DTSTAMP:20260420T140743Z
DESCRIPTION:Conversatorio sobre las ediciones independientes de la contracu
 ltura en Chile pre y post dictadura. Presentaci&oacute\;n Trauko\n\nEsta e
 s una ocasi&oacute\;n para conversar sobre las diversas ediciones independ
 ientes (revistas fanzines\, etc) como medio de creaci&oacute\;n y expresi&
 oacute\;n aparecidas en el periodo de transici&oacute\;n democr&aacute\;ti
 ca en Chile.\nEstas revistas abrieron nuevos espacios de apropiaci&oacute\
 ;n cultural mediante la creaci&oacute\;n de ediciones impresas autogestion
 adas de bajo costo y tiraje limitado.\nContaremos con la participaci&oacut
 e\;n de investigadores y protagonistas directos de estas historias\, quien
 es conversar&aacute\;n sobre su experiencia en la creaci&oacute\;n de esta
 s ediciones as&iacute\; como de sus diversos alcances culturales y mediale
 s.\nAdem&aacute\;s se realizar&aacute\; la presentaci&oacute\;n de la revi
 sta nueva Trauko\, s&iacute\;mbolo de una &eacute\;poca de apertura cultur
 al\, cuya nueva &eacute\;poca congrega a creadores nuevos e hist&oacute\;r
 icos.\nLunes 1 de octubre\n18.00 hrs\nAuditorio Fernando Castillo Velasco
 \nCampus Lo Contador UC\n&nbsp\;\n\n https://fadeu-old.urantiacos.cl/agend
 a/evento/1692-conversatorio-revistas-autogestionadas-en-chile-lanzamiento-
 revista-trauko
DTSTART:20181001T210000Z
DTEND:20181001T220000Z
LOCATION:Auditorio Fernando Castillo Velasco. Edificio ARQ (El Comendador 1
 936\, Providencia\, Región Metropolitana\, Chile)
SUMMARY:Conversatorio: Revistas autogestionadas en Chile + Lanzamiento revi
 sta Trauko
URL:https://fadeu-old.urantiacos.cl/agenda/evento/1692-conversatorio-revist
 as-autogestionadas-en-chile-lanzamiento-revista-trauko
END:VEVENT
BEGIN:VEVENT
UID:20260420T140743UTC-4989ZJ5r25@https://fadeu-old.urantiacos.cl/
DTSTAMP:20260420T140743Z
DESCRIPTION:Mario Ubilla S.\,&nbsp\;Decano de la&nbsp\;Facultad de Arquitec
 tura\, Dise&ntilde\;o y Estudios Urbanos y&nbsp\;Francisco Javier Quintana
 \,&nbsp\;Director&nbsp\;Escuela de Arquitectura&nbsp\;invitan a la ceremon
 ia de cambio de mando\, en que el profesor&nbsp\;Luis Eduardo Bresciani L.
  asumir&aacute\; como nuevo Director de la Escuela de Arquitectura.\nEsta 
 actividad se llevar&aacute\; a cabo el&nbsp\;lunes 1 de octubre\, a las 13
 .00 horas\, en la sala La Capilla\, Campus Lo Contador\, ubicado en El Com
 endador 1916\, Providencia.\n\nNoticiasContacto:&nbsp\;redesarq@uc.cl&nbsp
 \;| +56 2 2354 7747www.arquitectura.uc.cl https://fadeu-old.urantiacos.cl/
 agenda/evento/1687-ceremonia-de-cambio-de-mando-director-earq-uc
DTSTART:20181001T160000Z
DTEND:20181001T170000Z
LOCATION:Sala La Capilla\, campus Lo Contador (El Comendador 1916\, Provide
 ncia\, Región Metropolitana\, Chile)
SUMMARY:Ceremonia de cambio de mando Director EARQ UC
URL:https://fadeu-old.urantiacos.cl/agenda/evento/1687-ceremonia-de-cambio-
 de-mando-director-earq-uc
END:VEVENT
BEGIN:VEVENT
UID:20260420T140743UTC-4992Ko0mgG@https://fadeu-old.urantiacos.cl/
DTSTAMP:20260420T140743Z
DESCRIPTION:Cristian Monkeberg\, ministro de Vivienda y Urbanismo\, y Guill
 ermo Rolando\,&nbsp\; subsecretario de Vivienda y Urbanismo\, tienen el ag
 rado de invitar al seminario 'Regeneraci&oacute\;n de Barrios: &iquest\;C&
 oacute\;mo co- dise&ntilde\;amos la ciudad?\, que se realizar&aacute\; el 
 pr&oacute\;ximo lunes 1 de octubre\, de 8:30 a 13:30 horas y de 15:00a 17:
 00 horas\, en la sala A1 del Centro Cultural Gabriela Mistral (GAM).\n&nbs
 p\;\nLa entrada ser&aacute\; con previa inscripci&oacute\;n en el siguient
 e link.\n(Podr&aacute\;n asistir al seminario completo o el panel que les 
 interese)\n&nbsp\;\n https://fadeu-old.urantiacos.cl/agenda/evento/1690-se
 minario-regeneracion-de-barrios-como-co-disenamos-la-ciudad
DTSTART:20181001T113000Z
DTEND:20181001T163000Z
LOCATION:Centro Cultural Gabriela Mistral (GAM) (Av Libertador Bernardo O'H
 iggins 246\, Santiago\, Región Metropolitana\, Chile)
SUMMARY:Seminario Regeneración de Barrios: ¿Cómo co-diseñamos la ciudad?
URL:https://fadeu-old.urantiacos.cl/agenda/evento/1690-seminario-regeneraci
 on-de-barrios-como-co-disenamos-la-ciudad
END:VEVENT
END:VCALENDAR
