BEGIN:VCALENDAR
VERSION:2.0
PRODID:-//https://fadeu-old.urantiacos.cl///NONSGML kigkonsult.se iCalcreator 2.10.15//
METHOD:PUBLISH
BEGIN:VEVENT
UID:20260420T140828UTC-78304Gfb3u@https://fadeu-old.urantiacos.cl/
DTSTAMP:20260420T140828Z
DESCRIPTION:Elvira P&eacute\;rez\, Jefa del programa de Mag&iacute\;ster en
  Patrimonio Cultural\, y Umberto Bonomo\, Director del Centro del Patrimon
 io Cultural de la Pontificia Universidad Cat&oacute\;lica de Chile\, junto
  al proyecto Fondart 'Rescate de la Tradici&oacute\;n Arquitect&oacute\;ni
 ca de Ays&eacute\;n'\, invitan al Lanzamiento del Libro&nbsp\;'Casas en el
  valle del r&iacute\;o Simpson. El patrimonio desconocido de Ays&eacute\;n
 '.\nLa identidad cultural\, entendida como el conjunto de tradiciones\, va
 lores y s&iacute\;mbolos que son propios de un lugar y una comunidad\, es 
 el elemento m&aacute\;s importante para constituirnos como sociedad y habi
 tar un espacio determinado.\nEste libro busca situar la mirada en aquel pa
 trimonio menos evidente\, aquel oculto o subvalorado\, donde la forma resu
 ltante de una cultura constructiva no es aquello que define su valor\, sin
 o el modo de construirlo\, habitarlo\, intervenirlo y rehabitarlo\, accion
 es que dan cuenta del esfuerzo e ingenio de los colonizadores por asentars
 e\, utilizando soluciones constructivas particulares\, en un territorio ex
 tremo\, caracterizado por su aislamiento y duras condiciones clim&aacute\;
 ticas.\nOrganizan: Mag&iacute\;ster en Patrimonio Cultural UC\, Centro del
  Patrimonio Cultural UC.\nPatrocinan: Consejo Nacional de la Cultura y las
  Artes (actual MINCAP)\, Fondo Nacional de Desarrollo Cultural y las Artes
 \, Fondart Regional\, y Corporaci&oacute\;n Procultura.\nEntrada liberada\
 , cupos limitados. Inscripci&oacute\;n al correo&nbsp\;magisterpatrimonio@
 uc.cl&nbsp\;.\n&nbsp\;\n https://fadeu-old.urantiacos.cl/agenda/evento/169
 1-lanzamiento-libro-casas-en-el-valle-del-rio-simpson-el-patrimonio-descon
 ocido-de-aysen
DTSTART:20181003T220000Z
DTEND:20181003T230000Z
LOCATION:Salón Sergio Larraín\, Campus Lo Contador ()
SUMMARY:Lanzamiento Libro 'Casas en el valle del río Simpson. El patrimonio
  desconocido de Aysén'
URL:https://fadeu-old.urantiacos.cl/agenda/evento/1691-lanzamiento-libro-ca
 sas-en-el-valle-del-rio-simpson-el-patrimonio-desconocido-de-aysen
END:VEVENT
BEGIN:VEVENT
UID:20260420T140828UTC-7837KAWozT@https://fadeu-old.urantiacos.cl/
DTSTAMP:20260420T140828Z
DESCRIPTION:Tenemos el agrado de invitarlos(as) al Seminario Internacional 
 |&nbsp\;Marginalidad Urbana y Efectos Institucionales&nbsp\;'Estigmatizaci
 &oacute\;n\, pobreza\, violencia\, g&eacute\;nero y segregaci&oacute\;n en
  la ciudad latinoamericana'\, a realizarse el&nbsp\;3&nbsp\;y 4&nbsp\;de o
 ctubre 2018\, en el&nbsp\;Campus Lo Contador UC.&nbsp\;El Comendador 1916\
 , Providencia\,&nbsp\;Pontificia Universidad Cat&oacute\;lica de Chile.\nD
 entro de los principales expositores estar&aacute\;n&nbsp\;Cristina Bay&oa
 cute\;n&nbsp\;(Universidad Nacional Aut&oacute\;noma de M&eacute\;xico)\,&
 nbsp\;&nbsp\;Mercedes Di Virgilio&nbsp\;(Universidad de Buenos Aires\, Arg
 entina) y&nbsp\;Gabriel Kessler&nbsp\;(Universidad Nacional de La Plata\, 
 Argentina).\n\nCUPOS LIMITADOSInscripciones en:&nbsp\;www.proyectomuei.com
 \nDUDAS O CONSULTAScontacto@proyectomuei.com\n&nbsp\;\n https://fadeu-old.
 urantiacos.cl/agenda/evento/1689-seminario-internacional-marginalidad-urba
 na-y-efectos-institucionales-estigmatizacion-pobreza-violencia-genero-y-se
 gregacion-en-la-ciudad-latinoamericana
DTSTART:20181003T170000Z
DTEND:20181003T210000Z
LOCATION:Salón Sergio Larraín\, Campus Lo Contador ()
SUMMARY:Seminario Internacional: Marginalidad Urbana y Efectos Instituciona
 les 'Estigmatización\, pobreza\, violencia\, género y segregación en la ci
 udad latinoamericana'
URL:https://fadeu-old.urantiacos.cl/agenda/evento/1689-seminario-internacio
 nal-marginalidad-urbana-y-efectos-institucionales-estigmatizacion-pobreza-
 violencia-genero-y-segregacion-en-la-ciudad-latinoamericana
END:VEVENT
BEGIN:VEVENT
UID:20260420T140828UTC-78422ipm18@https://fadeu-old.urantiacos.cl/
DTSTAMP:20260420T140828Z
DESCRIPTION:Se extiende la invitaci&oacute\;n al primer 'Seminario Tecnol&o
 acute\;gico de Fachadas y Cerramientos' a realizarse los d&iacute\;as&nbsp
 \;mi&eacute\;rcoles 03 y jueves 04 de octubre\, en el que expondr&aacute\;
 n arquitectos\, ingenieros\, industriales e investigadores de diferentes l
 ugares del pa&iacute\;s y del mundo.Ser&aacute\;n dos jornadas de presenta
 ciones sobre el dise&ntilde\;o\, la construcci&oacute\;n y el desempe&ntil
 de\;o de diferentes sistemas de cerramiento\, entre las que estar&aacute\;
  la conferencia del arquitecto y profesor de nuestra escuela\, Claudio V&a
 acute\;squez\, quien presentar&aacute\; el proyecto Fondef I+D 'FACHADA VA
 RIABLE: Soluci&oacute\;n de fachada din&aacute\;mica en base a patrones de
  movimiento coordinados para el control solar y lum&iacute\;nico aplicable
  en Santiago de Chile&rdquo\;\, del cual es investigador responsable.El ev
 ento es liberado\, previa inscripci&oacute\;n y con cupos limitados.&nbsp\
 ;Programa_http://facerchile.cl/Inscripci&oacute\;n_https://www.ecopass.cl/
 producers/seminario-facer-chile-2018-03-10/tresdedos?code=0044VyYDT6YSlEfN
 Fecha_03 y 04 de Octubre de 2018\, 8.30-18.30 h.Lugar_Centro Parque\, ubic
 ado en&nbsp\;Avenida Presidente Riesco #5330\, Santiago\, Las Condes\, Reg
 i&oacute\;n Metropolitana.&nbsp\;Sal&oacute\;n del Parque III en el nivel 
 B (piso -4).\n&nbsp\;\n https://fadeu-old.urantiacos.cl/agenda/evento/1688
 -invitacion-seminario-tecnologico-de-fachadas-y-cerramientos-facer
DTSTART:20181003T113000Z
DTEND:20181003T213000Z
LOCATION:Centro Parque (Av. Pdte. Riesco 5330\, Las Condes\, Región Metropo
 litana\, Chile)
SUMMARY:Invitación Seminario Tecnológico de Fachadas y Cerramientos | FACER
URL:https://fadeu-old.urantiacos.cl/agenda/evento/1688-invitacion-seminario
 -tecnologico-de-fachadas-y-cerramientos-facer
END:VEVENT
END:VCALENDAR
