BEGIN:VCALENDAR
VERSION:2.0
PRODID:-//https://fadeu-old.urantiacos.cl///NONSGML kigkonsult.se iCalcreator 2.10.15//
METHOD:PUBLISH
BEGIN:VEVENT
UID:20260420T140830UTC-8098nTcapT@https://fadeu-old.urantiacos.cl/
DTSTAMP:20260420T140830Z
DESCRIPTION:Las &uacute\;ltimas tendencias y tecnolog&iacute\;as en cuanto 
 a iluminaci&oacute\;n para retail\, patrimonio (l&iacute\;nea Light of Flo
 rence)\, residencial\, hospitalario y exteriores es lo que presentar&aacut
 e\;n Luca Valdrighi y Marco Michelini\, de la empresa Targetti el pr&oacut
 e\;ximo jueves 4 de octubre a las 19.00 en el Auditorio FADEU del Campus L
 o Contador.\n&nbsp\;En la instancia se realizar&aacute\; un taller con mue
 stras en situ de las distintas aplicaciones de los productos.\n&nbsp\;Una 
 invitaci&oacute\;n a disfrutar de la luz\, sus formas y posibilidades .\n&
 nbsp\;\n\n&nbsp\; https://fadeu-old.urantiacos.cl/agenda/evento/1674-works
 hop-targetti
DTSTART:20181004T220000Z
DTEND:20181004T230000Z
LOCATION:Auditorio FADEU\, Campus Lo Contador PUC (El Comendador 1916\, Pro
 videncia\, Providencia\, Región Metropolitana\, Chile)
SUMMARY:Workshop Targetti
URL:https://fadeu-old.urantiacos.cl/agenda/evento/1674-workshop-targetti
END:VEVENT
BEGIN:VEVENT
UID:20260420T140830UTC-8102VLBoVm@https://fadeu-old.urantiacos.cl/
DTSTAMP:20260420T140830Z
DESCRIPTION:Conferencia de Antonio Lipthay\, cofundador de la oficina Mobil
  Arquitectos\, titulada: 'Edificio y Ciudad: Proyectos 2010-2018'\, en la 
 cual presentar&aacute\;&nbsp\;el trabajo realizado en la oficina.\n&nbsp\;
 \n&nbsp\;\nMOBIL Arquitectos\n&nbsp\;\n\nSe establece en Santiago de Chile
  en septiembre de 2005 por Patricio Browne\, Antonio Lipthay y Sebasti&aac
 ute\;n Morand&eacute\;. Durante 13 a&ntilde\;os\, desde su formaci&oacute\
 ;n\, MOBIL ha desarrollado proyectos de Arquitectura y Dise&ntilde\;o Urba
 no. En el a&ntilde\;o 2013 se incorporan como socias Lorena P&eacute\;rez 
 y Mar&iacute\;a Jos&eacute\; Mart&iacute\;nez.\nDentro de una producci&oac
 ute\;n que bordea hoy el mill&oacute\;n de metros cuadrados\, MOBIL ha dis
 e&ntilde\;ado y coordinado una amplia gama de tipolog&iacute\;as y escalas
  de proyecto\, tanto de car&aacute\;cter p&uacute\;blico a trav&eacute\;s 
 de concursos y licitaciones\, como encargos privado de empresas y personas
 .\nEntre los proyectos de mayor tama&ntilde\;o se encuentran la infraestru
 ctura hospitalaria\, la infraestructura de transporte (L&iacute\;nea 6 del
  Metro de Santiago y nuevo est&aacute\;ndar de paraderos para Transantiago
 )\, espacios p&uacute\;blicos (cerros de Valpara&iacute\;so y Plaza de Mai
 p&uacute\;) y vivienda colectiva.\nDentro de las obras de tama&ntilde\;o m
 edio se destacan el Hotel Boutique Tierra Chilo&eacute\; y el conjunto de 
 viviendas 12 Cachagua.&nbsp\;\nAntonio Lipthay L.\nArquitecto UC (1992-199
 7)MSc London School of Economics (2000-2001)Director MOBIL Arquitectos (de
 sde el a&ntilde\;o 2005)Jefe de Magister en proyecto Urbano UC (desde 2017
 )&nbsp\;\n\nFecha_\nJueves 04 de octubre de 2018\, 19 h.&nbsp\;\n&nbsp\;\n
 Lugar_\nAuditorio FCV\, campus Lo Contador. El Comendador 1936\, Providenc
 ia.\n&nbsp\;\nOrganizan_\nEscuela de Arquitectura UC\nMag&iacute\;ster en 
 Proyecto Urbano UC\n&nbsp\;\n&nbsp\;\n\n&nbsp\; https://fadeu-old.urantiac
 os.cl/agenda/evento/1698-conferencia-mobil-arquitectos
DTSTART:20181004T220000Z
DTEND:20181004T230000Z
LOCATION:Auditorio Fernando Castillo Velasco. Edificio ARQ (El Comendador 1
 936\, Providencia\, Región Metropolitana\, Chile)
SUMMARY:Conferencia MOBIL arquitectos
URL:https://fadeu-old.urantiacos.cl/agenda/evento/1698-conferencia-mobil-ar
 quitectos
END:VEVENT
BEGIN:VEVENT
UID:20260420T140830UTC-8109xI15dF@https://fadeu-old.urantiacos.cl/
DTSTAMP:20260420T140830Z
DESCRIPTION:En el marco del&nbsp\;Seminario Sociedad\, Dise&ntilde\;o y Tec
 nolog&iacute\;a\,&nbsp\;STD\, se realizar&aacute\; la segunda sesi&oacute\
 ;n\,&nbsp\;Cartograf&iacute\;as de la Cultura Digital: De la creaci&oacute
 \;n al archivo.\nInstancia de reflexi&oacute\;n donde se hacen la pregunta
  sobre&nbsp\;las posibilidades creativas de las tecnolog&iacute\;as digita
 les que podr&iacute\;an parecer una trivialidad en nuestros d&iacute\;as.
 \nLo digital se encuentra en el coraz&oacute\;n de la producci&oacute\;n c
 ultural\, dado que actualmente toda producci&oacute\;n art&iacute\;stica p
 asa por alg&uacute\;n tipo de procedimiento vinculado a estas tecnolog&iac
 ute\;as: desde la producci&oacute\;n cinematogr&aacute\;fica a la musical\
 , desde la escritura y edici&oacute\;n de libros hasta la exhibici&oacute\
 ;n de obras art&iacute\;sticas.\nLa materialidad digital transforma los pr
 ocesos de producci&oacute\;n\, circulaci&oacute\;n y recepci&oacute\;n de 
 las obras art&iacute\;sticas\, donde estas mismas categor&iacute\;as se vu
 elven porosas y sus l&iacute\;mites se vuelven difusos. En esta investigac
 i&oacute\;n se&nbsp\;preguntan por la existencia de un lenguaje que aprove
 cha las caracter&iacute\;sticas expresivas del medio digital y que permite
  la aparici&oacute\;n de distintas pr&aacute\;cticas culturales que no son
  trasladables ni clasificables respecto a los medios anteriores.\nEn esta 
 presentaci&oacute\;n&nbsp\;se dar&aacute\; cuenta de los proyectos de inve
 stigaci&oacute\;n que han desarrollado en el Laboratorio de Cultura Digita
 l y se discutir&aacute\;&nbsp\;los resultados y preguntas que han surgido 
 de ellos.\n&nbsp\;\nInvestigadoras:\nCarolina Gainza Cort&eacute\;s.&nbsp\
 ;Soci&oacute\;loga y M&aacute\;ster en Estudios Latinoamericanos de la Uni
 versidad de Chile y Doctora en Hispanic Languages and Literatures de la Un
 iversidad de Pittsburgh. Profesora asistente de la Escuela de Literatura C
 reativa de la Universidad Diego Portales e investigadora principal del Pro
 yecto Fondecyt Regular &ldquo\;Cartograf&iacute\;a cr&iacute\;tica de la l
 iteratura digital latinoamericana&rdquo\;. Su principal &aacute\;rea de in
 vestigaci&oacute\;n se relaciona con la cultura digital\, donde ha realiza
 do investigaciones y publicado art&iacute\;culos sobre est&eacute\;ticas d
 e la cultura digital\, literatura digital\, formas de creaci&oacute\;n\, c
 irculaci&oacute\;n y recepci&oacute\;n\, movimientos sociales en la era di
 gital\, entre otros.\n&nbsp\;\nCarolina Z&uacute\;&ntilde\;iga V&aacute\;s
 quez.&nbsp\;Periodista y Licenciada en Comunicaci&oacute\;n Social\, Unive
 rsidad Cat&oacute\;lica de Chile. Certificate in Documentary Studies y Mas
 ter of Arts in Media Studies\, The New School University\, Nueva York. Es 
 profesora de la Escuela de Periodismo de la Universidad Diego Portales\, d
 onde desarrolla proyectos digitales y dicta cursos con &eacute\;nfasis en 
 nuevos medios\, narrativas digitales y documental. Desarroll&oacute\; el p
 royecto de investigaci&oacute\;n multimedia &ldquo\;Ra&uacute\;l Zurita: d
 ocumentos p&uacute\;blicos de la vida privada&rdquo\; (2017-2018\,&nbsp\;h
 ttp://documentospublicos.cl/). Actualmente es co-investigadora del Proyect
 o Fondecyt Regular &ldquo\;Cartograf&iacute\;a cr&iacute\;tica de la liter
 atura digital latinoamericana&rdquo\;.\n&nbsp\;\n\n\n&nbsp\;\n https://fad
 eu-old.urantiacos.cl/agenda/evento/1696-seminario-cartografias-de-la-cultu
 ra-digital-de-la-creacion-al-archivo
DTSTART:20181004T203000Z
DTEND:20181004T213000Z
LOCATION:Auditorio Fernando Castillo Velasco. Edificio ARQ (El Comendador 1
 936\, Providencia\, Región Metropolitana\, Chile)
SUMMARY:Seminario Cartografías de la Cultura Digital: De la creación al arc
 hivo
URL:https://fadeu-old.urantiacos.cl/agenda/evento/1696-seminario-cartografi
 as-de-la-cultura-digital-de-la-creacion-al-archivo
END:VEVENT
BEGIN:VEVENT
UID:20260420T140830UTC-8119tAJBgW@https://fadeu-old.urantiacos.cl/
DTSTAMP:20260420T140830Z
DESCRIPTION:La charla propone un recorrido a trav&eacute\;s de las obras m&
 aacute\;s significativas del estudio MOARQS focalizando los conceptos desd
 e los que la oficina desarrolla su pr&aacute\;ctica\, interactuando en el 
 mundo profesional y en el acad&eacute\;mico. La oficina desarrolla la pr&a
 acute\;ctica a partir de un enfoque constructivo que fomenta una arquitect
 ura sin prefiguraciones\, que surge de la disposici&oacute\;n de unos mate
 riales concretos en un cierto orden\, conjugados con &ldquo\;arte&rdquo\;\
 , consiguiendo una po&eacute\;tica intensa a trav&eacute\;s de una econom&
 iacute\;a de recursos.\n&nbsp\;\nMOARQS\n&nbsp\;\nEstudio de arquitectura 
 fundado y dirigido por el arquitecto Ignacio Montaldo (1975) en la ciudad 
 de Buenos Aires en el a&ntilde\;o 2004. El estudio funciona con una estruc
 tura flexible y din&aacute\;mica. Ha desarrollado obras y proyectos de tem
 &aacute\;ticas y escalas diversas\, participando en numerosos concursos de
  proyecto\, obteniendo varios premios entre los que se destaca el primer p
 uesto en el concurso para la remodelaci&oacute\;n de la Plaza de Mayo en e
 l a&ntilde\;o 2006\, el primer premio en el concurso nacional de proyectos
  para los Hitos Ecum&eacute\;nicos y el Centro de Visitantes del Parque Ar
 queol&oacute\;gico Colomichico\, en el noroeste de la provincia de Neuqu&e
 acute\;n\, en el a&ntilde\;o 2011. En el a&ntilde\;o 2007 ha obtenido el p
 rimer premio en la categor&iacute\;a intervenciones Urbanas del premio Bie
 nal para obras construidas del Colegio de Arquitectos de la Provincia de B
 uenos Aires y el 2008 primera menci&oacute\;n de honor en la Bienal Iberoa
 mericana de Quito en la categor&iacute\;a arquitectura paisajista.\n&nbsp\
 ;\nIgnacio Montaldo\n&nbsp\;\nProfesor Adjunto Regular en la Facultad de A
 rquitectura Dise&ntilde\;o y Urbanismo de la Universidad de Buenos Aires y
  Profesor de Tecnolog&iacute\;as Constructivas en la Universidad Nacional 
 de General San Martin. Ha dictado clases en la Universidad de Palermo y en
  la Universidad Torcuato Di Tella. Ha sido profesor invitado en la Univers
 idad de la Gran Colombia. Desde el a&ntilde\;o 2016 es Doctorando en la Un
 iversidad de Buenos Aires\, Facultad de arquitectura Dise&ntilde\;o y Urba
 nismo. Desde 2018 es coordinador del &aacute\;rea de Tecnolog&iacute\;a de
 l Instituto de Arquitectura y Urbanismo de la Universidad Nacional de San 
 Martin\, y Director del LabDA: Laboratorio de Documentos de Arquitectura d
 e la misma instituci&oacute\;n.\n&nbsp\;\nmoarqs Olleros 1617 1&deg\;A C14
 26CRC Ciudad de Buenos Aires Argentina T.+54 (11) 4778-9220 M +54 (911) 55
 03-0538&nbsp\;info@moarqs.com&nbsp\;www.moarqs.com\n&nbsp\;\n&nbsp\;\nFech
 a_\nJueves 04 de octubre de 2018\, 13.30 h\n&nbsp\;\n&nbsp\;\nLugar_\nAudi
 torio FCV\, campus Lo Contador. El Comendador 1936\, Providencia\n&nbsp\;
 \n&nbsp\;\nOrganizan_\nEscuela de Arquitectura UC\n&nbsp\;\n\n&nbsp\; http
 s://fadeu-old.urantiacos.cl/agenda/evento/1697-conferencia-moarqs-ignacio-
 montaldo
DTSTART:20181004T163000Z
DTEND:20181004T173000Z
LOCATION:Auditorio Fernando Castillo Velasco. Edificio ARQ (El Comendador 1
 936\, Providencia\, Región Metropolitana\, Chile)
SUMMARY:Conferencia MOARQS / Ignacio Montaldo
URL:https://fadeu-old.urantiacos.cl/agenda/evento/1697-conferencia-moarqs-i
 gnacio-montaldo
END:VEVENT
BEGIN:VEVENT
UID:20260420T140830UTC-8128kSiux4@https://fadeu-old.urantiacos.cl/
DTSTAMP:20260420T140830Z
DESCRIPTION:En el marco del curso Comunicaci&oacute\;n del Proyecto\, se re
 alizar&aacute\; una clase magistral abierta del connotado Vicente Larrea\,
  creador junto a su hermano&nbsp\;Antonio y Luis Albornoz\,&nbsp\;de la of
 icina de dise&ntilde\;o &ldquo\;Larrea&rdquo\;\, desde donde surgieron afi
 ches culturales y car&aacute\;tulas de discos para la Nueva Canci&oacute\;
 n Chilena.\n&nbsp\;\nCu&aacute\;ndo: 4 de octubre\,&nbsp\;10.00 hrs.\nD&oa
 cute\;nde: Sala Capilla\, Casona Campus Lo Contador\n&nbsp\;\n\n\n&nbsp\;
 \n&nbsp\;\n https://fadeu-old.urantiacos.cl/agenda/evento/1693-charla-dise
 no-y-oficio-vicente-larrea
DTSTART:20181004T130000Z
DTEND:20181004T140000Z
LOCATION:Sala Capilla\, Casona\, Campus Lo Contador (El Comendador 1916\, P
 rovidencia\, Región Metropolitana\, Chile)
SUMMARY:Charla 'Diseño y oficio' / Vicente Larrea
URL:https://fadeu-old.urantiacos.cl/agenda/evento/1693-charla-diseno-y-ofic
 io-vicente-larrea
END:VEVENT
END:VCALENDAR
