BEGIN:VCALENDAR
VERSION:2.0
PRODID:-//https://fadeu-old.urantiacos.cl///NONSGML kigkonsult.se iCalcreator 2.10.15//
METHOD:PUBLISH
BEGIN:VEVENT
UID:20260423T085305UTC-1306l5u4Fu@https://fadeu-old.urantiacos.cl/
DTSTAMP:20260423T085305Z
DESCRIPTION:En el contexto del curso &ldquo\;L&oacute\;gica del proyecto co
 ntempor&aacute\;neo y las arquitecturas por venir&rdquo\;\, que dicta la p
 rofesora Pilar Pinchart. Se presentar&aacute\; la charla de Ignacio Borreg
 o\, doctor arquitecto de la Escuela T&eacute\;cnica Superior de Arquitectu
 ra de Madrid.\nLa charla titulada Materia Informada\, Investigaci&oacute\;
 n y pr&aacute\;ctica profesional\, se dictar&aacute\; el d&iacute\;a marte
 s 10 de octubre\, en la sala segundo piso del Doctorado en Arquitectura y 
 Estudios Urbano.\n https://fadeu-old.urantiacos.cl/agenda/evento/1301-char
 la-ignacio-borrego-en-el-curso-logica-del-proyecto-contemporaneo
DTSTART:20171010T213000Z
DTEND:20171010T223000Z
LOCATION:Sala Doctorado (El Comendador 1970\, Providencia\, Región Metropol
 itana\, Chile)
SUMMARY:Charla Ignacio Borrego en el curso “Lógica del proyecto contemporán
 eo'
URL:https://fadeu-old.urantiacos.cl/agenda/evento/1301-charla-ignacio-borre
 go-en-el-curso-logica-del-proyecto-contemporaneo
END:VEVENT
BEGIN:VEVENT
UID:20260423T085305UTC-1311UPEV5u@https://fadeu-old.urantiacos.cl/
DTSTAMP:20260423T085305Z
DESCRIPTION:La Escuela de Dise&ntilde\;o UC\, CONAF y la Embajada de Estado
 s Unidos\, tienen el agrado de invitarle al Seminario de lanzamiento Dise&
 ntilde\;o y Accesibilidad Universal a la Naturaleza\, organizado conjuntam
 ente para dar inicio al trabajo acad&eacute\;mico integrado.\nLa actividad
  se realizar&aacute\; el Martes 10 de Octubre\, desde las 14:30 hrs.\, en 
 el Auditorio FADEU de la Facultad de Arquitectura\, Dise&ntilde\;o y Estud
 ios Urbanos\, ubicado en El Comendador 1916\, Providencia\, Santiago.\nEl 
 objetivo general es contribuir al an&aacute\;lisis de oportunidades para l
 a implementaci&oacute\;n de criterios de accesibilidad universal a la natu
 raleza y desarrollo de propuestas de dise&ntilde\;o de productos-servicios
  que mejoren la calidad de la experiencia de los(as) visitantes a las &aac
 ute\;reas silvestres protegidas del Estado (ASPE)\, con el objetivo de apo
 yar la materializaci&oacute\;n de la Estrategia Nacional de Accesibilidad 
 Universal a la naturaleza a trav&eacute\;s del Sistema Nacional de &Aacute
 \;reas Silvestres Protegidas del Estado (SNASPE).\n&nbsp\;\n https://fadeu
 -old.urantiacos.cl/agenda/evento/1297-seminario-de-lanzamiento-diseno-y-ac
 cesibilidad-universal-a-la-naturaleza
DTSTART:20171010T173000Z
DTEND:20171010T204500Z
LOCATION:Auditorio FADEU\, Campus Lo Contador PUC (El Comendador 1916\, Pro
 videncia\, Providencia\, Región Metropolitana\, Chile)
SUMMARY:Seminario de lanzamiento Diseño y Accesibilidad Universal a la Natu
 raleza
URL:https://fadeu-old.urantiacos.cl/agenda/evento/1297-seminario-de-lanzami
 ento-diseno-y-accesibilidad-universal-a-la-naturaleza
END:VEVENT
BEGIN:VEVENT
UID:20260423T085305UTC-13164Msj21@https://fadeu-old.urantiacos.cl/
DTSTAMP:20260423T085305Z
DESCRIPTION:Tenemos el agrado de invitar a usted al Seminario &ldquo\;Enfoq
 ues Ecol&oacute\;gicos para la Planificaci&oacute\;n Territorial&rdquo\; e
 l que llevar&aacute\; a cabo los d&iacute\;as 10 y 11 de octubre\, desde l
 as 8:45 a las 13:30 hrs. El primer d&iacute\;a se realizar&aacute\; en el 
 Campus Lo Contador (Auditorio Fernando Castillo Velasco) y el segundo d&ia
 cute\;a en el campus San Joaqu&iacute\;n (Auditorio de la Facultad de Agro
 nom&iacute\;a e Ingenier&iacute\;a Forestal)\, ambos de la Pontificia Univ
 ersidad Cat&oacute\;lica de Chile.\nEsta instancia est&aacute\; pensada en
  4 bloques en los que se expondr&aacute\;n proyectos e investigaciones rel
 acionadas con la planificaci&oacute\;n territorial enfocada en una aproxim
 aci&oacute\;n sustentable y ecol&oacute\;gica hacia el espacio periurbano 
 y los sistemas de &aacute\;reas verdes. Contaremos con la presencia de div
 ersos acad&eacute\;micos y profesionales\, m&aacute\;s la especial visita 
 de Anita Berrizbeitia\, Directora del Departamento de Arquitectura del Pai
 saje de la Universidad de Harvard\, quien es parte de este proyecto.\nEste
  Seminario cuenta con el auspicio de proyectos asociados a DRCLAS\, FONDAR
 T proyecto folio 215947 &ldquo\;Mosaico Ecol&oacute\;gico Urbano: Criterio
 s para el desarrollo de la Regi&oacute\;n Metropolitana de Chile&rdquo\; F
 ONDECYT y FONDAP\, \, dirigido por la Investigadora Catalina Picon\, el cu
 al tiene el apoyo de la Fundaci&oacute\;n Cerros Islas\, del Mag&iacute\;s
 ter en Arquitectura del Paisaje UC\, de la Facultad de Arquitectura\, Dise
 &ntilde\;o y Estudios Urbanos\, de la Facultad de Agronom&iacute\;a e Inge
 nier&iacute\;a Forestal\, de la Facultad de Historia\, Geograf&iacute\;a y
  Ciencias Pol&iacute\;ticas\, del Centro del Desarrollo Urbano Sustentable
  y del Centro de Pol&iacute\;ticas P&uacute\;blicas UC.\n https://fadeu-ol
 d.urantiacos.cl/agenda/evento/1299-seminario-enfoques-ecologicos-para-la-p
 lanificacion-territorial
DTSTART:20171010T120000Z
DTEND:20171011T170800Z
LOCATION:Auditorio Fernando Castillo Velasco. Edificio ARQ (El Comendador 1
 936\, Providencia\, Región Metropolitana\, Chile)
SUMMARY:Seminario “Enfoques Ecológicos para la Planificación Territorial”
URL:https://fadeu-old.urantiacos.cl/agenda/evento/1299-seminario-enfoques-e
 cologicos-para-la-planificacion-territorial
END:VEVENT
END:VCALENDAR
