BEGIN:VCALENDAR
VERSION:2.0
PRODID:-//https://fadeu-old.urantiacos.cl///NONSGML kigkonsult.se iCalcreator 2.10.15//
METHOD:PUBLISH
BEGIN:VEVENT
UID:20260423T085256UTC-8412cMdGv1@https://fadeu-old.urantiacos.cl/
DTSTAMP:20260423T085256Z
DESCRIPTION:'Aproximaci&oacute\;n Inmobiliaria a la Vivienda Urbana'Clase A
 bierta de Ignacio Za&ntilde\;artu\nIgnacio Za&ntilde\;artu presentar&aacut
 e\; 'Aproximaci&oacute\;n Inmobiliaria a la Vivienda Urbana' en el context
 o del curso 'Vivienda como Proyecto Urbano-Social' que dicta el profesor J
 os&eacute\; di Girolamo en el Magister en Proyecto Urbano UC.\nIgnacio Za&
 ntilde\;artu es Arquitecto de la Pontificia Universidad Cat&oacute\;lica d
 e Chile\, con experiencia en dise&ntilde\;o junto a destacados arquitectos
  nacionales como Cristi&aacute\;n Undurraga\, Guillermo Jullian y Teodoro 
 Fern&aacute\;ndez\, experiencia docente en diversas universidades\, y expe
 riencia en gesti&oacute\;n y desarrollo de proyectos urbanos e inmobiliari
 os en Novaterra\, Urbana E&amp\;D y Arauco Inmobiliaria (www.araucoi.cl)\,
  donde actualmente es Gerente General. Adem&aacute\;s es socio de llll Arq
 uitectura Dise&ntilde\;o Urbano..\nFecha_Jueves 12 de Octubre de 2017. 17.
 00 hrs.\nLugar_Sala 36\, 2&deg\; piso Casa Lo Contador. El Comendador 1916
 \, Providencia\nInvitan_Mag&iacute\;ster en Proyecto Urbano\n&nbsp\;\n htt
 ps://fadeu-old.urantiacos.cl/agenda/evento/1307-charla-abierta-aproximacio
 n-inmobiliaria-a-la-vivienda-urbana
DTSTART:20171012T200000Z
DTEND:20171012T213000Z
LOCATION:Sala 36\, Casona Lo Contador (El Comendador 1916\, Providencia\, R
 egión Metropolitana\, Chile)
SUMMARY:Charla Abierta: Aproximación Inmobiliaria a la Vivienda Urbana
URL:https://fadeu-old.urantiacos.cl/agenda/evento/1307-charla-abierta-aprox
 imacion-inmobiliaria-a-la-vivienda-urbana
END:VEVENT
BEGIN:VEVENT
UID:20260423T085256UTC-8417mViovc@https://fadeu-old.urantiacos.cl/
DTSTAMP:20260423T085256Z
DESCRIPTION:EXPOSICI&Oacute\;NCIUDAD Y CIELOSantiago 1850: la capital antes
  de su modernizaci&oacute\;n. La mirada urbana de la expedici&oacute\;n as
 tron&oacute\;mica de James Melville Gilliss\n&ldquo\;Hay\, pues\, en lo pr
 ofundo\, un h&aacute\;lito de optimismo\, de ingenua confianza en la rique
 za de los hechos urbanos (urbanos en sentido gen&eacute\;rico\, sin acepci
 &oacute\;n de modelos impuestos). Una confianza que nace seguramente de la
  misma mirada fervorosa con la que el sabio astr&oacute\;nomo escudri&ntil
 de\;a el firmamento&rdquo\;.&nbsp\;Manuel de Sol&aacute\;-Morales. De cosa
 s urbanas\, Barcelona\, p. 19.\nCon el fin de realizar la paralaje entre l
 os planetas Marte y Venus y poder establecer as&iacute\; la distancia de l
 a tierra al sol\, en 1848 el teniente de la marina norteamericana James Me
 lville Gillis organiz&oacute\; una expedici&oacute\;n astron&oacute\;mica 
 al Hemisferio Sur\, considerando como destino final\, Chile. Originalmente
 \, el lugar seleccionado fue la isla de Chilo&eacute\;. Sin embargo\, debi
 do a sus extremas condiciones clim&aacute\;ticas y la carencia de las como
 didades m&iacute\;nimas requeridas\, este lugar se reemplaz&oacute\; por l
 a capital\, Santiago. Entre los sitios que el gobierno de la &eacute\;poca
  ofreci&oacute\; para la instalaci&oacute\;n del observatorio\, Gilliss el
 igi&oacute\; el cerro Santa Luc&iacute\;a\, por su buena localizaci&oacute
 \;n y accesibilidad\, en comparaci&oacute\;n con el cerro Blanco\, m&aacut
 e\;s escarpado y distante del n&uacute\;cleo urbano. A pesar de la relevan
 cia de esta expedici&oacute\;n cient&iacute\;fica\, cuya estancia en el pa
 &iacute\;s se prolong&oacute\; por tres a&ntilde\;os\, hasta ahora no hab&
 iacute\;a sido sistem&aacute\;ticamente estudiada\, en consideraci&oacute\
 ;n de la magnitud y diversidad de sus logros.\nLa presente exposici&oacute
 \;n\, muestra los resultados de la investigaci&oacute\;n Fondecyt N&deg\; 
 1150308\, &ldquo\;Santiago 1850: la capital antes de su modernizaci&oacute
 \;n. La mirada urbana de la expedici&oacute\;n naval astron&oacute\;mica n
 orteamericana de James Melville Gilliss&rdquo\;\, que analiz&oacute\;\, tr
 anscribi&oacute\; e interpret&oacute\; los registros que\, de Santiago\, d
 ej&oacute\; la expedici&oacute\;n\, adem&aacute\;s de evaluar sus implican
 cias hist&oacute\;ricas y culturales. Todo lo anterior\, con el fin de det
 erminar sus caracter&iacute\;sticas y\, particularmente\, su visi&oacute\;
 n y comprensi&oacute\;n de Santiago\, como capital de una rep&uacute\;blic
 a que surg&iacute\;a en los confines australes.\nAdem&aacute\;s de los ava
 nces en el conocimiento realizados en relaci&oacute\;n a la expedici&oacut
 e\;n misma\, es decir\, como empresa cient&iacute\;fica y hecho cultural\,
  la investigaci&oacute\;n permiti&oacute\; relacionar la arquitectura\, el
  urbanismo y el paisaje con la historia y la cultura\, gracias a la reuni&
 oacute\;n de un equipo de investigadores y profesionales que estudi&oacute
 \; interdisciplinariamente los registros legados por la expedici&oacute\;n
 .\nNo es vano insistir\, finalmente\, que este trabajo ha puesto su inter&
 eacute\;s en un momento fundamental de la formaci&oacute\;n de Chile como 
 naci&oacute\;n\, en el cual la expedici&oacute\;n de Gilliss jug&oacute\; 
 un papel clave\, al dar inicio a su participaci&oacute\;n en el &aacute\;m
 bito de la astronom&iacute\;a mundial\, en el que hoy es un indiscutible p
 rotagonista\; y en se&ntilde\;alar la importancia de su capital\, Santiago
 \, en la definici&oacute\;n de su identidad como lugar finis terrae. De ah
 &iacute\; la necesidad de haberla abordado\, estudiado y explicado.\nFonde
 cyt N&deg\; 1150308\, &ldquo\;Santiago 1850: la capital antes de su modern
 izaci&oacute\;n. La mirada urbana de la expedici&oacute\;n naval astron&oa
 cute\;mica norteamericana de James Melville Gilliss&rdquo\;.\nInvestigador
  responsable: Germ&aacute\;n Hidalgo. Co-investigadores: Rodrigo Booth\, A
 mar&iacute\; Pelioswki\, Jos&eacute\; Rosas\, Wren Strabucchi\, Christian 
 Saavedra y Catalina Vald&eacute\;s (2015-2018). Colaboradores Internaciona
 les: Steven J. Dick\, Charlotte Bigg\, Felipe Correa. Personal T&eacute\;c
 nico: Eloy Bahamondes\, Italo Cordano\, Magdalena Montalb&aacute\;n\, Nico
 l&aacute\;s Verdejo. Tesistas: Camila Mancilla\, Joel Villegas\, Silvana G
 arc&iacute\;a\, Jos&eacute\; Reyes\, Claudia Vidal.\nColaboradores: Diego 
 Gonz&aacute\;lez\, Magdalena Araus\, Andrea Latrille\, Rodrigo Mella\, Rod
 ney Strabucchi\, Jos&eacute\; Ignacio Gonz&aacute\;lez\, Marco Barrientos\
 , Joaqu&iacute\;n Gago\, Valentina Salgado\, Carlos Silva\, Patricia Bravo
 \, Jos&eacute\; Manuel Monge\, Alex Moreno\, Guillermo Zilleruelo\, Pilar 
 Fern&aacute\;ndez. Ximena Gallardo\, Sebastian Valladares\, Ren&eacute\; D
 iaz\, Florencia Toro\, Karina Campos.\nCurso Optativo Lecciones Cartogr&aa
 cute\;ficas. Escuela de Arquitectura. Pontificia Universidad Cat&oacute\;l
 ica de Chile. 2015Estudiantes: Mar&iacute\;a Jos&eacute\; Espinosa\, Pablo
  Espinosa\, Pablo Gubbins\, Paulina Montero\, Francisca R&iacute\;os\, Fel
 ipe Tagle\, Ignacio Torres. Profesor: Germ&aacute\;n Hidalgo.\nTaller de i
 nvestigaci&oacute\;n. Escuela de Arquitectura. Pontificia Universidad Cat&
 oacute\;lica de Chile. 2017Estudiantes: Marjorie Barros\, Joaqu&iacute\;n 
 C&aacute\;rdenas\, Vicente Donoso\, Paula Gonz&aacute\;lez\, Dafne Gonz&aa
 cute\;lez\, Damaris Landskron\, Karen R&iacute\;os\, Agustina Wetzing. Pro
 fesor: Germ&aacute\;n Hidalgo / Ayudante: Gabriela Nash.\nDise&ntilde\;o d
 e la exposici&oacute\;n:Germ&aacute\;n Hidalgo\, Wren Strabucchi y Nicol&a
 acute\;s Verdejo\nDise&ntilde\;o gr&aacute\;ficoNicol&aacute\;s Verdejo y 
 Javiera Quiroga\nProducci&oacute\;n de estructuras met&aacute\;licasTPI Ch
 ile S. A.\nMaqueta y material visualB+V Arquitectos\nPlanos Hist&oacute\;r
 icosMapoteca Biblioteca Nacional de Chile\n&nbsp\;\n https://fadeu-old.ura
 ntiacos.cl/agenda/evento/1295-exposicion-ciudad-y-cielo
DTSTART:20171012T163000Z
DTEND:20171012T173000Z
LOCATION:Colegio de Arquitectos de Chile\, Alameda 115\, Santiago (Av Liber
 tador Bernardo O'Higgins 115\, Santiago\, Santiago\, Región Metropolitana\
 , Chile)
SUMMARY:Exposición Ciudad y Cielo
URL:https://fadeu-old.urantiacos.cl/agenda/evento/1295-exposicion-ciudad-y-
 cielo
END:VEVENT
BEGIN:VEVENT
UID:20260423T085256UTC-8433b9hlen@https://fadeu-old.urantiacos.cl/
DTSTAMP:20260423T085256Z
DESCRIPTION:Tenemos el agrado de invitarlos(las) a la Conferencia Internaci
 onal 'Marginalidad Urbana y Efectos Institucionales'\, a realizarse el 11\
 , 12 y 13 de Octubre de 9 a 18 hrs. en la Facultad de Arquitectura\, Dise&
 ntilde\;o y Estudios Urbanos\, de la Pontificia Universidad Cat&oacute\;li
 ca de Chile.\nM&aacute\;s de 70 expositores de tres continentes llegan la 
 pr&oacute\;xima semana a presentar en diferentes mesas tem&aacute\;ticas\,
  adem&aacute\;s de 5 reconocidas investigadoras que realizar&aacute\;n c&a
 acute\;tedras magistrales: Janet Smith (University of Illinois at Chicago)
 \, Mar&iacute\;a Carman (Universidad de Buenos Aires)\, Vera Malaguti Bati
 sta (Universidade do Estado do Rio de Janeiro)\, Mar&iacute\;a Emilia Tijo
 ux (Universidad de Chile) y Francisca M&aacute\;rquez (Universidad Alberto
  Hurtado).\nLa Conferencia Internacional 'Marginalidad Urbana y Efectos In
 stitucionales&rdquo\;\, busca debatir m&aacute\;s all&aacute\; de los efec
 tos de la concentraci&oacute\;n f&iacute\;sica de hogares pobres\, poniend
 o un foco especial en el rol que juegan las instituciones en el manejo y t
 ransformaci&oacute\;n de la pobreza urbana. La conferencia ahondar&aacute\
 ; en el entramado institucional que moldea la marginalidad urbana en t&eac
 ute\;rminos materiales y simb&oacute\;licos. Las l&iacute\;neas tem&aacute
 \;ticas de la conferencia apuntan a diversos temas que incluyen la segrega
 ci&oacute\;n residencial\, los efectos de barrio\, la acci&oacute\;n insti
 tucional\, la estigmatizaci&oacute\;n territorial\, el capital social\, lo
 s v&iacute\;nculos comunitarios\, la inmigraci&oacute\;n y la etnicidad\, 
 y los conflictos socio-espaciales.\nInscripciones y programa en la p&aacut
 e\;gina web del Proyecto MUEI.\n&nbsp\;\n https://fadeu-old.urantiacos.cl/
 agenda/evento/1303-conferencia-internacional-marginalidad-urbana-y-efectos
 -institucionales
DTSTART:20171011T120000Z
DTEND:20171013T210000Z
LOCATION:Campus Lo Contador (El Comendador 1916\, Providencia\, Providencia
 \, Región Metropolitana\, Chile)
SUMMARY:Conferencia Internacional 'Marginalidad Urbana y Efectos Institucio
 nales'
URL:https://fadeu-old.urantiacos.cl/agenda/evento/1303-conferencia-internac
 ional-marginalidad-urbana-y-efectos-institucionales
END:VEVENT
END:VCALENDAR
