BEGIN:VCALENDAR
VERSION:2.0
PRODID:-//https://fadeu-old.urantiacos.cl///NONSGML kigkonsult.se iCalcreator 2.10.15//
METHOD:PUBLISH
BEGIN:VEVENT
UID:20260419T191834UTC-6390MFnO4C@https://fadeu-old.urantiacos.cl/
DTSTAMP:20260419T191834Z
DESCRIPTION:Charla MagistralGustavo Soares: Estrategias\, Tecnolog&iacute\;
 a y Cuchillo\nEl&nbsp\;wayfinding&nbsp\;se refiere a los sistemas de infor
 maci&oacute\;n que gu&iacute\;an a las personas a trav&eacute\;s de ambien
 tes f&iacute\;sicos y mejoran su comprensi&oacute\;n y experiencia de los 
 entornos. Desde ah&iacute\;\, el comunicador gr&aacute\;fico y dise&ntilde
 \;ador brasile&ntilde\;o\, Gustavo Soares\, hablar&aacute\; de su experien
 cia trabajando en el desarrollo de la informaci&oacute\;n visual de los &u
 acute\;ltimos juegos panamericanos que se desarrollaron en Lima Per&uacute
 \; en el marco del&nbsp\;Diplomado en Tipograf&iacute\;a&nbsp\;impartido p
 or Dise&ntilde\;o UC.\nGustavo Soares\, dise&ntilde\;ador brasile&ntilde\;
 o&nbsp\;especialista en tipograf&iacute\;a dise&ntilde\;o de informaci&oac
 ute\;n. Ha colaborado en proyectos como el desarrollo de la imagen de la C
 opa Mundial de la FIFA 2014\, la tipograf&iacute\;a de R&iacute\;o 2016 y 
 el dise&ntilde\;o de informaci&oacute\;n de la ciudad de R&iacute\;o de Ja
 neiro\, Walk Rio. Su &uacute\;ltima propuesta fue&nbsp\;el trabajo hecho c
 omo Wayfinding Lead para los Juegos Panamericanos de Lima este 2019.\n&nbs
 p\;\n https://fadeu-old.urantiacos.cl/agenda/evento/1977-gustavo-soares-es
 trategias-tecnologia-y-cuchillo
DTSTART:20191014T220000Z
DTEND:20191015T000000Z
LOCATION:Salón Sergio Larraín\, Campus Lo Contador ()
SUMMARY:Gustavo Soares: Estrategias\, Tecnología y Cuchillo
URL:https://fadeu-old.urantiacos.cl/agenda/evento/1977-gustavo-soares-estra
 tegias-tecnologia-y-cuchillo
END:VEVENT
BEGIN:VEVENT
UID:20260419T191834UTC-63963rPZ4d@https://fadeu-old.urantiacos.cl/
DTSTAMP:20260419T191834Z
DESCRIPTION:Presentaci&oacute\;n del Dr.&nbsp\;Chris Whitman\,&nbsp\;subdir
 ector del MSc Sustainable Building Conservation de&nbsp\;la Cardiff Univer
 sity\,&nbsp\;sobre tecnolog&iacute\;a\, eficiencia energ&eacute\;tica y el
  riesgo de ataque de agentes biol&oacute\;gicos en&nbsp\;edificios patrimo
 niales de madera.\n&nbsp\;\nConferencia 'Eficiencia Energ&eacute\;tica y P
 atrimonio Arquitect&oacute\;nico: el caso de los edificios patrimoniales d
 e madera en el Reino Unido' | Chris Whitman\n&nbsp\;\nCon las modificacion
 es introducidas en mayo de 2018 a la directiva relativa a la eficiencia en
 erg&eacute\;tica de los edificios\, la Union Europea (UE) ha reiterado su 
 meta de descarbonizar el parque inmobiliario de aqu&iacute\; a 2050. Para 
 realizar esta meta\, se ha identificado la eficiencia energ&eacute\;tica y
  espec&iacute\;ficamente el reacondicionamiento t&eacute\;rmico de las env
 olventes de las edificaciones existentes\, como una de las acciones princi
 pales. Al mismo tiempo\, la directiva reconoce el requisito de garantizar 
 la protecci&oacute\;n y la conservaci&oacute\;n del patrimonio cultural y 
 hace hincapi&eacute\; en la necesidad de m&aacute\;s investigaci&oacute\;n
  sobre el reacondicionamiento de edificios patrimoniales.\n&nbsp\;\n\nHast
 a ahora en el Reino Unido\, las investigaciones en este campo se han enfoc
 ado en las construcciones de alba&ntilde\;iler&iacute\;a\, que conforman u
 na gran parte del entorno construido hist&oacute\;rico. Sin embargo\, exis
 te poca investigaci&oacute\;n relacionada a la edificaci&oacute\;n en made
 ra\, de la cual se cuenta con m&aacute\;s de 68\,000 ejemplos en el pa&iac
 ute\;s. Desde 2014 el Dr. Chris Whitman de la Welsh School of Architecture
  de la Universidad de Cardiff\, Gales\, ha estudiado los edificios patrimo
 niales de madera\, espec&iacute\;ficamente aquellos con entramado de mader
 a a la vista\, su eficiencia energ&eacute\;tica y los impactos de su reaco
 ndicionamiento t&eacute\;rmico. A trav&eacute\;s del monitoreo in situ\, s
 imulaci&oacute\;n digital y pruebas de laboratorio &eacute\;l ha comprobad
 o que aunque es posible mejorar su eficiencia y el confort de sus habitant
 es\, problemas como la falta de conocimiento\, mal dise&ntilde\;o y mano d
 e obra o el uso de materiales incompatibles puede resultar en aumentos en 
 la humedad del entramado hist&oacute\;rico\, que a su vez amplifica el rie
 sgo de ataque de los agentes biol&oacute\;gicos tales como los insectos y 
 hongos. Actualmente\, el Dr Whitman mantiene sus investigaciones con finan
 ciamiento de Historic England\, en la b&uacute\;squeda de un futuro susten
 table para esta &aacute\;rea emblem&aacute\;tica del patrimonio ingl&eacut
 e\;s.\n\nChris Whitman\nArquitecto brit&aacute\;nico por el Edinburgh Coll
 ege of Art de Escocia y doctorado del Welsh School of Architecture de la C
 ardiff University. Actualmente es el subdirector del Master in Sustainable
  Building Conservation de dicha instituci&oacute\;n en Gales.\nEstudi&oacu
 te\; su pregrado en el Edinburgh College of Art en Edimburgo y en la Acade
 mia Real de Bellas Artes de Dinamarca (Kongelige Danske Kunstakademi)\, Co
 penhague. Por siete a&ntilde\;os trabaj&oacute\; con Edward Cullinan Archi
 tects (ahora Cullinan Studio)\, una oficina que ha estado dise&ntilde\;and
 o edificios sostenibles por m&aacute\;s de 50 a&ntilde\;os.&nbsp\;Entre 20
 07 y 2014 trabaj&oacute\; en tres universidades chilenas\, la Universidad 
 Central de Chile\, Universidad Andr&eacute\;s Bello y Universidad Cat&oacu
 te\;lica de Temuco. Adem&aacute\;s fue profesor invitado en programas de p
 ostgrado en la Universidad del Bio Bio y la Pontificia Universidad Cat&oac
 ute\;lica.\nFecha_\nLunes 14 de octubre de 2019\, 18.30 h\n&nbsp\;\nLugar_
 Auditorio Fernando Castillo VelascoCampus Lo ContadorEl Comendador 1936\, 
 Providencia\n&nbsp\;\nOrganiza_\nCentro de Desarrollo Urbano Sustentable C
 EDEUS UC\nEscuela de Arquitectura UC\n&nbsp\;\nColabora_\nMag&iacute\;ster
  en Arquitectura Sustentable y Energ&iacute\;a UC\n&nbsp\;\n\n&nbsp\;\nNot
 iciasContacto:&nbsp\;redesarq@uc.cl&nbsp\;| +56 2 2354 7747www.arquitectur
 a.uc.cl https://fadeu-old.urantiacos.cl/agenda/evento/2001-conferencia-efi
 ciencia-energetica-y-patrimonio-arquitectonico-el-caso-de-los-edificios-pa
 trimoniales-de-madera-en-el-reino-unido-chris-whitman
DTSTART:20191014T213000Z
DTEND:20191014T223000Z
LOCATION:Auditorio Fernando Castillo Velasco. Edificio ARQ (El Comendador 1
 936\, Providencia\, Región Metropolitana\, Chile)
SUMMARY:Conferencia 'Eficiencia Energética y Patrimonio Arquitectónico: el 
 caso de los edificios patrimoniales de madera en el Reino Unido' | Chris W
 hitman
URL:https://fadeu-old.urantiacos.cl/agenda/evento/2001-conferencia-eficienc
 ia-energetica-y-patrimonio-arquitectonico-el-caso-de-los-edificios-patrimo
 niales-de-madera-en-el-reino-unido-chris-whitman
END:VEVENT
BEGIN:VEVENT
UID:20260419T191834UTC-64091ZcEHJ@https://fadeu-old.urantiacos.cl/
DTSTAMP:20260419T191834Z
DESCRIPTION:En el marco del&nbsp\;Taller de Investigaci&oacute\;n y Proyect
 o 'Las Escuelas' del Mag&iacute\;ster en Arquitectura UC\, se realizar&aac
 ute\; la funci&oacute\;n del documental&nbsp\;'La sala ense&ntilde\;a'\,&n
 bsp\;pel&iacute\;cula producida por Ense&ntilde\;a Chile y que se grab&oac
 ute\; en distintos lugares del pa&iacute\;s\, con el objetivo de mostrar e
 l impacto que los colegios pueden tener en la vida de los alumnos y sus pr
 ofesores.\nUna mirada amplia sobre los desaf&iacute\;os y oportunidades de
  la educaci&oacute\;n en Chile. Diputados\, estudiantes\, acad&eacute\;mic
 os\, profesores\, madres y padres\, directores\, y empresarios estructuran
  una reflexi&oacute\;n desde distintas regiones del pa&iacute\;s\, que dan
  cuenta de una problem&aacute\;tica multisist&eacute\;mica. Historias que 
 evidencian que el talento est&aacute\; en todas partes\, en cada sala de c
 lases y que las oportunidades deber&iacute\;an estar distribuidas as&iacut
 e\; tambi&eacute\;n\, sin importar el lugar donde nos toc&oacute\; nacer. 
 Un relato que nos llama a la acci&oacute\;n y a hacernos cargo. Y sobre to
 do a creer que es posible asegurar las condiciones necesarias para que tod
 os los estudiantes en Chile desarrollen su m&aacute\;ximo potencial.\n*Eve
 nto abierto a todo p&uacute\;blico\, sin previa inscripci&oacute\;n.\nFech
 a_Lunes 14 de octubre de 2019\, 13.00 h\nLugar_Auditorio Fernando Castillo
  VelascoCampus Lo ContadorEl Comendador 1936\, Providencia\n&nbsp\;\n&nbsp
 \;\nOrganiza_\nFundaci&oacute\;n Ense&ntilde\;a Chile\nMag&iacute\;ster en
  Arquitectura UC\nEscuela de Arquitectura UC\n&nbsp\;\n&nbsp\;\nMayor info
 rmaci&oacute\;n en este&nbsp\;link\n&nbsp\;\nRevisa el teaser en este&nbsp
 \;link\n&nbsp\;\n\n\nNoticiasContacto:&nbsp\;redesarq@uc.cl&nbsp\;| +56 2 
 2354 7747www.arquitectura.uc.cl https://fadeu-old.urantiacos.cl/agenda/eve
 nto/1993-documental-la-sala-ensena
DTSTART:20191014T160000Z
DTEND:20191014T170000Z
LOCATION:Auditorio Fernando Castillo Velasco. Edificio ARQ (El Comendador 1
 936\, Providencia\, Región Metropolitana\, Chile)
SUMMARY:Documental 'La sala enseña'
URL:https://fadeu-old.urantiacos.cl/agenda/evento/1993-documental-la-sala-e
 nsena
END:VEVENT
END:VCALENDAR
