BEGIN:VCALENDAR
VERSION:2.0
PRODID:-//https://fadeu-old.urantiacos.cl///NONSGML kigkonsult.se iCalcreator 2.10.15//
METHOD:PUBLISH
BEGIN:VEVENT
UID:20260423T085320UTC-12205ZLzll@https://fadeu-old.urantiacos.cl/
DTSTAMP:20260423T085320Z
DESCRIPTION:En el marco del taller integrado de Biofabricaci&oacute\;n dict
 ado entre Dise&ntilde\;o UC y Arquitectura UC\, se presentar&aacute\; Davi
 d Benjamin fundador de #TheLiving y director del Living Architectural Lab 
 de Columbia para dictar una charla sobre Biodise&ntilde\;o.\nCu&aacute\;nd
 o_ Lunes 16 de octubre a las 13:00D&oacute\;nde_ Auditorio Fernando Castil
 lo Velasco\, Escuela de Arquitectura\, El Comendador 1916.\n https://fadeu
 -old.urantiacos.cl/agenda/evento/1321-charla-david-benjamin
DTSTART:20171016T160000Z
DTEND:20171016T170000Z
LOCATION:Auditorio Fernando Castillo Velasco. Edificio ARQ (El Comendador 1
 936\, Providencia\, Región Metropolitana\, Chile)
SUMMARY:Charla David Benjamin
URL:https://fadeu-old.urantiacos.cl/agenda/evento/1321-charla-david-benjami
 n
END:VEVENT
END:VCALENDAR
