BEGIN:VCALENDAR
VERSION:2.0
PRODID:-//https://fadeu-old.urantiacos.cl///NONSGML kigkonsult.se iCalcreator 2.10.15//
METHOD:PUBLISH
BEGIN:VEVENT
UID:20260419T191938UTC-674509hWKn@https://fadeu-old.urantiacos.cl/
DTSTAMP:20260419T191938Z
DESCRIPTION:En el contexto de la&nbsp\;XIV Bienal de Artes Mediales&nbsp\;y
  con el apoyo del programa de Mag&iacute\;ster en Arquitectura del Paisaje
  UC\, se realizar&aacute\; la proyecci&oacute\;n de la pel&iacute\;cula de
 &nbsp\;Gilles Cl&eacute\;ment&nbsp\;'Le jardin en mouvement' y una charla 
 dictada por&nbsp\;Miguel Georgieff\, colaborador de Cl&eacute\;ment y miem
 bro de Coloco -colectivo de acci&oacute\;n jardinera radicado en Francia-.
 \nEl jard&iacute\;n en movimiento&nbsp\;sostiene que los jardines y el pai
 saje no son espacios est&aacute\;ticos que deben controlarse\, sino lugare
 s donde la naturaleza debe seguir su curso y las especies vegetales deben 
 instalarse de forma libre de modo que la experiencia est&eacute\;tica surj
 a de la contemplaci&oacute\;n de los propios procesos espont&aacute\;neos 
 de sucesi&oacute\;n biol&oacute\;gica.\nDirigida por Olivier Comte\, esta 
 pel&iacute\;cula muestra los escenarios y las historias que llevaron a Gil
 les Cl&eacute\;ment\, arquitecto del paisaje y fil&oacute\;sofo franc&eacu
 te\;s\, a elaborar los principios del tercer paisaje y el jard&iacute\;n p
 lanetario que dan sustento intelectual a su pr&aacute\;ctica de conocimien
 to y gesti&oacute\;n de la biodiversidad silvestre.\nPosteriormente\, Migu
 el Georgieff\, colaborador de Cl&eacute\;ment y miembro de Coloco -colecti
 vo de acci&oacute\;n jardinera radicado en Francia-\, conversar&aacute\; c
 on Paula Aguirre y Romy Hecht\, arquitectas y profesoras del Mag&iacute\;s
 ter de Arquitectura del Paisaje (MAPA) de la Pontificia Universidad Cat&oa
 cute\;lica.\n*Evento liberado\, con inscripci&oacute\;n previa al correo&n
 bsp\;inscripciones@cchv.cl\nMayor informaci&oacute\;n en este&nbsp\;link\n
 Fecha_Mi&eacute\;rcoles 16 de octubre de 2019\, 18.30 a 21.30 h\nLugar_Aud
 itorio FADEU\nCampus Lo Contador\nEl Comendador 1916\, Providencia\n&nbsp\
 ;\n&nbsp\;\nOrganiza_\nXIV Bienal de Artes Mediales\nMag&iacute\;ster en A
 rquitectura del Paisaje UCEscuela de Arquitectura UC\nColabora_\nMinisteri
 o de las Culturas\, las Artes y el Patrimonio\nCorporaci&oacute\;n chilena
  de Video y Artes Electr&oacute\;nicas\nEmian Foundation\nantenna\n&nbsp\;
 \n\nNoticiasContacto:&nbsp\;redesarq@uc.cl&nbsp\;| +56 2 2354 7747www.arqu
 itectura.uc.cl https://fadeu-old.urantiacos.cl/agenda/evento/2015-proyecci
 on-y-charla-le-jardin-en-mouvement-de-gilles-clement
DTSTART:20191016T213000Z
DTEND:20191016T223000Z
LOCATION:Auditorio FADEU\, Campus Lo Contador PUC (El Comendador 1916\, Pro
 videncia\, Providencia\, Región Metropolitana\, Chile)
SUMMARY:Proyección y charla 'Le jardin en mouvement' de Gilles Clément
URL:https://fadeu-old.urantiacos.cl/agenda/evento/2015-proyeccion-y-charla-
 le-jardin-en-mouvement-de-gilles-clement
END:VEVENT
BEGIN:VEVENT
UID:20260419T191938UTC-6753G9UeVF@https://fadeu-old.urantiacos.cl/
DTSTAMP:20260419T191938Z
DESCRIPTION:Ciclo 'Paisajes interconectados:&nbsp\;Interconexiones desde el
  Patrimonio'\nConferencia 'Sensibilidades est&eacute\;ticas: Notas sobre p
 aisaje y patrimonio'&nbsp\;|&nbsp\;Claudia Larra&iacute\;n\nClaudia Larra&
 iacute\;n\, arquitecta de la Universidad de Chile\, Mag&iacute\;ster en Ar
 quitectura del Paisaje UC\,&nbsp\;M&aacute\;ster en Historia y Gesti&oacut
 e\;n de Patrimonio Cultural de la Universidad de Los Andes y&nbsp\;profeso
 ra de la Escuela de Arquitectura UC\, dictar&aacute\; la conferencia 'Sens
 ibilidades est&eacute\;ticas: Notas sobre paisaje y patrimonio'\, tercera 
 sesi&oacute\;n 'Interconexiones desde el Patrimonio'&nbsp\;del ciclo 'Pais
 ajes interconectados'\,&nbsp\;en el marco del curso m&iacute\;nimo del pro
 grama de Mag&iacute\;ster en Arquitectura del Paisaje 'Historias de la Arq
 uitectura del Paisaje'\, a cargo de las profesoras Romy Hecht y Javiera In
 fante.\nClaudia Larra&iacute\;n\nArquitecta de la Universidad de Chile (19
 96)\, Mag&iacute\;ster en Arquitectura del Paisaje de la Pontificia Univer
 sidad Cat&oacute\;lica de Chile (2012) y M&aacute\;ster en Historia y Gest
 i&oacute\;n de Patrimonio Cultural de la Universidad de Los Andes (2017). 
 Trabaja como arquitecta independiente y\, desde el a&ntilde\;o 2017\, como
  profesora asistente adjunta en la Escuela de Arquitectura de la Pontifici
 a Universidad Cat&oacute\;lica de Chile. El 2016 cofund&oacute\; la Corpor
 aci&oacute\;n Cultura de Paisaje en Chile\, una organizaci&oacute\;n sin f
 ines de lucro dedicada de modo exclusivo e integral al desarrollo de proye
 ctos de puesta en valor y conservaci&oacute\;n del paisaje en Chile.\nFech
 a_\nMi&eacute\;rcoles 16 de octubre de 2019\, 15.30 h\n&nbsp\;\nLugar_Sala
  32Campus Lo ContadorEl Comendador 1936\, Providencia\n&nbsp\;\nOrganiza_
 \nMag&iacute\;ster en Arquitectura del PaisajeEscuela de Arquitectura UC\n
 &nbsp\;\n&nbsp\;\nNoticiasContacto:&nbsp\;redesarq@uc.cl&nbsp\;| +56 2 235
 4 7747www.arquitectura.uc.cl https://fadeu-old.urantiacos.cl/agenda/evento
 /1983-ciclo-paisajes-interconectados-claudia-larrain
DTSTART:20191016T183000Z
DTEND:20191016T193000Z
LOCATION:Sala 32 Casona Campus Lo Contador (El Comendador\, Providencia\, P
 rovidencia\, Región Metropolitana\, Chile)
SUMMARY:Ciclo 'Paisajes interconectados' | Claudia Larraín
URL:https://fadeu-old.urantiacos.cl/agenda/evento/1983-ciclo-paisajes-inter
 conectados-claudia-larrain
END:VEVENT
END:VCALENDAR
