BEGIN:VCALENDAR
VERSION:2.0
PRODID:-//https://fadeu-old.urantiacos.cl///NONSGML kigkonsult.se iCalcreator 2.10.15//
METHOD:PUBLISH
BEGIN:VEVENT
UID:20260423T101153UTC-0257e6Ut5T@https://fadeu-old.urantiacos.cl/
DTSTAMP:20260423T101153Z
DESCRIPTION:El pr&oacute\;ximo martes 17 de octubre se realizar&aacute\; el
  lanzamiento del libro del acad&eacute\;mico Arturo Almandoz 'Modernizaci&
 oacute\;n Urbana en Am&eacute\;rica Latina: de las grandes aldeas a las me
 tr&oacute\;polis masificadas'.\nLa actividad se realizar&aacute\; a las 18
 :30 hrs. en la Biblioteca Sergio Larra&iacute\;n\, Campus Lo Contador\, Po
 ntificia Universidad Cat&oacute\;lica.\nResumen\nPartiendo de concepciones
  de Jos&eacute\; Luis Romero\, entre otros historiadores culturales\, se r
 ecorre en este libro un arco de transformaciones iniciadas bajo la &eacute
 \;gida modernizadora de una burgues&iacute\;a que\, despu&eacute\;s de la 
 Independencia\, cambiaba de comercial a industrial en Am&eacute\;rica Lati
 na. Tal como se ilustra en los episodios constitutivos de los cap&iacute\;
 tulos\, el per&iacute\;odo se define\, en t&eacute\;rminos urbanos\, desde
  las transformaciones de las ciudades poscoloniales o grandes aldeas &ndas
 h\;seg&uacute\;n la imagen ep&oacute\;nima de la novela bonaerense de Luci
 o L&oacute\;pez&ndash\; en el marco de las primeras reformas progresistas 
 y liberales de mediados del siglo XIX\; hasta la aparici&oacute\;n y conso
 lidaci&oacute\;n del urbanismo moderno un siglo m&aacute\;s tarde\, catali
 zado en parte por las respuestas que las metr&oacute\;polis masificadas re
 quer&iacute\;an de los gobiernos locales y nacionales. A lo largo de ese d
 ilatado arco modernizador\, cuyo escenario m&aacute\;s frecuente son las c
 apitales y ciudades primadas\, tambi&eacute\;n se trata de incorporar la r
 epresentaci&oacute\;n imaginaria de la urbanizaci&oacute\;n y de la modern
 izaci&oacute\;n misma\, as&iacute\; como el clima intelectual y acad&eacut
 e\;mico en el que emergiera el urbanismo en tanto disciplina. Por todo ell
 o\, puede decirse que este trabajo busca inscribirse dentro del campo de l
 a historia cultural y de las mentalidades.\n&nbsp\;\n https://fadeu-old.ur
 antiacos.cl/agenda/evento/1323-lanzamiento-libro-modernizacion-urbana-en-a
 merica-latina-de-las-grandes-aldeas-a-las-metropolis-masificadas
DTSTART:20171017T213000Z
DTEND:20171017T223000Z
LOCATION:Biblioteca Sergio Larraín (El Comendador 1916\, Providencia\, Prov
 idencia\, Región Metropolitana\, Chile)
SUMMARY:Lanzamiento libro: Modernización urbana en América Latina: de las g
 randes aldeas a las metrópolis masificadas
URL:https://fadeu-old.urantiacos.cl/agenda/evento/1323-lanzamiento-libro-mo
 dernizacion-urbana-en-america-latina-de-las-grandes-aldeas-a-las-metropoli
 s-masificadas
END:VEVENT
END:VCALENDAR
