BEGIN:VCALENDAR
VERSION:2.0
PRODID:-//https://fadeu-old.urantiacos.cl///NONSGML kigkonsult.se iCalcreator 2.10.15//
METHOD:PUBLISH
BEGIN:VEVENT
UID:20260419T191835UTC-6445oBO1UZ@https://fadeu-old.urantiacos.cl/
DTSTAMP:20260419T191835Z
DESCRIPTION:Segundo encuentro de 2019 del ciclo 'La ciudad como proyecto'\,
  organizado por la Escuela de Arquitectura UC y el Centro de Estudios P&ua
 cute\;blicos (CEP).\nEn esta oportunidad\, conversar&aacute\;n&nbsp\;Aleja
 ndro Aravena\, arquitecto titular de la Escuela de Arquitectura UC\, Premi
 o Pritzker de Arquitectura 2016 y director ejecutivo de la oficina Element
 al S.A.\; y&nbsp\;Carolina Toh&aacute\;\, investigadora y pol&iacute\;tica
 \, ex Presidenta del Partido Por la Democracia (PPD) y ex Alcaldesa de la 
 comuna de Santiago\; sobre la ciudad y sus conflictos. El encuentro ser&aa
 cute\; moderado por Slaven Razmilic\, investigador del CEP y Profesor de c
 &aacute\;tedra en econom&iacute\;a urbana y desigualdad en la Escuela de G
 obierno de la Universidad Cat&oacute\;lica de Chile y la Universidad Adolf
 o Iba&ntilde\;ez.\nAlejandro Aravena\nArquitecto de la Universidad Cat&oac
 ute\;lica de Chile. Galardonado Premio Pritzker Arquitectura el a&ntilde\;
 o 2016\, mismo a&ntilde\;o que fue curador y director de la XVI Bienal de 
 Arquitectura de Venecia. Es director ejecutivo de la oficina Elemental S.A
 .\nCarolina Toh&aacute\;\nCientista Pol&iacute\;tica\, investigadora\, aca
 d&eacute\;mica y pol&iacute\;tica. Militante y ex-Presidenta del Partido P
 or la Democracia (PPD). Ha ejercido como Diputada\, Ministra del Estado y 
 alcaldesa de la comuna de Santiago durante el gobierno de la presidenta Mi
 chelle Bachelet.\nIntroducci&oacute\;n por Slaven Razmilic:\n'Las ciudades
  experimentan cambios permanentemente\, en particular aquellas en que la p
 oblaci&oacute\;n aumenta y m&aacute\;s a&uacute\;n si lo hace tambi&eacute
 \;n el ingreso promedio de los residentes.\nEs el caso de la mayor&iacute\
 ;a de las ciudades chilenas: sumamos personas\, autom&oacute\;viles\, nuev
 as viviendas\, reemplazo de viviendas antiguas\, el deseo de aumentar el e
 st&aacute\;ndar residencial\, entre otros. Y esto s&oacute\;lo desde los h
 ogares. Si sumamos tambi&eacute\;n el comercio\, la industria\, la oferta 
 de servicios\, oficinas y un largo etc\, las ciudades &ldquo\;exitosas&rdq
 uo\; (las que atraen poblaci&oacute\;n y actividad) deben lidiar permanent
 emente con su &ldquo\;&eacute\;xito&rdquo\; y administrar su crecimiento y
  evoluci&oacute\;n.\nEsto no es f&aacute\;cil e implica inevitables grados
  de conflicto: la dificultad de crecer y a la vez preservar\, de administr
 ar necesidades de los nuevos o potenciales vecinos con las de los existent
 es. Esto s&oacute\;lo por nombrar dos razones.\nJunto con invitar a identi
 ficar los actores en conflicto y sus intereses muchas veces contrapuestos\
 , interesa tambi&eacute\;n darle una mirada desde la soluci&oacute\;n\, en
  particular en base a la experiencia de cada uno.\nAmbos est&aacute\;n de 
 acuerdo en la importancia de la ciudad y el bien com&uacute\;n\, por lo qu
 e sus miradas respecto de c&oacute\;mo resolver las tensiones entre actore
 s con valores distintos o en conflicto es sumamente pertinente.\nHay a lo 
 menos tres aproximaciones:- desde el dise&ntilde\;o urbano (&eacute\;nfasi
 s en resolver los impactos y equilibrar los beneficios del desarrollo urba
 no)- desde la sociolog&iacute\;a (&eacute\;nfasis en las demandas de los g
 rupos organizados y su capacidad de canalizar m&uacute\;ltiples demandas)-
  desde la pol&iacute\;tica-institucional (dar espacios normados e instituc
 ionales a necesidades no tiene espacio institucional\, donde los actores s
 uelen buscar otros caminos para influir en las decisiones).'\n*Evento libe
 rado\, con inscripci&oacute\;n previa en el siguiente&nbsp\;link\nFecha_Ju
 eves 17 de octubre de 2019\, 19.00 h\nLugar_Auditorio del CEPMonse&ntilde\
 ;or S&oacute\;tero Sanz 162\, Providencia\nOrganiza_Escuela de Arquitectur
 a UCCentro de Estudios P&uacute\;blicos (CEP)\n\nNoticiasContacto:&nbsp\;r
 edesarq@uc.cl&nbsp\;| +56 2 2354 7747www.arquitectura.uc.cl https://fadeu-
 old.urantiacos.cl/agenda/evento/2005-conversatorio-la-ciudad-como-proyecto
 -ciudad-y-conflictos
DTSTART:20191017T220000Z
DTEND:20191017T230000Z
LOCATION:Auditorio CEP (Monseñor Sótero Sanz 162)
SUMMARY:Conversatorio 'La ciudad como proyecto: Ciudad y Conflictos”
URL:https://fadeu-old.urantiacos.cl/agenda/evento/2005-conversatorio-la-ciu
 dad-como-proyecto-ciudad-y-conflictos
END:VEVENT
BEGIN:VEVENT
UID:20260419T191835UTC-6457kzU3PJ@https://fadeu-old.urantiacos.cl/
DTSTAMP:20260419T191835Z
DESCRIPTION:Presentaci&oacute\;n&nbsp\;'Beauty &amp\; Responsibility in Lan
 dscape Architecture &amp\; Building'&nbsp\;de&nbsp\;Marc Treib\, arquitect
 o y profesor de la&nbsp\;University of California\, Berkeley\, invitado po
 r el programa de&nbsp\;Mag&iacute\;ster en Arquitectura del Paisaje UC.\n&
 nbsp\;\n'Sin embargo\, desafortunadamente\, vivimos en un mundo de divisio
 nes\, divisiones entre los de diferentes religiones\, pa&iacute\;ses\, par
 tidos pol&iacute\;ticos\, ideolog&iacute\;as\, incluidas las profesiones d
 e dise&ntilde\;o que posicionan la sostenibilidad por encima de la comodid
 ad y la est&eacute\;tica humana\, o viceversa. En lugar de las pr&aacute\;
 cticas de uno u otro\, &iquest\;no podr&iacute\;amos proponer\, m&aacute\;
 s beneficiosamente\, pr&aacute\;cticas de ambos / y en las cuales el dise&
 ntilde\;o aborda todos los factores por igual\, en lugar de solo unos poco
 s seleccionados? Los estudios de caso extra&iacute\;dos de la historia y l
 a arquitectura y construcci&oacute\;n de paisajes contempor&aacute\;neos d
 emostrar&aacute\;n que se ha logrado un dise&ntilde\;o de inclusi&oacute\;
 n en el pasado y que se puede lograr nuevamente hoy\, sin importar las res
 tricciones ambientales o econ&oacute\;micas que se nos imponen. El objetiv
 o no es una propuesta de belleza o responsabilidad\, sino una de belleza y
  responsabilidad.'\n&nbsp\;\n\nMarc Treib\n\nHistoriador y cr&iacute\;tico
  ampliamente publicado en tem&aacute\;ticas de arquitectura del paisaje en
  Estados Unidos\, Jap&oacute\;n y Escandinavia. Es arquitecto por la Unive
 rsity of Florida\, con un M&aacute\;ster en Arquitectura y un M&aacute\;st
 er en Artes y Dise&ntilde\;o de la University of California\, Berkeley\, i
 nstituci&oacute\;n en la que es profesor em&eacute\;rito.\nMarc Treib es c
 oautor de&nbsp\;Garrett Eckbo: Modern Landscapes for Living\,&nbsp\;y auto
 r de&nbsp\;Space Calculated in Seconds: The Philips Pavilion\; Le corbusie
 r\; Edgar Varese\;&nbsp\;y&nbsp\;anctuaries of Spanish New Mexico. Tambi&e
 acute\;n es editor de&nbsp\;An Everyday Modernism: The Houses of William W
 urster&nbsp\;y&nbsp\;Modern Landscape Architecture: A Critical Review\; y 
 coeditor de&nbsp\;Regional Garden Design&nbsp\;en los Estados Unidos. Entr
 e los honores recibidos destacan una beca Guggenheim\, becas Fullbright\,u
 na beca en la American Academy de Roma\, ASLA Honor Awards y el premio Bes
 t Exhibition Publication de la Society of Architectural Historians. Ha ser
 vido en la Junta de Becarios Mayores del Programa Dumbarton Oaks en Estudi
 os de Paisaje\; como jurado de la American Academy de Roma\; como miembro 
 del consejo editorial de&nbsp\;Design Issues\; AIGA Journal\; Places\; Des
 ign Book Review\; Journal of Garden History\; y como editor colaborador de
  la revista&nbsp\;Print.&nbsp\;Ha impartido estudios de dise&ntilde\;o\, c
 ursos y conferencias sobre arquitectura y jardines japoneses\; seminarios 
 sobre temas especializados que incluyen arquitectura del paisaje\, cr&iacu
 te\;tica\, arte y arquitectura escandinava moderna. Su investigaci&oacute\
 ;n involucra los dise&ntilde\;os urbanos de Eliel Saarinen\; el jard&iacut
 e\;n japon&eacute\;s en el siglo XX\; nacionalismo y modernismo en la arqu
 itectura del paisaje de Christopher Tunnard y Sutemi Horiguchi\; y la arqu
 itectura del paisaje de Luis Barrag&aacute\;n.\nFecha_\nJueves 17 de octub
 re de 2019\, 18.30 h\n&nbsp\;\n&nbsp\;\nLugar_Auditorio Fernando Castillo 
 VelascoCampus Lo ContadorEl Comendador 1936\, Providencia\n&nbsp\;\n&nbsp\
 ;\nOrganiza_\nMag&iacute\;ster en Arquitectura del Paisaje UC\nEscuela de 
 Arquitectura UC\n\n\nNoticiasContacto:&nbsp\;redesarq@uc.cl&nbsp\;| +56 2 
 2354 7747www.arquitectura.uc.cl https://fadeu-old.urantiacos.cl/agenda/eve
 nto/2003-conferencia-beauty-responsibility-in-landscape-architecture-build
 ing-marc-treib
DTSTART:20191017T213000Z
DTEND:20191017T223000Z
LOCATION:Auditorio Fernando Castillo Velasco. Edificio ARQ (El Comendador 1
 936\, Providencia\, Región Metropolitana\, Chile)
SUMMARY:Conferencia 'Beauty & Responsibility in Landscape Architecture & Bu
 ilding' | Marc Treib
URL:https://fadeu-old.urantiacos.cl/agenda/evento/2003-conferencia-beauty-r
 esponsibility-in-landscape-architecture-building-marc-treib
END:VEVENT
BEGIN:VEVENT
UID:20260419T191835UTC-6469eU6Umf@https://fadeu-old.urantiacos.cl/
DTSTAMP:20260419T191835Z
DESCRIPTION:Este jueves es la segunda parte del Taller de Arpilleras de Mel
 ipilla.\nEn esta segunda instancia se abordar&aacute\;n nuevamente las pun
 tadas\, junto a la elaboraci&oacute\;n y aplicaci&oacute\;n de personajes.
 \n\nEn Montecarmelo\, Bellavista 0594Horario: 11:00 hrs a 13:30 hrs.\nAmbo
 s talleres son GRATUITOS\, previa inscripci&oacute\;n en&nbsp\;https://for
 ms.gle/TpnqhVyaCk9xFh7P8&nbsp\;o al tel&eacute\;fono 22820290\n&nbsp\;\n\n
  https://fadeu-old.urantiacos.cl/agenda/evento/2023-taller-arpilleras-meli
 pilla-puntadas-y-personajes
DTSTART:20191017T140000Z
DTEND:20191017T160000Z
LOCATION:Montecarmelo (Bellavista 0594)
SUMMARY:Taller Arpilleras  Melipilla  Puntadas y Personajes
URL:https://fadeu-old.urantiacos.cl/agenda/evento/2023-taller-arpilleras-me
 lipilla-puntadas-y-personajes
END:VEVENT
BEGIN:VEVENT
UID:20260419T191835UTC-6472bbFuZ9@https://fadeu-old.urantiacos.cl/
DTSTAMP:20260419T191835Z
DESCRIPTION:Invitamos al&nbsp\;Seminario Internacional&nbsp\;Magallanes 202
 0 TERRITORIO SIN FRONTERAS.&nbsp\;Patrimonio y desarrollo territorial sust
 entable del paisaje cultural de Magallanes. Miradas y experiencias&nbsp\;n
 acionales e internacionales: Chile\, Italia\, Espa&ntilde\;a y Portugal.\n
 El presente Seminario tiene como prop&oacute\;sito el promover un intercam
 bio de experiencias y conocimiento entre&nbsp\;las diversas instituciones 
 y los investigadores asistentes\, en el campo de la valoraci&oacute\;n de 
 la identidad cultural&nbsp\;como un agente que participa activamente en la
  construcci&oacute\;n del territorio y el desarrollo sustentable de una&nb
 sp\;regi&oacute\;n distante como Magallanes\, que sin embargo est&aacute\;
  muy conectada con Chile y el mundo de acuerdo con las&nbsp\;contribucione
 s de una variedad de viajeros\, exploradores e inmigrantes que recorrieron
  y habitaron el territorio en 500 a&ntilde\;os de historia.\n\nOrganizan: 
 Proyecto CONICYT PCI REDES 180063\, Centro del Patrimonio Cultural UC.Cola
 boran: Facultad de Arquitectura\, Dise&ntilde\;o y Estudios Urbanos UC\, U
 niversidad de Magallanes\, Museo Regional de Magallanes\, Ilustre Municipa
 lidad de Punta Arenas.Auspicia: CONICYT Programa de Cooperaci&oacute\;n In
 ternacional REDES 180063.\nEl proyecto PCI REDES 180063 tiene por objetivo
  el establecer redes entre investigadores del Centro del Patrimonio Cultur
 al\,&nbsp\;Universidad Cat&oacute\;lica\, del Departamento di Architettura
  e Studi Urbani\, Polit&eacute\;cnico di Milano\, de la Escola T&eacute\;c
 nica&nbsp\;Superior d&rsquo\;Arquitectura de la Universidad Polit&eacute\;
 cnica de Catalunya\, de la Facultad de Arquitetura\, Universidad de&nbsp\;
 Lisboa\, de la Escuela de Arquitectura\, Universidad de Magallanes y de Wi
 ldlife Conservation Society\, Chile.&nbsp\;  \nEn el proyecto PCI REDES 18
 003 participa como investigador principal el profesor Umberto Bonomo. Como
  coinvestigadores locales participan los profesores Macarena Cort&eacute\;
 s y Eugenio Garc&eacute\;s\, de la Escuela de Arquitectura UC. Como coinve
 stigadores extranjeros participan Andrea Gritti y Federico Bucci\, del Pol
 it&eacute\;cnico de Mil&aacute\;n\; Joao Cabral\, de la Universidad de Lis
 boa y Joaqu&iacute\;n Sabat&eacute\; de la Universidad Polit&eacute\;cnica
  de Catalunya. Como doctorante participa Yolanda Mu&ntilde\;oz\, del Docto
 rado en Arquitectura y Estudios Urbanos UC. El coordinador del proyecto es
  Carlos Silva\, instructor adjunto de la Escuela de Arquitectura UC.\nAbie
 rto a todo p&uacute\;blico. Entrada liberada\, cupos limitados.&nbsp\;Insc
 ripciones a trav&eacute\;s del siguiente&nbsp\;formulario.\nPrograma  17 d
 e octubre \n09:00 am: Acreditaci&oacute\;n de participantes .\n09:30 am: C
 eremonia de inauguraci&oacute\;n: \n9:30 am: Sr Claudio Radonich\, Alcalde
  de Punta Arenas. \n9:40 am: Dr. Manuel Manr&iacute\;quez\, Vicerrector de
  Vinculaci&oacute\;n con el Medio UMAG. \n9:50 am: Paola Grendi\, Director
 a del Museo Regional de Magallanes. \n10:00 am: Umberto Bonomo\, director 
 del Centro del Patrimonio.\n10:20 am: inicio de la sesi&oacute\;n de la ma
 &ntilde\;ana .\n10:20 am: Eugenio Garc&eacute\;s\, Dr Arquitecto\, Pontifi
 cia Universidad Cat&oacute\;lica de Chile: &ldquo\;Estrecho de Magallanes 
 como Itinerario Cultural.&nbsp\;Arquitectura y urbanismo en un territorio 
 sin fronteras.&rdquo\; \n11:00 am: Espacio para preguntas .\n11:30 am: Pau
 sa para caf&eacute\;. \n12:00 pm: Joao Cabral\, PhD in Urban Planning\, Un
 iversidad de Lisboa\, &ldquo\;Territ&oacute\;rios sem fronteiras &ndash\; 
 desafios ao planeamento e desenvolvimento de base local&rdquo\;. \n12:30 p
 m: Espacio para preguntas. \n1:00 pm: Pausa para el almuerzo.\n3:00 pm: in
 icio de la sesi&oacute\;n de la tarde.\n 3:00 pm: Daniela Droguett\, Direc
 tora WCS Magallanes\, 'Conservaci&oacute\;n marina en Tierra del Fuego\, u
 na herramienta necesaria para proyectar los pr&oacute\;ximos 500 a&ntilde\
 ;os del Estrecho de Magallanes&rdquo\;. \n3:30 pm: Carlos Silva\, Doctoran
 te en Arquitectura y Estudios Urbanos\, Pontificia Universidad Cat&oacute\
 ;lica de Chile\, &ldquo\;Planos y planes del centro hist&oacute\;rico de P
 unta Arenas (1868-1920). Las capas de su historia urbana.' \n4:00 pm: Espa
 cio para preguntas .\n4:30 pm: Pausa para caf&eacute\;.5:00 pm: Marcelo Co
 oper\, Arquitecto y Mag&iacute\;ster\, Pontificia Universidad Cat&oacute\;
 lica de Chile 'Tierra del Fuego: Configuraciones antr&oacute\;picas en un 
 territorio de frontera'5:30 pm: Danilo Martic\, Arquitecto\, profesor de l
 a Escuela de Arquitectura\, Pontificia Universidad Cat&oacute\;lica de Chi
 le: &ldquo\;Magallanes 2020: Proyectos de Paisaje Urbano en la Patagonia&r
 dquo\; .\n6:00 pm: Espacio para preguntas .\n&nbsp\;\n6:30 pm: Inauguraci&
 oacute\;n de la exposici&oacute\;n:&nbsp\;&ldquo\;Magallanes 2020: La UC&n
 bsp\; en Magallanes&rdquo\; a cargo de la Dra. Macarena Cort&eacute\;s\, D
 irectora de Extensi&oacute\;n y Comunicaciones de la Facultad de Arquitect
 ura\, Dise&ntilde\;o y Estudios Urbanos UC\, y Danilo Martic\, profesor de
  la Escuela de Arquitectura UC. \n7:00 pm: Recorrido guiado por la exposic
 i&oacute\;n.\n&nbsp\;\nPrograma 18 de octubre \n&nbsp\;\n09:00 am: Acredit
 aci&oacute\;n de participantes .\n09:30 am: inicio de la sesi&oacute\;n de
  la ma&ntilde\;ana.\n 09:30 am: Franz Kroeger\, Ge&oacute\;grafo y Candida
 to a Doctor en Urbanismo\, UPC Barcelona: &ldquo\;Rasgos de expresi&oacute
 \;n en en los confines&nbsp\;sin frontera.' \n10:00 am: Alfredo Prieto\, P
 hD Arqueolog&iacute\;a Prehist&oacute\;rica\, Universidad de Magallanes: &
 ldquo\;La ciudad del Rey don Felipe&rdquo\;. \n10:30 am: Espacio para preg
 untas .\n11:00 am: Pausa para caf&eacute\;. \n11:30 am: Boris Cvitanic\, D
 r. Arquitecto y Daniel Matus\, Dr. Urbanista\, Universidad de Magallanes: 
 &ldquo\;Patrimonio industrial en Magallanes&rdquo\;. \n12:00 pm: Joaqu&iac
 ute\;n Bascop&eacute\;\, Dr. en Sociolog&iacute\;a\, Instituto Patag&oacut
 e\;nico de Ciencias Sociales y Humanas: &ldquo\;Performance doctoral\, soc
 iedades secretas y poder femenino en las primeras naciones fuegopatag&oacu
 te\;nicas&rdquo\;. \n12:30 pm: Espacio para preguntas .\n1:00 pm: Sesi&oac
 ute\;n de cierre del Seminario. \n&nbsp\;\n1:30 pm: Fin del evento. https:
 //fadeu-old.urantiacos.cl/agenda/evento/1991-seminario-internacional-magal
 lanes-2020-territorio-sin-fronteras
DTSTART:20191017T120000Z
DTEND:20191017T220000Z
LOCATION:Centro Cultural Ilustre Municipalidad de Punta Arenas (21 de Mayo 
 2421\, Punta Arenas)
SUMMARY:Seminario Internacional Magallanes 2020 'Territorio sin fronteras'
URL:https://fadeu-old.urantiacos.cl/agenda/evento/1991-seminario-internacio
 nal-magallanes-2020-territorio-sin-fronteras
END:VEVENT
END:VCALENDAR
