BEGIN:VCALENDAR
VERSION:2.0
PRODID:-//https://fadeu-old.urantiacos.cl///NONSGML kigkonsult.se iCalcreator 2.10.15//
METHOD:PUBLISH
BEGIN:VEVENT
UID:20260423T085315UTC-1396kO9d5m@https://fadeu-old.urantiacos.cl/
DTSTAMP:20260423T085315Z
DESCRIPTION:Earthquakes at the centre of Italy - Terremotos en el centro de
  ItaliaAgenda p&uacute\;blica del Simposio ''De la emergencia a la reconst
 rucci&oacute\;n: pol&iacute\;ticas post desastre para el desarrollo urbano
  sostenible''\nLa conferencia\, que forma parte de la colaboraci&oacute\;n
  internacional de la investigaci&oacute\;n 'De la emergencia a la reconstr
 ucci&oacute\;n: pol&iacute\;ticas post desastre para el desarrollo urbano 
 sostenible'\, actualmente en desarrollo por investigadores del CEDEUS y CI
 GIDEN\, y la investigaci&oacute\;n 'Imparando dalle catastrofi: metodi\, s
 trumenti e tecniche per la realizzazione di spazi urbani resilienti'\, ser
 &aacute\; realizada por el equipo de investigadores invitados del Politecn
 ico di Milano\, que fueron contactados recientemente para compartir conten
 idos\, m&eacute\;todos y experiencias relacionados con los proyectos. El o
 bjetivo principal de este encuentro es intercambiar los conocimientos obte
 nidos y las experiencias de ambos equipos en su trabajo de investigaci&oac
 ute\;n.\nEsta conferencia ser&aacute\; parte de las actividades del simpos
 io con los investigadores de ambos equipos que incluye adem&aacute\;s un w
 orkshop con estudiantes de los Mag&iacute\;steres de Arquitectura Sustenta
 ble y Energ&iacute\;a y de Proyecto Urbano del 16 al 20 de Octubre.\nFecha
 _Mi&eacute\;rcoles 18 de octubre de 2017. 18.00 hrs.\nLugar_Auditorio Fern
 ando Castillo Velasco. El Comendador 1936\, 4&deg\; piso. Providencia\nInv
 itan_CEDEUSCIGIDENMASE UC\n https://fadeu-old.urantiacos.cl/agenda/evento/
 1335-terremotos-en-el-centro-de-italia
DTSTART:20171018T210000Z
DTEND:20171018T220000Z
LOCATION:Auditorio Fernando Castillo Velasco. Edificio ARQ (El Comendador 1
 936\, Providencia\, Región Metropolitana\, Chile)
SUMMARY:Terremotos en el Centro de Italia
URL:https://fadeu-old.urantiacos.cl/agenda/evento/1335-terremotos-en-el-cen
 tro-de-italia
END:VEVENT
BEGIN:VEVENT
UID:20260423T085315UTC-1402vUvABF@https://fadeu-old.urantiacos.cl/
DTSTAMP:20260423T085315Z
DESCRIPTION:Presentaci&oacute\;n Libro Opera Chillana Digiesta de Juan Borc
 hers\, Fisuras 2017. Espa&ntilde\;a.Cu&aacute\;ndo_ Mi&eacute\;rcoles 18 o
 ctubreHora_ 13:00 horasD&oacute\;nde_ Campus Lo Contador\n&nbsp\;\n https:
 //fadeu-old.urantiacos.cl/agenda/evento/1339-presentacion-libro-opera-chil
 lana-digesta
DTSTART:20171018T160000Z
DTEND:20171018T161300Z
LOCATION:Campus Lo Contador (El Comendador 1916\, Providencia\, Providencia
 \, Región Metropolitana\, Chile)
SUMMARY:Presentación Libro Opera Chillana Digesta
URL:https://fadeu-old.urantiacos.cl/agenda/evento/1339-presentacion-libro-o
 pera-chillana-digesta
END:VEVENT
END:VCALENDAR
