BEGIN:VCALENDAR
VERSION:2.0
PRODID:-//https://fadeu-old.urantiacos.cl///NONSGML kigkonsult.se iCalcreator 2.10.15//
METHOD:PUBLISH
BEGIN:VEVENT
UID:20260420T140210UTC-6002KVdWtX@https://fadeu-old.urantiacos.cl/
DTSTAMP:20260420T140210Z
DESCRIPTION:Lanzamiento del Libro:&nbsp\;V&iacute\;speras del urbanismo en 
 Latinoam&eacute\;rica\, 1870-1930. Imaginarios pioneros y disciplinas. Lib
 ro editado por&nbsp\;Arturo Almandoz&nbsp\;y&nbsp\;Macarena Ibarra.\n&nbsp
 \;\nLa actividad se realizar&aacute\; el&nbsp\;jueves 18 de octubre a las 
 18:30&nbsp\;en el Sal&oacute\;n Sergio Larra&iacute\;n. El Comendador 1916
 \, Providencia\,&nbsp\;Pontificia Universidad Cat&oacute\;lica de Chile.\n
 \nLas inscripciones se realizan en el siguiente&nbsp\;link.Se ofrecer&aacu
 te\; un vino de honor al t&eacute\;rmino del lanzamiento.\n&nbsp\;\nT&iacu
 te\;tulo:&nbsp\;Lanzamiento del Libro:&nbsp\;V&iacute\;speras del urbanism
 o en Latinoam&eacute\;rica\, 1870-1930. Imaginarios pioneros y disciplinas
 .\nEditores:&nbsp\;Arturo Almandoz y Macarena Ibarra\nAutores de cap&iacut
 e\;tulos:&nbsp\;Arturo Almandoz &amp\; Macarena Ibarra\, Macarena Ibarra\,
  Florencia Quesada\, Alfonso Valenzuela\, Javier Fedele\, Elo&iacute\;sa P
 etti.\n&nbsp\;\n&nbsp\;\nResumen:&nbsp\;Este volumen re&uacute\;ne propues
 tas\, debates y planes inclusivos y/o&nbsp\;resultantes de imaginarios\, p
 ioneros y disciplinas\, entreverados con la&nbsp\;especializaci&oacute\;n 
 profesional y las reformas institucionales y legales\, tanto&nbsp\;a nivel
  urbano como nacional. Iniciado con la d&eacute\;cada de 1870\, cuando&nbs
 p\;tuvieron lugar en varias ciudades las primeras reformas poscoloniales\,
  el&nbsp\;per&iacute\;odo es un tr&aacute\;nsito entre los primeros intent
 os por parte del Estado\,&nbsp\;pioneros y especialistas para hacer frente
  a los problemas urbanos\; hasta&nbsp\;la v&iacute\;spera o el momento mis
 mo de la institucionalizaci&oacute\;n del urbanismo\,&nbsp\;bien fuera des
 de los niveles locales o nacionales de la administraci&oacute\;n&nbsp\;p&u
 acute\;blica. Al tiempo que registrar antecedentes conducentes a la emerge
 ncia&nbsp\;del urbanismo y la planificaci&oacute\;n\, se intenta\, en tant
 o objetivo adicional&nbsp\;del volumen\, colocar esos antecedentes del urb
 anismo latinoamericano&nbsp\;en perspectiva con el desarrollo de la discip
 lina a nivel internacional.\nTras una revisi&oacute\;n historiogr&aacute\;
 fica inicial de alcance internacional\, cinco&nbsp\;cap&iacute\;tulos osci
 lan entre lo urbano y lo nacional dentro de las coordenadas&nbsp\;temporal
 es se&ntilde\;aladas: pioneros urbanistas en debates de Santiago y&nbsp\;o
 tras ciudades chilenas\; ensanches y nuevos espacios de poder en Ciudad&nb
 sp\;de Guatemala\; Miguel &Aacute\;ngel de Quevedo y las propuestas vision
 arias&nbsp\;para Ciudad de M&eacute\;xico\; controversias y trama inicial 
 del urbanismo en&nbsp\;Buenos Aires y Rosario\; y las propuestas de Donat-
 Alfred Agache y Le&nbsp\;Corbusier para R&iacute\;o de Janeiro en la d&eac
 ute\;cada de 1930.\n&nbsp\;\n\n&nbsp\;\n https://fadeu-old.urantiacos.cl/a
 genda/evento/1704-lanzamiento-del-libro-visperas-del-urbanismo-en-latinoam
 erica-1870-1930-imaginarios-pioneros-y-disciplinas
DTSTART:20181018T213000Z
DTEND:20181018T223000Z
LOCATION:Salón Sergio Larraín\, Campus Lo Contador ()
SUMMARY:Lanzamiento del Libro: Vísperas del urbanismo en Latinoamérica\, 18
 70-1930. Imaginarios pioneros y disciplinas
URL:https://fadeu-old.urantiacos.cl/agenda/evento/1704-lanzamiento-del-libr
 o-visperas-del-urbanismo-en-latinoamerica-1870-1930-imaginarios-pioneros-y
 -disciplinas
END:VEVENT
BEGIN:VEVENT
UID:20260420T140210UTC-6012vITAEu@https://fadeu-old.urantiacos.cl/
DTSTAMP:20260420T140210Z
DESCRIPTION:\n&nbsp\;\nSam Jacoby&nbsp\;dictar&aacute\; conferencia&nbsp\;e
 n el contexto de Archiprix 2019 y&nbsp\;del programa de Mag&iacute\;ster e
 n Proyecto Urbano UC (MPUR). El evento se llevar&aacute\; a cabo el jueves
  18 de octubre en el auditorio FCV y ser&aacute\; abierto a p&uacute\;blic
 o general.\nSam Jacoby\n&nbsp\;Jacoby es arquitecto con Diploma de la&nbsp
 \;Architectural Association School of Architecture&nbsp\;y doctorado de la
  Technische Universit&auml\;t Berlin en historia y teor&iacute\;a de la ar
 quitectura. Actualmente es investigador en el Royal College of Art y Direc
 tor del MPhil en Arquitectura y Dise&ntilde\;o Urbano (Projective Cities) 
 en la Architectural Association School of Architecture. Anteriormente fue 
 profesor visitante en la Staatliche Akademie der Bildenden K&uuml\;nste St
 uttgart y ense&ntilde\;&oacute\; en la Bartlett School of Architecture\, U
 niversity College London\, University of Nottingham y Hochschule Anhalt.\n
 &nbsp\;\nJacoby is a chartered architect with a Diploma from the Architect
 ural Association School of Architecture and a doctorate from the Technisch
 e Universit&auml\;t Berlin in architectural history and theory. He is curr
 ently a researcher at the Royal College of Art and Director of the MPhil i
 n Architecture and Urban Design (Projective Cities) at the Architectural A
 ssociation School of Architecture. He was previously a visiting professor 
 at the Staatliche Akademie der Bildenden K&uuml\;nste Stuttgart and taught
  at the Bartlett School of Architecture\, University College London\, Univ
 ersity of Nottingham and Hochschule Anhalt.\nFecha_Jueves 18 de octubre de
  2018\, 13.30 h.\nLugar_Auditorio FCV\, campus Lo Contador. El Comendador 
 1936\, Providencia\nInvitan_\nPontificia Universidad Cat&oacute\;lica de C
 hile\nFAU Universidad de Chile\nEscuela de Arquitectura UC\nMagister en Pr
 oyecto Urbano UC\nArchiprix\n\nArquitectura UCContacto:&nbsp\;redesarq@uc.
 cl&nbsp\;| +56 2 2354 7747www.arquitectura.uc.cl\n\n https://fadeu-old.ura
 ntiacos.cl/agenda/evento/1707-conferencia-sam-jacoby-archiprix-mpur
DTSTART:20181018T163000Z
DTEND:20181018T173000Z
LOCATION:Auditorio Fernando Castillo Velasco. Edificio ARQ (El Comendador 1
 936\, Providencia\, Región Metropolitana\, Chile)
SUMMARY:Conferencia Sam Jacoby | ARCHIPRIX + MPUR
URL:https://fadeu-old.urantiacos.cl/agenda/evento/1707-conferencia-sam-jaco
 by-archiprix-mpur
END:VEVENT
END:VCALENDAR
