BEGIN:VCALENDAR
VERSION:2.0
PRODID:-//https://fadeu-old.urantiacos.cl///NONSGML kigkonsult.se iCalcreator 2.10.15//
METHOD:PUBLISH
BEGIN:VEVENT
UID:20260419T191937UTC-67193VVUOA@https://fadeu-old.urantiacos.cl/
DTSTAMP:20260419T191937Z
DESCRIPTION:El&nbsp\;wayfinding&nbsp\;se refiere a los sistemas de informac
 i&oacute\;n que gu&iacute\;an a las personas a trav&eacute\;s de ambientes
  f&iacute\;sicos y mejoran su comprensi&oacute\;n y experiencia de los ent
 ornos. Desde ah&iacute\;\, el comunicador gr&aacute\;fico y dise&ntilde\;a
 dor brasile&ntilde\;o\, Gustavo Soares\, hablar&aacute\; de su experiencia
  trabajando en el desarrollo de la informaci&oacute\;n visual de los &uacu
 te\;ltimos juegos panamericanos que se desarrollaron en Lima Per&uacute\; 
 en el marco del&nbsp\;Diplomado en Tipograf&iacute\;a&nbsp\;impartido por 
 Dise&ntilde\;o UC.\nGustavo Soares\, dise&ntilde\;ador brasile&ntilde\;o&n
 bsp\;especialista en tipograf&iacute\;a dise&ntilde\;o de informaci&oacute
 \;n. Ha colaborado en proyectos como el desarrollo de la imagen de la Copa
  Mundial de la FIFA 2014\, la tipograf&iacute\;a de R&iacute\;o 2016 y el 
 dise&ntilde\;o de informaci&oacute\;n de la ciudad de R&iacute\;o de Janei
 ro\, Walk Rio. Su &uacute\;ltima propuesta fue&nbsp\;el trabajo hecho como
  Wayfinding Lead para los Juegos Panamericanos de Lima este 2019.\n&nbsp\;
 \n https://fadeu-old.urantiacos.cl/agenda/evento/2025-charla-magistral-de-
 gustavo-soares-estrategias-tecnologia-y-cuchillo
DTSTART:20191018T220000Z
DTEND:20191018T230000Z
LOCATION:Salón Sergio Larraín\, Campus Lo Contador ()
SUMMARY:Charla Magistral de Gustavo Soares: Estrategias\, Tecnología y Cuch
 illo
URL:https://fadeu-old.urantiacos.cl/agenda/evento/2025-charla-magistral-de-
 gustavo-soares-estrategias-tecnologia-y-cuchillo
END:VEVENT
END:VCALENDAR
