BEGIN:VCALENDAR
VERSION:2.0
PRODID:-//https://fadeu-old.urantiacos.cl///NONSGML kigkonsult.se iCalcreator 2.10.15//
METHOD:PUBLISH
BEGIN:VEVENT
UID:20260423T085243UTC-1193lLbutZ@https://fadeu-old.urantiacos.cl/
DTSTAMP:20260423T085243Z
DESCRIPTION:DESCUBRIENDO EL PAISAJE CHILENO: DI&Aacute\;LOGOS desde los SEN
 TIDOSSonidos del Paisaje Chileno\nEl jueves 19 de octubre finaliza la vers
 i&oacute\;n 2017 del ciclo de di&aacute\;logos Descubriendo el Paisaje Chi
 leno\, con el m&uacute\;sico multiinstrumentalista y multicolaborador Cuti
  Aste\, y el arquitecto y Director de la Escuela de Arquitectura UC Emilio
  de la Cerda.\nDentro del panorama musical del Chile de los &uacute\;ltimo
 s 30 a&ntilde\;os\, Cuti Aste destaca como un artista transversal\, cuya t
 rayectoria abarca tanto proyectos de m&uacute\;sica popular\, como docta y
  experimental. Su manejo de diversos instrumentos y sus colaboraciones con
  destacados m&uacute\;sicos y creadores lo han convertido en un importante
  depositario del patrimonio sonoro chileno\, manejando un repertorio que a
 barca desde sonidos ind&iacute\;genas ancestrales hasta la electr&oacute\;
 nica de vanguardia.\nEn el di&aacute\;logo final del ciclo 2017\, el paisa
 je chileno ser&aacute\; &lsquo\;le&iacute\;do&rsquo\; desde sus sonidos\, 
 revel&aacute\;ndose en la conversaci&oacute\;n entre m&uacute\;sico e inve
 stigador\, que intentar&aacute\; establecer el origen de la necesidad de u
 n territorio y de su gente por expresar\, a trav&eacute\;s de su canto\, s
 u realidad.\nEntrada liberada\, cupos limitados.Link de inscripci&oacute\;
 n aqu&iacute\;.\nFecha_Jueves 19 de octubre\, 18:30 hrs.\nLugar_Auditorio 
 Fernando Castillo Velasco. El Comendador 1936\, 4&deg\; piso. Providencia.
 \nOrganiza_Corporaci&oacute\;n Cultura de Paisaje en Chile\nColabora_MAPA 
 UCArquitectura UCLOFscapesLa PopularQuesos Tambo Alto\n&nbsp\;\n https://f
 adeu-old.urantiacos.cl/agenda/evento/1327-conferencia-descubriendo-el-pais
 aje-chileno-cuti-aste
DTSTART:20171019T213000Z
DTEND:20171019T223000Z
LOCATION:Auditorio Fernando Castillo Velasco. Edificio ARQ (El Comendador 1
 936\, Providencia\, Región Metropolitana\, Chile)
SUMMARY:Conferencia Descubriendo el paisaje chileno: Cuti Aste
URL:https://fadeu-old.urantiacos.cl/agenda/evento/1327-conferencia-descubri
 endo-el-paisaje-chileno-cuti-aste
END:VEVENT
BEGIN:VEVENT
UID:20260423T085243UTC-1199h62wwu@https://fadeu-old.urantiacos.cl/
DTSTAMP:20260423T085243Z
DESCRIPTION:'Desaf&iacute\;os para una gesti&oacute\;n urbana integrada: Pe
 rspectiva y avances MINVU en intervenciones territoriales urbano habitacio
 nales'Clase Abierta de Eduardo Barr&oacute\;n\nEduardo Barr&oacute\;n pres
 entar&aacute\; 'Desaf&iacute\;os para una gesti&oacute\;n urbana integrada
 : Perspectiva y avances MINVU en intervenciones territoriales urbano habit
 acionales' en el contexto del curso 'Vivienda como Proyecto Urbano-Social'
  que dicta el profesor Jos&eacute\; di Girolamo en el Magister en Proyecto
  Urbano UC.\nEduardo Barr&oacute\;n es arquitecto de la Universidad de Chi
 le. Desde el a&ntilde\;o 2010 ha participado en el desarrollo\, coordinaci
 &oacute\;n y gesti&oacute\;n de Programas Integrales e Intervenciones Terr
 itoriales del Ministerio de Vivienda y Urbanismo (MINVU)\, como el Program
 a Quiero Mi Barrio y Regeneraci&oacute\;n de Conjuntos Habitacionales. Act
 ualmente se desempe&ntilde\;a como Jefe de Planificaci&oacute\;n y Control
  de Gesti&oacute\;n en la Divisi&oacute\;n de Finanzas del MINVU.\nFecha_J
 ueves 19 de Octubre de 2017. 15.30 hrs.\nLugar_Sala 36\, 2&deg\; piso Casa
  Lo Contador. El Comendador 1916\, Providencia\nInvitan_Mag&iacute\;ster e
 n Proyecto Urbano\n https://fadeu-old.urantiacos.cl/agenda/evento/1337-edu
 ardo-barron-en-clase-abierta-mpur
DTSTART:20171019T183000Z
DTEND:20171019T193000Z
LOCATION:Sala 36\, Casona Lo Contador (El Comendador 1916\, Providencia\, R
 egión Metropolitana\, Chile)
SUMMARY:Eduardo Barrón en Clase Abierta MPUR
URL:https://fadeu-old.urantiacos.cl/agenda/evento/1337-eduardo-barron-en-cl
 ase-abierta-mpur
END:VEVENT
END:VCALENDAR
