BEGIN:VCALENDAR
VERSION:2.0
PRODID:-//https://fadeu-old.urantiacos.cl///NONSGML kigkonsult.se iCalcreator 2.10.15//
METHOD:PUBLISH
BEGIN:VEVENT
UID:20260420T141748UTC-5129kOFaCG@https://fadeu-old.urantiacos.cl/
DTSTAMP:20260420T141748Z
DESCRIPTION:Conferencia 'The Trail Among The Clouds' |&nbsp\;Zdeněk Fr&aacu
 te\;nek\n&nbsp\;\n&nbsp\;\nConferencia del arquitecto Zdeněk Fr&aacute\;ne
 k\, Decano de la Facultad de Arquitectura T&eacute\;cnica Universidad de L
 iberec\, Rep&uacute\;blica Checa\, en el marco del taller de pregrado lide
 rado por Alejandro Soffia\,&nbsp\;con el aporte del programa Erasmus y de 
 la Comunidad Europea.\n&nbsp\;\n&nbsp\;\nZden&eacute\;k Fr&aacute\;nek\n&n
 bsp\;\n&nbsp\;\nArquitecto Checo (1961)\, Decano de la Facultad de Arquite
 ctura de la Universidad T&eacute\;cnica de Liberec. Titulado (1985) de la 
 Universidad T&eacute\;cnica de Vysok&eacute\;ho en Brno\, Rep&uacute\;blic
 a Checa. Forma su propia oficina (2005) donde ha desarrollado proyectos de
  diversas escalas y programas tanto dentro como fuera de su pa&iacute\;s. 
 Su obra a sido premiada y publicada en diversos medios internacionales.\n&
 nbsp\;\nSu multifac&eacute\;tica carrera lo ha llevado a desarrollar proye
 ctos de diversos tama&ntilde\;os y&nbsp\;programas\, con distintos leguaje
 s arquitect&oacute\;nicos seg&uacute\;n sean las caracter&iacute\;sticas d
 e&nbsp\;los encargos o las aspiraciones de sus mandantes. Sin embargo\, en
  todos ellos&nbsp\;prevalece el profesionalismo que logra componer una col
 ecci&oacute\;n de edificios que&nbsp\;plasman conceptos radicales y obras 
 muy elegantemente ejecutadas.\n&nbsp\;\nFecha_\nViernes 19 de Octubre de 2
 018\, 15.30 h\n&nbsp\;\n&nbsp\;\nLugar_Auditorio FCV\, campus Lo Contador.
  El Comendador 1936\, Providencia\n&nbsp\;\n&nbsp\;\nOrganizan_\nFacultad 
 de Arquitectura\, Dise&ntilde\;o y Estudios Urbanos UC\nEscuela de Arquite
 ctura UC\n&nbsp\;\n&nbsp\;\nLink_\nhttp://www.franekarchitects.cz/en/\n&nb
 sp\;\n&nbsp\;\n\n&nbsp\;\nNoticiasContacto:&nbsp\;redesarq@uc.cl&nbsp\;| +
 56 2 2354 7747www.arquitectura.uc.cl https://fadeu-old.urantiacos.cl/agend
 a/evento/1709-conferencia-zdenek-franek
DTSTART:20181019T183000Z
DTEND:20181019T193000Z
LOCATION:Auditorio Fernando Castillo Velasco. Edificio ARQ (El Comendador 1
 936\, Providencia\, Región Metropolitana\, Chile)
SUMMARY:Conferencia Zdeněk Fránek
URL:https://fadeu-old.urantiacos.cl/agenda/evento/1709-conferencia-zdenek-f
 ranek
END:VEVENT
BEGIN:VEVENT
UID:20260420T141748UTC-5137uhpU2V@https://fadeu-old.urantiacos.cl/
DTSTAMP:20260420T141748Z
DESCRIPTION:'The Anthroflorific: Design for a changing climate'&nbsp\;|&nbs
 p\;Rosetta S. Elkin&nbsp\;\nViernes 19 de Octubre\, 13.30 h\n&nbsp\;\nRose
 tta S. Elkin&nbsp\;dictar&aacute\; conferencia&nbsp\;en el contexto de Arc
 hiprix 2019 y&nbsp\;del ciclo 'Paisajes Proyectados' del&nbsp\;programa de
  Mag&iacute\;ster&nbsp\;en&nbsp\;Arquitectura del Paisaje UC&nbsp\;(MAPA).
  El evento se llevar&aacute\; a cabo el viernes 19 de octubre en el audito
 rio FCV&nbsp\;y ser&aacute\; abierto a p&uacute\;blico general.\n&nbsp\;\n
 &nbsp\;\n&iquest\;Cu&aacute\;l es el papel de las disciplinas ligadas al d
 ise&ntilde\;o en un mundo de cambios clim&aacute\;ticos en aumento? Esta c
 onferencia explorar&aacute\; c&oacute\;mo una variedad de escalas\, materi
 ales y organismos impl&iacute\;citos en el dise&ntilde\;o pueden contribui
 r a reformular los debates sobre el clima.\n&nbsp\;\nRosetta S. Elkin\n&nb
 sp\;Rosetta S. Elkin es Directora de RSE Landscape\, Profesora Asistente d
 e Arquitectura del Paisaje en Harvard GSD\, y Profesora Asociada en Harvar
 d Arnold Arboretum. Su investigaci&oacute\;n y ense&ntilde\;anza considera
 n los entornos de vida con un enfoque particular en la morfolog&iacute\;a\
 , el comportamiento y la inteligencia de las plantas. Est&aacute\; comprom
 etida con el dise&ntilde\;o como un medio para abordar el riesgo\, la inju
 sticia y la inestabilidad provocada por la desintegraci&oacute\;n del clim
 a planetario. Su pr&aacute\;ctica prioriza exposiciones p&uacute\;blicas\,
  publicaciones de acceso abierto e investigaci&oacute\;n en colaboraci&oac
 ute\;n para promover una agenda de dise&ntilde\;o m&aacute\;s reflexiva y 
 responsable. Actualmente\, ha recibido el Premio de Roma 2018 Garden Club 
 of America in landscape architecture.\n&nbsp\;\n&nbsp\;\nRosetta S. Elkin 
 is Principal of RSE Landscape\, Assistant Professor of Landscape Architect
 ure at Harvard GSD\, and Faculty Associate at Harvard Arnold Arboretum. He
 r research and teaching consider living environments with a particular foc
 us on plant morphology\, behavior\, and intelligence. She is committed to 
 design as a means to address the risk\, injustice\, and instability brough
 t about by planetary climate disintegration. Her practice prioritizes publ
 ic exhibitions\, open access publishing\, and collaborative research to pr
 omote a more thoughtful and accountable design agenda. She is currently th
 e recipient of the 2018 Garden Club of America Rome Prize in landscape arc
 hitecture.\n&nbsp\;\nFecha_Viernes 19 de octubre de 2018\, 13.30 h.\n&nbsp
 \;\nLugar_Auditorio FCV\, campus Lo Contador. El Comendador 1936\, Provide
 ncia\n&nbsp\;\nInvitan_\nPontificia Universidad Cat&oacute\;lica de Chile
 \nFAU Universidad de Chile\nEscuela de Arquitectura UC\nMagister en Arquit
 ectura del Paisaje UC\nArchiprix\n&nbsp\;\nInscripci&oacute\;n_\n&nbsp\;\n
 Actividad gratuita previa inscripci&oacute\;n en&nbsp\;magistermapa@uc.cl&
 nbsp\;(enviar nombre\, filiaci&oacute\;n institucional y tel&eacute\;fono 
 de contacto)\n&nbsp\;\n\n* La presentaci&oacute\;n se realizar&aacute\; en
  ingl&eacute\;s\, no contar&aacute\; con traducci&oacute\;n\n\n&nbsp\;\nAr
 quitectura UCContacto:&nbsp\;redesarq@uc.cl&nbsp\;| +56 2 2354 7747www.arq
 uitectura.uc.cl https://fadeu-old.urantiacos.cl/agenda/evento/1708-confere
 ncia-rosetta-elkin-archiprix-mapa
DTSTART:20181019T163000Z
DTEND:20181019T173000Z
LOCATION:Auditorio Fernando Castillo Velasco. Edificio ARQ (El Comendador 1
 936\, Providencia\, Región Metropolitana\, Chile)
SUMMARY:Conferencia Rosetta Elkin | ARCHIPRIX + MAPA
URL:https://fadeu-old.urantiacos.cl/agenda/evento/1708-conferencia-rosetta-
 elkin-archiprix-mapa
END:VEVENT
END:VCALENDAR
