BEGIN:VCALENDAR
VERSION:2.0
PRODID:-//https://fadeu-old.urantiacos.cl///NONSGML kigkonsult.se iCalcreator 2.10.15//
METHOD:PUBLISH
BEGIN:VEVENT
UID:20260423T085300UTC-4277ucHWfW@https://fadeu-old.urantiacos.cl/
DTSTAMP:20260423T085300Z
DESCRIPTION:Conferencia Miguel Gonz&aacute\;lez MerloContextos / Recursos /
  Respuestas Arquitect&oacute\;nicas\nPresentaci&oacute\;n del estudio Grup
 o Culata Jov&aacute\;i\, por el Arq. Miky Gonz&aacute\;lez Merlo\, que enc
 abeza dicha oficina en Asunci&oacute\;n Paraguay.\nLa conferencia\, que se
  realizar&aacute\; en el Sal&oacute\;n Sergio Larra&iacute\;n abarcar&aacu
 te\; 3 ejes tem&aacute\;ticos de la producci&oacute\;n de esta joven ofici
 na guaran&iacute\;.Aproximaciones al contexto local en el cual ejerce prof
 esionalmente la oficina\, generalidades sociales\, pol&iacute\;ticas y eco
 n&oacute\;micas del territorio desde la mirada del estudio.Una mirada acer
 ca del manejo de los recursos naturales y humanos y su relaci&oacute\;n co
 n las respuestas arquitect&oacute\;nicas. Actitudes y gestos arquitect&oac
 ute\;nicos.\nLa conferencia contempla la presentaci&oacute\;n de las sigui
 entes obras: Vivienda WF\, Casa ilona\, Casa AirBnb\, Casa Los Mangos\, Tr
 es Alas\, Edificio Carpinelli\, Casa Colgada\, Edificio Leo I.\nFecha_Lune
 s 23 de octubre de 2017. 13.30 hrs\nLugar_Sal&oacute\;n Sergio Larra&iacut
 e\;n\, Campus Lo Contador. El Comendador 1936\, Providencia\nInvitan_Arqui
 tectura UC\n https://fadeu-old.urantiacos.cl/agenda/evento/1329-conferenci
 a-miguel-angel-gonzalez-merlo
DTSTART:20171023T163000Z
DTEND:20171023T173000Z
LOCATION:Salón Sergio Larraín\, Campus Lo Contador ()
SUMMARY:Conferencia Miguel Ángel González Merlo
URL:https://fadeu-old.urantiacos.cl/agenda/evento/1329-conferencia-miguel-a
 ngel-gonzalez-merlo
END:VEVENT
END:VCALENDAR
